Back to Multiple platform build/check report for BioC 3.10 |
|
This page was generated on 2020-04-15 12:27:15 -0400 (Wed, 15 Apr 2020).
Package 1398/1823 | Hostname | OS / Arch | INSTALL | BUILD | CHECK | BUILD BIN | ||||||
readat 1.12.0 Richard Cotton
| malbec1 | Linux (Ubuntu 18.04.4 LTS) / x86_64 | ERROR | ERROR | skipped | |||||||
tokay1 | Windows Server 2012 R2 Standard / x64 | [ ERROR ] | ERROR | skipped | skipped | |||||||
merida1 | OS X 10.11.6 El Capitan / x86_64 | ERROR | ERROR | skipped | skipped |
Package: readat |
Version: 1.12.0 |
Command: C:\cygwin\bin\curl.exe -O https://malbec1.bioconductor.org/BBS/3.10/bioc/src/contrib/readat_1.12.0.tar.gz && rm -rf readat.buildbin-libdir && mkdir readat.buildbin-libdir && C:\Users\biocbuild\bbs-3.10-bioc\R\bin\R.exe CMD INSTALL --merge-multiarch --build --library=readat.buildbin-libdir readat_1.12.0.tar.gz && C:\Users\biocbuild\bbs-3.10-bioc\R\bin\R.exe CMD INSTALL readat_1.12.0.zip && rm readat_1.12.0.tar.gz readat_1.12.0.zip |
StartedAt: 2020-04-14 20:42:13 -0400 (Tue, 14 Apr 2020) |
EndedAt: 2020-04-14 20:42:14 -0400 (Tue, 14 Apr 2020) |
EllapsedTime: 1.0 seconds |
RetCode: 1 |
Status: ERROR |
############################################################################## ############################################################################## ### ### Running command: ### ### C:\cygwin\bin\curl.exe -O https://malbec1.bioconductor.org/BBS/3.10/bioc/src/contrib/readat_1.12.0.tar.gz && rm -rf readat.buildbin-libdir && mkdir readat.buildbin-libdir && C:\Users\biocbuild\bbs-3.10-bioc\R\bin\R.exe CMD INSTALL --merge-multiarch --build --library=readat.buildbin-libdir readat_1.12.0.tar.gz && C:\Users\biocbuild\bbs-3.10-bioc\R\bin\R.exe CMD INSTALL readat_1.12.0.zip && rm readat_1.12.0.tar.gz readat_1.12.0.zip ### ############################################################################## ############################################################################## % Total % Received % Xferd Average Speed Time Time Time Current Dload Upload Total Spent Left Speed 0 0 0 0 0 0 0 0 --:--:-- --:--:-- --:--:-- 0 100 1256k 100 1256k 0 0 6515k 0 --:--:-- --:--:-- --:--:-- 6646k install for i386 ERROR: dependency 'pathological' is not available for package 'readat' * removing 'C:/Users/biocbuild/bbs-3.10-bioc/meat/readat.buildbin-libdir/readat'