Back to Multiple platform build/check report for BioC 3.10 |
|
This page was generated on 2020-04-15 12:29:08 -0400 (Wed, 15 Apr 2020).
Package 1416/1823 | Hostname | OS / Arch | INSTALL | BUILD | CHECK | BUILD BIN | ||||||
restfulSE 1.8.0 Shweta Gopaulakrishnan
| malbec1 | Linux (Ubuntu 18.04.4 LTS) / x86_64 | OK | OK | OK | ![]() | ||||||
tokay1 | Windows Server 2012 R2 Standard / x64 | [ OK ] | OK | OK | OK | ![]() | ||||||
merida1 | OS X 10.11.6 El Capitan / x86_64 | OK | OK | OK | OK | ![]() |
Package: restfulSE |
Version: 1.8.0 |
Command: C:\cygwin\bin\curl.exe -O https://malbec1.bioconductor.org/BBS/3.10/bioc/src/contrib/restfulSE_1.8.0.tar.gz && rm -rf restfulSE.buildbin-libdir && mkdir restfulSE.buildbin-libdir && C:\Users\biocbuild\bbs-3.10-bioc\R\bin\R.exe CMD INSTALL --merge-multiarch --build --library=restfulSE.buildbin-libdir restfulSE_1.8.0.tar.gz && C:\Users\biocbuild\bbs-3.10-bioc\R\bin\R.exe CMD INSTALL restfulSE_1.8.0.zip && rm restfulSE_1.8.0.tar.gz restfulSE_1.8.0.zip |
StartedAt: 2020-04-14 19:36:24 -0400 (Tue, 14 Apr 2020) |
EndedAt: 2020-04-14 19:37:18 -0400 (Tue, 14 Apr 2020) |
EllapsedTime: 53.7 seconds |
RetCode: 0 |
Status: OK |
############################################################################## ############################################################################## ### ### Running command: ### ### C:\cygwin\bin\curl.exe -O https://malbec1.bioconductor.org/BBS/3.10/bioc/src/contrib/restfulSE_1.8.0.tar.gz && rm -rf restfulSE.buildbin-libdir && mkdir restfulSE.buildbin-libdir && C:\Users\biocbuild\bbs-3.10-bioc\R\bin\R.exe CMD INSTALL --merge-multiarch --build --library=restfulSE.buildbin-libdir restfulSE_1.8.0.tar.gz && C:\Users\biocbuild\bbs-3.10-bioc\R\bin\R.exe CMD INSTALL restfulSE_1.8.0.zip && rm restfulSE_1.8.0.tar.gz restfulSE_1.8.0.zip ### ############################################################################## ############################################################################## % Total % Received % Xferd Average Speed Time Time Time Current Dload Upload Total Spent Left Speed 0 0 0 0 0 0 0 0 --:--:-- --:--:-- --:--:-- 0 100 254k 100 254k 0 0 5332k 0 --:--:-- --:--:-- --:--:-- 5794k install for i386 Warning in untar2(tarfile, files, list, exdir, restore_times) : failed to copy 'restfulSE/vignettes/restfulSE.Rmd' to 'restfulSE/README.md' * installing *source* package 'restfulSE' ... ** using staged installation ** R ** byte-compile and prepare package for lazy loading ** help *** installing help indices converting help for package 'restfulSE' finding HTML links ... done BQ3_Array-class html BQ3_Array html BQ3_ArraySeed-class html BQ3_Matrix-class html BQ3_Source-class html BQ3_Source html BQM_Array-class html BQM_Array html BQM_ArraySeed-class html BQM_Matrix-class html BQM_Source-class html BQM_Source html BQSummarizedExperiment html RESTfulSummarizedExperiment-class html RESTfulSummarizedExperiment html assay-BQSummarizedExperiment-missing-method html assayNames-BQSummarizedExperiment-method html assays-RESTfulSummarizedExperiment-method html basic_clinvars html bqConn html cgcConn html dim-BQ3_ArraySeed-method html dim-BQM_ArraySeed-method html dim-RESTfulSummarizedExperiment-method html dimnames-BQ3_ArraySeed-method html dimnames-BQM_ArraySeed-method html goPatt html gtexTiss html isbCgcDatasets html isbCgcTables html pancan_SE html se100k html seByTumor html seByTumor_2016 html tasicCortex html ** building package indices ** installing vignettes ** testing if installed package can be loaded from temporary location ** testing if installed package can be loaded from final location ** testing if installed package keeps a record of temporary installation path install for x64 Warning in untar2(tarfile, files, list, exdir, restore_times) : failed to copy 'restfulSE/vignettes/restfulSE.Rmd' to 'restfulSE/README.md' * installing *source* package 'restfulSE' ... ** testing if installed package can be loaded * MD5 sums packaged installation of 'restfulSE' as restfulSE_1.8.0.zip * DONE (restfulSE) * installing to library 'C:/Users/biocbuild/bbs-3.10-bioc/R/library' package 'restfulSE' successfully unpacked and MD5 sums checked