Back to Multiple platform build/check report for BioC 3.10 |
|
This page was generated on 2020-04-15 12:24:14 -0400 (Wed, 15 Apr 2020).
Package 1427/1823 | Hostname | OS / Arch | INSTALL | BUILD | CHECK | BUILD BIN | ||||||
rgsepd 1.18.0 Karl Stamm
| malbec1 | Linux (Ubuntu 18.04.4 LTS) / x86_64 | OK | OK | OK | ![]() | ||||||
tokay1 | Windows Server 2012 R2 Standard / x64 | OK | OK | OK | [ OK ] | ![]() | ||||||
merida1 | OS X 10.11.6 El Capitan / x86_64 | OK | OK | OK | OK | ![]() |
Package: rgsepd |
Version: 1.18.0 |
Command: rm -rf rgsepd.buildbin-libdir && mkdir rgsepd.buildbin-libdir && C:\Users\biocbuild\bbs-3.10-bioc\R\bin\R.exe CMD INSTALL --merge-multiarch --build --library=rgsepd.buildbin-libdir rgsepd_1.18.0.tar.gz |
StartedAt: 2020-04-15 09:32:23 -0400 (Wed, 15 Apr 2020) |
EndedAt: 2020-04-15 09:33:55 -0400 (Wed, 15 Apr 2020) |
EllapsedTime: 91.8 seconds |
RetCode: 0 |
Status: OK |
PackageFile: rgsepd_1.18.0.zip |
PackageFileSize: 1.291 MiB |
############################################################################## ############################################################################## ### ### Running command: ### ### rm -rf rgsepd.buildbin-libdir && mkdir rgsepd.buildbin-libdir && C:\Users\biocbuild\bbs-3.10-bioc\R\bin\R.exe CMD INSTALL --merge-multiarch --build --library=rgsepd.buildbin-libdir rgsepd_1.18.0.tar.gz ### ############################################################################## ############################################################################## install for i386 * installing *source* package 'rgsepd' ... ** using staged installation ** R ** data ** inst ** byte-compile and prepare package for lazy loading ** help *** installing help indices converting help for package 'rgsepd' finding HTML links ... done DisplayName html ExtractProjection html GSEPD_ChangeConditions html GSEPD_ChangeOutput html GSEPD_DEGHeatmap html GSEPD_Export_DESeq html GSEPD_Heatmap html GSEPD_INIT html GSEPD_PCA_Plot html GSEPD_PCA_Spec html GSEPD_Process html GSEPD_ProcessAll html GSEPD_PullDEG html IlluminaBodymap html IlluminaBodymapMeta html Name_to_RefSeq html rgsepd-package html ** building package indices ** installing vignettes ** testing if installed package can be loaded from temporary location 'select()' returned 1:1 mapping between keys and columns 'select()' returned 1:1 mapping between keys and columns ** testing if installed package can be loaded from final location 'select()' returned 1:1 mapping between keys and columns 'select()' returned 1:1 mapping between keys and columns ** testing if installed package keeps a record of temporary installation path install for x64 * installing *source* package 'rgsepd' ... ** testing if installed package can be loaded 'select()' returned 1:1 mapping between keys and columns 'select()' returned 1:1 mapping between keys and columns * MD5 sums packaged installation of 'rgsepd' as rgsepd_1.18.0.zip * DONE (rgsepd)