Back to Multiple platform build/check report for BioC 3.10 |
|
This page was generated on 2020-04-15 12:49:13 -0400 (Wed, 15 Apr 2020).
Package 1521/1823 | Hostname | OS / Arch | INSTALL | BUILD | CHECK | BUILD BIN | ||||||
scAlign 1.2.0 Nelson Johansen
| malbec1 | Linux (Ubuntu 18.04.4 LTS) / x86_64 | OK | OK | OK | |||||||
tokay1 | Windows Server 2012 R2 Standard / x64 | ERROR | ERROR | skipped | skipped | |||||||
merida1 | OS X 10.11.6 El Capitan / x86_64 | ERROR | [ ERROR ] | skipped | skipped |
Package: scAlign |
Version: 1.2.0 |
Command: /Library/Frameworks/R.framework/Versions/Current/Resources/bin/R CMD build --keep-empty-dirs --no-resave-data scAlign |
StartedAt: 2020-04-14 23:32:47 -0400 (Tue, 14 Apr 2020) |
EndedAt: 2020-04-14 23:33:00 -0400 (Tue, 14 Apr 2020) |
EllapsedTime: 13.4 seconds |
RetCode: 1 |
Status: ERROR |
PackageFile: None |
PackageFileSize: NA |
############################################################################## ############################################################################## ### ### Running command: ### ### /Library/Frameworks/R.framework/Versions/Current/Resources/bin/R CMD build --keep-empty-dirs --no-resave-data scAlign ### ############################################################################## ############################################################################## * checking for file ‘scAlign/DESCRIPTION’ ... OK * preparing ‘scAlign’: * checking DESCRIPTION meta-information ... OK * installing the package to build vignettes ----------------------------------- * installing *source* package ‘scAlign’ ... ** using staged installation ** R ** data ** byte-compile and prepare package for lazy loading Error: package or namespace load failed for ‘tensorflow’: .onLoad failed in loadNamespace() for 'tensorflow', details: call: py_module_import(module, convert = convert) error: ModuleNotFoundError: No module named 'tensorflow' Error: package ‘tensorflow’ could not be loaded Execution halted ERROR: lazy loading failed for package ‘scAlign’ * removing ‘/private/tmp/RtmplfJNa7/Rinst37bd4ba23f27/scAlign’ ----------------------------------- ERROR: package installation failed