Back to Multiple platform build/check report for BioC 3.10 |
|
This page was generated on 2020-04-15 12:32:54 -0400 (Wed, 15 Apr 2020).
Package 1525/1823 | Hostname | OS / Arch | INSTALL | BUILD | CHECK | BUILD BIN | ||||||
scBFA 1.0.0 Ruoxin Li
| malbec1 | Linux (Ubuntu 18.04.4 LTS) / x86_64 | OK | OK | OK | ![]() | ||||||
tokay1 | Windows Server 2012 R2 Standard / x64 | OK | OK | OK | [ OK ] | ![]() | ||||||
merida1 | OS X 10.11.6 El Capitan / x86_64 | OK | OK | OK | OK | ![]() |
Package: scBFA |
Version: 1.0.0 |
Command: rm -rf scBFA.buildbin-libdir && mkdir scBFA.buildbin-libdir && C:\Users\biocbuild\bbs-3.10-bioc\R\bin\R.exe CMD INSTALL --merge-multiarch --build --library=scBFA.buildbin-libdir scBFA_1.0.0.tar.gz |
StartedAt: 2020-04-15 09:37:58 -0400 (Wed, 15 Apr 2020) |
EndedAt: 2020-04-15 09:38:51 -0400 (Wed, 15 Apr 2020) |
EllapsedTime: 52.8 seconds |
RetCode: 0 |
Status: OK |
PackageFile: scBFA_1.0.0.zip |
PackageFileSize: 1013 KiB |
############################################################################## ############################################################################## ### ### Running command: ### ### rm -rf scBFA.buildbin-libdir && mkdir scBFA.buildbin-libdir && C:\Users\biocbuild\bbs-3.10-bioc\R\bin\R.exe CMD INSTALL --merge-multiarch --build --library=scBFA.buildbin-libdir scBFA_1.0.0.tar.gz ### ############################################################################## ############################################################################## install for i386 * installing *source* package 'scBFA' ... ** using staged installation ** R ** data *** moving datasets to lazyload DB ** inst ** byte-compile and prepare package for lazy loading ** help *** installing help indices converting help for package 'scBFA' finding HTML links ... done BinaryPCA html InitBinaryFA html OptimBFA html celltype html celltype_toy html diagnose html disperPlot html exprdata html getGeneExpr html getLoading html getScore html gradient html neg_loglikelihood html restore html scNoiseSim html scbfa html zinb_toy html ** building package indices ** installing vignettes ** testing if installed package can be loaded from temporary location ** testing if installed package can be loaded from final location ** testing if installed package keeps a record of temporary installation path install for x64 * installing *source* package 'scBFA' ... ** testing if installed package can be loaded * MD5 sums packaged installation of 'scBFA' as scBFA_1.0.0.zip * DONE (scBFA)