Back to Multiple platform build/check report for BioC 3.10 |
|
This page was generated on 2020-04-15 12:32:49 -0400 (Wed, 15 Apr 2020).
Package 1533/1823 | Hostname | OS / Arch | INSTALL | BUILD | CHECK | BUILD BIN | ||||||
scGPS 1.0.0 Quan Nguyen
| malbec1 | Linux (Ubuntu 18.04.4 LTS) / x86_64 | OK | OK | OK | |||||||
tokay1 | Windows Server 2012 R2 Standard / x64 | [ OK ] | OK | OK | OK | |||||||
merida1 | OS X 10.11.6 El Capitan / x86_64 | OK | OK | OK | OK |
Package: scGPS |
Version: 1.0.0 |
Command: C:\cygwin\bin\curl.exe -O https://malbec1.bioconductor.org/BBS/3.10/bioc/src/contrib/scGPS_1.0.0.tar.gz && rm -rf scGPS.buildbin-libdir && mkdir scGPS.buildbin-libdir && C:\Users\biocbuild\bbs-3.10-bioc\R\bin\R.exe CMD INSTALL --merge-multiarch --build --library=scGPS.buildbin-libdir scGPS_1.0.0.tar.gz && C:\Users\biocbuild\bbs-3.10-bioc\R\bin\R.exe CMD INSTALL scGPS_1.0.0.zip && rm scGPS_1.0.0.tar.gz scGPS_1.0.0.zip |
StartedAt: 2020-04-14 19:45:00 -0400 (Tue, 14 Apr 2020) |
EndedAt: 2020-04-14 19:46:52 -0400 (Tue, 14 Apr 2020) |
EllapsedTime: 111.3 seconds |
RetCode: 0 |
Status: OK |
############################################################################## ############################################################################## ### ### Running command: ### ### C:\cygwin\bin\curl.exe -O https://malbec1.bioconductor.org/BBS/3.10/bioc/src/contrib/scGPS_1.0.0.tar.gz && rm -rf scGPS.buildbin-libdir && mkdir scGPS.buildbin-libdir && C:\Users\biocbuild\bbs-3.10-bioc\R\bin\R.exe CMD INSTALL --merge-multiarch --build --library=scGPS.buildbin-libdir scGPS_1.0.0.tar.gz && C:\Users\biocbuild\bbs-3.10-bioc\R\bin\R.exe CMD INSTALL scGPS_1.0.0.zip && rm scGPS_1.0.0.tar.gz scGPS_1.0.0.zip ### ############################################################################## ############################################################################## % Total % Received % Xferd Average Speed Time Time Time Current Dload Upload Total Spent Left Speed 0 0 0 0 0 0 0 0 --:--:-- --:--:-- --:--:-- 0 100 1817k 100 1817k 0 0 28.7M 0 --:--:-- --:--:-- --:--:-- 30.6M install for i386 * installing *source* package 'scGPS' ... ** using staged installation ** libs C:/Rtools/mingw_32/bin/g++ -std=gnu++11 -I"C:/Users/BIOCBU~1/BBS-3~1.10-/R/include" -DNDEBUG -I"C:/Users/biocbuild/bbs-3.10-bioc/R/library/Rcpp/include" -I"C:/Users/biocbuild/bbs-3.10-bioc/R/library/RcppArmadillo/include" -I"C:/Users/biocbuild/bbs-3.10-bioc/R/library/RcppParallel/include" -I"C:/extsoft/include" -O2 -Wall -mtune=core2 -c RcppExports.cpp -o RcppExports.o C:/Rtools/mingw_32/bin/g++ -std=gnu++11 -I"C:/Users/BIOCBU~1/BBS-3~1.10-/R/include" -DNDEBUG -I"C:/Users/biocbuild/bbs-3.10-bioc/R/library/Rcpp/include" -I"C:/Users/biocbuild/bbs-3.10-bioc/R/library/RcppArmadillo/include" -I"C:/Users/biocbuild/bbs-3.10-bioc/R/library/RcppParallel/include" -I"C:/extsoft/include" -O2 -Wall -mtune=core2 -c dist_mat_cpp.cpp -o dist_mat_cpp.o C:/Rtools/mingw_32/bin/g++ -std=gnu++11 -I"C:/Users/BIOCBU~1/BBS-3~1.10-/R/include" -DNDEBUG -I"C:/Users/biocbuild/bbs-3.10-bioc/R/library/Rcpp/include" -I"C:/Users/biocbuild/bbs-3.10-bioc/R/library/RcppArmadillo/include" -I"C:/Users/biocbuild/bbs-3.10-bioc/R/library/RcppParallel/include" -I"C:/extsoft/include" -O2 -Wall -mtune=core2 -c dist_parallel_cpp.cpp -o dist_parallel_cpp.o C:/Rtools/mingw_32/bin/g++ -std=gnu++11 -I"C:/Users/BIOCBU~1/BBS-3~1.10-/R/include" -DNDEBUG -I"C:/Users/biocbuild/bbs-3.10-bioc/R/library/Rcpp/include" -I"C:/Users/biocbuild/bbs-3.10-bioc/R/library/RcppArmadillo/include" -I"C:/Users/biocbuild/bbs-3.10-bioc/R/library/RcppParallel/include" -I"C:/extsoft/include" -O2 -Wall -mtune=core2 -c utils_rcpp.cpp -o utils_rcpp.o C:/Rtools/mingw_32/bin/g++ -std=gnu++11 -shared -s -static-libgcc -o scGPS.dll tmp.def RcppExports.o dist_mat_cpp.o dist_parallel_cpp.o utils_rcpp.o -LC:/Users/BIOCBU~1/BBS-3~1.10-/R/bin/i386 -lRlapack -LC:/Users/BIOCBU~1/BBS-3~1.10-/R/bin/i386 -lRblas -lgfortran -lm -lquadmath -LC:/extsoft/lib/i386 -LC:/extsoft/lib -LC:/Users/BIOCBU~1/BBS-3~1.10-/R/bin/i386 -lR installing to C:/Users/biocbuild/bbs-3.10-bioc/meat/scGPS.buildbin-libdir/00LOCK-scGPS/00new/scGPS/libs/i386 ** R ** data *** moving datasets to lazyload DB ** byte-compile and prepare package for lazy loading ** help *** installing help indices converting help for package 'scGPS' finding HTML links ... done CORE_bagging html finding level-2 HTML links ... done CORE_clustering html CORE_subcluster html PCA html PrinComp_cpp html add_import html annotate_clusters html bootstrap_parallel html bootstrap_prediction html calcDist html calcDistArma html clustering html clustering_bagging html day_2_cardio_cell_sample html day_5_cardio_cell_sample html distvec html find_markers html find_optimal_stability html find_stability html mean_cpp html new_scGPS_object html new_summarized_scGPS_object html plot_CORE html plot_optimal_CORE html plot_reduced html predicting html rand_index html rcpp_Eucl_distance_NotPar html rcpp_parallel_distance html reformat_LASSO html sub_clustering html subset_cpp html summary_accuracy html summary_deviance html summary_prediction_lasso html summary_prediction_lda html tSNE html top_var html tp_cpp html training html training_gene_sample html var_cpp html *** copying figures ** building package indices ** installing vignettes ** testing if installed package can be loaded from temporary location ** testing if installed package can be loaded from final location ** testing if installed package keeps a record of temporary installation path install for x64 * installing *source* package 'scGPS' ... ** libs C:/Rtools/mingw_64/bin/g++ -std=gnu++11 -I"C:/Users/BIOCBU~1/BBS-3~1.10-/R/include" -DNDEBUG -I"C:/Users/biocbuild/bbs-3.10-bioc/R/library/Rcpp/include" -I"C:/Users/biocbuild/bbs-3.10-bioc/R/library/RcppArmadillo/include" -I"C:/Users/biocbuild/bbs-3.10-bioc/R/library/RcppParallel/include" -I"C:/extsoft/include" -O2 -Wall -mtune=core2 -c RcppExports.cpp -o RcppExports.o C:/Rtools/mingw_64/bin/g++ -std=gnu++11 -I"C:/Users/BIOCBU~1/BBS-3~1.10-/R/include" -DNDEBUG -I"C:/Users/biocbuild/bbs-3.10-bioc/R/library/Rcpp/include" -I"C:/Users/biocbuild/bbs-3.10-bioc/R/library/RcppArmadillo/include" -I"C:/Users/biocbuild/bbs-3.10-bioc/R/library/RcppParallel/include" -I"C:/extsoft/include" -O2 -Wall -mtune=core2 -c dist_mat_cpp.cpp -o dist_mat_cpp.o C:/Rtools/mingw_64/bin/g++ -std=gnu++11 -I"C:/Users/BIOCBU~1/BBS-3~1.10-/R/include" -DNDEBUG -I"C:/Users/biocbuild/bbs-3.10-bioc/R/library/Rcpp/include" -I"C:/Users/biocbuild/bbs-3.10-bioc/R/library/RcppArmadillo/include" -I"C:/Users/biocbuild/bbs-3.10-bioc/R/library/RcppParallel/include" -I"C:/extsoft/include" -O2 -Wall -mtune=core2 -c dist_parallel_cpp.cpp -o dist_parallel_cpp.o C:/Rtools/mingw_64/bin/g++ -std=gnu++11 -I"C:/Users/BIOCBU~1/BBS-3~1.10-/R/include" -DNDEBUG -I"C:/Users/biocbuild/bbs-3.10-bioc/R/library/Rcpp/include" -I"C:/Users/biocbuild/bbs-3.10-bioc/R/library/RcppArmadillo/include" -I"C:/Users/biocbuild/bbs-3.10-bioc/R/library/RcppParallel/include" -I"C:/extsoft/include" -O2 -Wall -mtune=core2 -c utils_rcpp.cpp -o utils_rcpp.o C:/Rtools/mingw_64/bin/g++ -std=gnu++11 -shared -s -static-libgcc -o scGPS.dll tmp.def RcppExports.o dist_mat_cpp.o dist_parallel_cpp.o utils_rcpp.o -LC:/Users/BIOCBU~1/BBS-3~1.10-/R/bin/x64 -lRlapack -LC:/Users/BIOCBU~1/BBS-3~1.10-/R/bin/x64 -lRblas -lgfortran -lm -lquadmath -LC:/extsoft/lib/x64 -LC:/extsoft/lib -LC:/Users/BIOCBU~1/BBS-3~1.10-/R/bin/x64 -lR installing to C:/Users/biocbuild/bbs-3.10-bioc/meat/scGPS.buildbin-libdir/scGPS/libs/x64 ** testing if installed package can be loaded * MD5 sums packaged installation of 'scGPS' as scGPS_1.0.0.zip * DONE (scGPS) * installing to library 'C:/Users/biocbuild/bbs-3.10-bioc/R/library' package 'scGPS' successfully unpacked and MD5 sums checked