Back to Multiple platform build/check report for BioC 3.10 |
|
This page was generated on 2020-04-15 12:32:23 -0400 (Wed, 15 Apr 2020).
Package 1537/1823 | Hostname | OS / Arch | INSTALL | BUILD | CHECK | BUILD BIN | ||||||
scMerge 1.2.0 Kevin Wang
| malbec1 | Linux (Ubuntu 18.04.4 LTS) / x86_64 | OK | OK | OK | ![]() | ||||||
tokay1 | Windows Server 2012 R2 Standard / x64 | [ OK ] | OK | OK | OK | ![]() | ||||||
merida1 | OS X 10.11.6 El Capitan / x86_64 | OK | OK | OK | OK | ![]() |
Package: scMerge |
Version: 1.2.0 |
Command: C:\cygwin\bin\curl.exe -O https://malbec1.bioconductor.org/BBS/3.10/bioc/src/contrib/scMerge_1.2.0.tar.gz && rm -rf scMerge.buildbin-libdir && mkdir scMerge.buildbin-libdir && C:\Users\biocbuild\bbs-3.10-bioc\R\bin\R.exe CMD INSTALL --merge-multiarch --build --library=scMerge.buildbin-libdir scMerge_1.2.0.tar.gz && C:\Users\biocbuild\bbs-3.10-bioc\R\bin\R.exe CMD INSTALL scMerge_1.2.0.zip && rm scMerge_1.2.0.tar.gz scMerge_1.2.0.zip |
StartedAt: 2020-04-14 19:43:43 -0400 (Tue, 14 Apr 2020) |
EndedAt: 2020-04-14 19:45:28 -0400 (Tue, 14 Apr 2020) |
EllapsedTime: 104.2 seconds |
RetCode: 0 |
Status: OK |
############################################################################## ############################################################################## ### ### Running command: ### ### C:\cygwin\bin\curl.exe -O https://malbec1.bioconductor.org/BBS/3.10/bioc/src/contrib/scMerge_1.2.0.tar.gz && rm -rf scMerge.buildbin-libdir && mkdir scMerge.buildbin-libdir && C:\Users\biocbuild\bbs-3.10-bioc\R\bin\R.exe CMD INSTALL --merge-multiarch --build --library=scMerge.buildbin-libdir scMerge_1.2.0.tar.gz && C:\Users\biocbuild\bbs-3.10-bioc\R\bin\R.exe CMD INSTALL scMerge_1.2.0.zip && rm scMerge_1.2.0.tar.gz scMerge_1.2.0.zip ### ############################################################################## ############################################################################## % Total % Received % Xferd Average Speed Time Time Time Current Dload Upload Total Spent Left Speed 0 0 0 0 0 0 0 0 --:--:-- --:--:-- --:--:-- 0 100 3383k 100 3383k 0 0 35.2M 0 --:--:-- --:--:-- --:--:-- 37.1M install for i386 * installing *source* package 'scMerge' ... ** using staged installation ** libs C:/Rtools/mingw_32/bin/g++ -std=gnu++11 -I"C:/Users/BIOCBU~1/BBS-3~1.10-/R/include" -DNDEBUG -I"C:/Users/biocbuild/bbs-3.10-bioc/R/library/Rcpp/include" -I"C:/Users/biocbuild/bbs-3.10-bioc/R/library/RcppEigen/include" -I"C:/Users/biocbuild/bbs-3.10-bioc/R/library/testthat/include" -I"C:/extsoft/include" -O2 -Wall -mtune=core2 -c RcppExports.cpp -o RcppExports.o C:/Rtools/mingw_32/bin/g++ -std=gnu++11 -I"C:/Users/BIOCBU~1/BBS-3~1.10-/R/include" -DNDEBUG -I"C:/Users/biocbuild/bbs-3.10-bioc/R/library/Rcpp/include" -I"C:/Users/biocbuild/bbs-3.10-bioc/R/library/RcppEigen/include" -I"C:/Users/biocbuild/bbs-3.10-bioc/R/library/testthat/include" -I"C:/extsoft/include" -O2 -Wall -mtune=core2 -c rcppFastMatrixOp.cpp -o rcppFastMatrixOp.o C:/Rtools/mingw_32/bin/g++ -std=gnu++11 -I"C:/Users/BIOCBU~1/BBS-3~1.10-/R/include" -DNDEBUG -I"C:/Users/biocbuild/bbs-3.10-bioc/R/library/Rcpp/include" -I"C:/Users/biocbuild/bbs-3.10-bioc/R/library/RcppEigen/include" -I"C:/Users/biocbuild/bbs-3.10-bioc/R/library/testthat/include" -I"C:/extsoft/include" -O2 -Wall -mtune=core2 -c test-runner.cpp -o test-runner.o In file included from C:/Users/biocbuild/bbs-3.10-bioc/R/library/testthat/include/testthat.h:1:0, from test-runner.cpp:7: C:/Users/biocbuild/bbs-3.10-bioc/R/library/testthat/include/testthat/testthat.h: In function 'std::ostream& Catch::cout()': C:/Users/biocbuild/bbs-3.10-bioc/R/library/testthat/include/testthat/testthat.h:140:1: warning: visibility attribute not supported in this configuration; ignored [-Wattributes] } ^ C:/Users/biocbuild/bbs-3.10-bioc/R/library/testthat/include/testthat/testthat.h: In function 'std::ostream& Catch::cerr()': C:/Users/biocbuild/bbs-3.10-bioc/R/library/testthat/include/testthat/testthat.h:147:1: warning: visibility attribute not supported in this configuration; ignored [-Wattributes] } ^ C:/Rtools/mingw_32/bin/g++ -std=gnu++11 -shared -s -static-libgcc -o scMerge.dll tmp.def RcppExports.o rcppFastMatrixOp.o test-runner.o -LC:/extsoft/lib/i386 -LC:/extsoft/lib -LC:/Users/BIOCBU~1/BBS-3~1.10-/R/bin/i386 -lR installing to C:/Users/biocbuild/bbs-3.10-bioc/meat/scMerge.buildbin-libdir/00LOCK-scMerge/00new/scMerge/libs/i386 ** R ** data ** inst ** byte-compile and prepare package for lazy loading ** help *** installing help indices converting help for package 'scMerge' finding HTML links ... done eigenMatMult html eigenResidop html example_sce html fastRUVIII html ruvSimulate html scMerge html scRUVIII html scRUVg html scReplicate html scSEGIndex html sce_cbind html segList html segList_ensemblGeneID html ** building package indices ** installing vignettes ** testing if installed package can be loaded from temporary location ** testing if installed package can be loaded from final location ** testing if installed package keeps a record of temporary installation path install for x64 * installing *source* package 'scMerge' ... ** libs C:/Rtools/mingw_64/bin/g++ -std=gnu++11 -I"C:/Users/BIOCBU~1/BBS-3~1.10-/R/include" -DNDEBUG -I"C:/Users/biocbuild/bbs-3.10-bioc/R/library/Rcpp/include" -I"C:/Users/biocbuild/bbs-3.10-bioc/R/library/RcppEigen/include" -I"C:/Users/biocbuild/bbs-3.10-bioc/R/library/testthat/include" -I"C:/extsoft/include" -O2 -Wall -mtune=core2 -c RcppExports.cpp -o RcppExports.o C:/Rtools/mingw_64/bin/g++ -std=gnu++11 -I"C:/Users/BIOCBU~1/BBS-3~1.10-/R/include" -DNDEBUG -I"C:/Users/biocbuild/bbs-3.10-bioc/R/library/Rcpp/include" -I"C:/Users/biocbuild/bbs-3.10-bioc/R/library/RcppEigen/include" -I"C:/Users/biocbuild/bbs-3.10-bioc/R/library/testthat/include" -I"C:/extsoft/include" -O2 -Wall -mtune=core2 -c rcppFastMatrixOp.cpp -o rcppFastMatrixOp.o C:/Rtools/mingw_64/bin/g++ -std=gnu++11 -I"C:/Users/BIOCBU~1/BBS-3~1.10-/R/include" -DNDEBUG -I"C:/Users/biocbuild/bbs-3.10-bioc/R/library/Rcpp/include" -I"C:/Users/biocbuild/bbs-3.10-bioc/R/library/RcppEigen/include" -I"C:/Users/biocbuild/bbs-3.10-bioc/R/library/testthat/include" -I"C:/extsoft/include" -O2 -Wall -mtune=core2 -c test-runner.cpp -o test-runner.o In file included from C:/Users/biocbuild/bbs-3.10-bioc/R/library/testthat/include/testthat.h:1:0, from test-runner.cpp:7: C:/Users/biocbuild/bbs-3.10-bioc/R/library/testthat/include/testthat/testthat.h: In function 'std::ostream& Catch::cout()': C:/Users/biocbuild/bbs-3.10-bioc/R/library/testthat/include/testthat/testthat.h:140:1: warning: visibility attribute not supported in this configuration; ignored [-Wattributes] } ^ C:/Users/biocbuild/bbs-3.10-bioc/R/library/testthat/include/testthat/testthat.h: In function 'std::ostream& Catch::cerr()': C:/Users/biocbuild/bbs-3.10-bioc/R/library/testthat/include/testthat/testthat.h:147:1: warning: visibility attribute not supported in this configuration; ignored [-Wattributes] } ^ C:/Rtools/mingw_64/bin/g++ -std=gnu++11 -shared -s -static-libgcc -o scMerge.dll tmp.def RcppExports.o rcppFastMatrixOp.o test-runner.o -LC:/extsoft/lib/x64 -LC:/extsoft/lib -LC:/Users/BIOCBU~1/BBS-3~1.10-/R/bin/x64 -lR installing to C:/Users/biocbuild/bbs-3.10-bioc/meat/scMerge.buildbin-libdir/scMerge/libs/x64 ** testing if installed package can be loaded * MD5 sums packaged installation of 'scMerge' as scMerge_1.2.0.zip * DONE (scMerge) * installing to library 'C:/Users/biocbuild/bbs-3.10-bioc/R/library' package 'scMerge' successfully unpacked and MD5 sums checked