Back to Multiple platform build/check report for BioC 3.10 |
|
This page was generated on 2020-04-15 12:19:38 -0400 (Wed, 15 Apr 2020).
Package 1560/1823 | Hostname | OS / Arch | INSTALL | BUILD | CHECK | BUILD BIN | ||||||
seqbias 1.34.0 Daniel Jones
| malbec1 | Linux (Ubuntu 18.04.4 LTS) / x86_64 | OK | OK | OK | ![]() | ||||||
tokay1 | Windows Server 2012 R2 Standard / x64 | [ OK ] | OK | OK | ERROR | |||||||
merida1 | OS X 10.11.6 El Capitan / x86_64 | OK | OK | OK | OK | ![]() |
Package: seqbias |
Version: 1.34.0 |
Command: C:\cygwin\bin\curl.exe -O https://malbec1.bioconductor.org/BBS/3.10/bioc/src/contrib/seqbias_1.34.0.tar.gz && rm -rf seqbias.buildbin-libdir && mkdir seqbias.buildbin-libdir && C:\Users\biocbuild\bbs-3.10-bioc\R\bin\R.exe CMD INSTALL --merge-multiarch --build --library=seqbias.buildbin-libdir seqbias_1.34.0.tar.gz && C:\Users\biocbuild\bbs-3.10-bioc\R\bin\R.exe CMD INSTALL seqbias_1.34.0.zip && rm seqbias_1.34.0.tar.gz seqbias_1.34.0.zip |
StartedAt: 2020-04-14 19:30:43 -0400 (Tue, 14 Apr 2020) |
EndedAt: 2020-04-14 19:33:04 -0400 (Tue, 14 Apr 2020) |
EllapsedTime: 141.3 seconds |
RetCode: 0 |
Status: OK |
############################################################################## ############################################################################## ### ### Running command: ### ### C:\cygwin\bin\curl.exe -O https://malbec1.bioconductor.org/BBS/3.10/bioc/src/contrib/seqbias_1.34.0.tar.gz && rm -rf seqbias.buildbin-libdir && mkdir seqbias.buildbin-libdir && C:\Users\biocbuild\bbs-3.10-bioc\R\bin\R.exe CMD INSTALL --merge-multiarch --build --library=seqbias.buildbin-libdir seqbias_1.34.0.tar.gz && C:\Users\biocbuild\bbs-3.10-bioc\R\bin\R.exe CMD INSTALL seqbias_1.34.0.zip && rm seqbias_1.34.0.tar.gz seqbias_1.34.0.zip ### ############################################################################## ############################################################################## % Total % Received % Xferd Average Speed Time Time Time Current Dload Upload Total Spent Left Speed 0 0 0 0 0 0 0 0 --:--:-- --:--:-- --:--:-- 0 100 586k 100 586k 0 0 15.5M 0 --:--:-- --:--:-- --:--:-- 17.3M install for i386 * installing *source* package 'seqbias' ... ** using staged installation ********************************************** WARNING: this package has a configure script It probably needs manual configuration ********************************************** ** libs C:/Rtools/mingw_32/bin/gcc -I"C:/Users/BIOCBU~1/BBS-3~1.10-/R/include" -DNDEBUG -D_FILE_OFFSET_BITS=64 -I"C:/Users/biocbuild/bbs-3.10-bioc/R/library/Rhtslib/include" -I"C:/extsoft/include" -Wall -Wextra -I. -O3 -Wall -std=gnu99 -mtune=core2 -c sam.c -o sam.o C:/Rtools/mingw_32/bin/gcc -I"C:/Users/BIOCBU~1/BBS-3~1.10-/R/include" -DNDEBUG -D_FILE_OFFSET_BITS=64 -I"C:/Users/biocbuild/bbs-3.10-bioc/R/library/Rhtslib/include" -I"C:/extsoft/include" -Wall -Wextra -I. -O3 -Wall -std=gnu99 -mtune=core2 -c bam_plbuf.c -o bam_plbuf.o C:/Rtools/mingw_32/bin/gcc -I"C:/Users/BIOCBU~1/BBS-3~1.10-/R/include" -DNDEBUG -D_FILE_OFFSET_BITS=64 -I"C:/Users/biocbuild/bbs-3.10-bioc/R/library/Rhtslib/include" -I"C:/extsoft/include" -Wall -Wextra -I. -O3 -Wall -std=gnu99 -mtune=core2 -c bam_aux.c -o bam_aux.o C:/Rtools/mingw_32/bin/gcc -I"C:/Users/BIOCBU~1/BBS-3~1.10-/R/include" -DNDEBUG -D_FILE_OFFSET_BITS=64 -I"C:/Users/biocbuild/bbs-3.10-bioc/R/library/Rhtslib/include" -I"C:/extsoft/include" -Wall -Wextra -I. -O3 -Wall -std=gnu99 -mtune=core2 -c common.c -o common.o C:/Rtools/mingw_32/bin/gcc -I"C:/Users/BIOCBU~1/BBS-3~1.10-/R/include" -DNDEBUG -D_FILE_OFFSET_BITS=64 -I"C:/Users/biocbuild/bbs-3.10-bioc/R/library/Rhtslib/include" -I"C:/extsoft/include" -Wall -Wextra -I. -O3 -Wall -std=gnu99 -mtune=core2 -c miscmath.c -o miscmath.o C:/Rtools/mingw_32/bin/gcc -I"C:/Users/BIOCBU~1/BBS-3~1.10-/R/include" -DNDEBUG -D_FILE_OFFSET_BITS=64 -I"C:/Users/biocbuild/bbs-3.10-bioc/R/library/Rhtslib/include" -I"C:/extsoft/include" -Wall -Wextra -I. -O3 -Wall -std=gnu99 -mtune=core2 -c pos_table.c -o pos_table.o C:/Rtools/mingw_32/bin/g++ -std=gnu++11 -I"C:/Users/BIOCBU~1/BBS-3~1.10-/R/include" -DNDEBUG -D_FILE_OFFSET_BITS=64 -I"C:/Users/biocbuild/bbs-3.10-bioc/R/library/Rhtslib/include" -I"C:/extsoft/include" -Wall -Wextra -I. -O2 -Wall -mtune=core2 -c kmer_matrix.cpp -o kmer_matrix.o C:/Rtools/mingw_32/bin/g++ -std=gnu++11 -I"C:/Users/BIOCBU~1/BBS-3~1.10-/R/include" -DNDEBUG -D_FILE_OFFSET_BITS=64 -I"C:/Users/biocbuild/bbs-3.10-bioc/R/library/Rhtslib/include" -I"C:/extsoft/include" -Wall -Wextra -I. -O2 -Wall -mtune=core2 -c logger.cpp -o logger.o C:/Rtools/mingw_32/bin/g++ -std=gnu++11 -I"C:/Users/BIOCBU~1/BBS-3~1.10-/R/include" -DNDEBUG -D_FILE_OFFSET_BITS=64 -I"C:/Users/biocbuild/bbs-3.10-bioc/R/library/Rhtslib/include" -I"C:/extsoft/include" -Wall -Wextra -I. -O2 -Wall -mtune=core2 -c motif.cpp -o motif.o C:/Rtools/mingw_32/bin/g++ -std=gnu++11 -I"C:/Users/BIOCBU~1/BBS-3~1.10-/R/include" -DNDEBUG -D_FILE_OFFSET_BITS=64 -I"C:/Users/biocbuild/bbs-3.10-bioc/R/library/Rhtslib/include" -I"C:/extsoft/include" -Wall -Wextra -I. -O2 -Wall -mtune=core2 -c seqbias.cpp -o seqbias.o C:/Rtools/mingw_32/bin/g++ -std=gnu++11 -I"C:/Users/BIOCBU~1/BBS-3~1.10-/R/include" -DNDEBUG -D_FILE_OFFSET_BITS=64 -I"C:/Users/biocbuild/bbs-3.10-bioc/R/library/Rhtslib/include" -I"C:/extsoft/include" -Wall -Wextra -I. -O2 -Wall -mtune=core2 -c sequencing_bias.cpp -o sequencing_bias.o C:/Rtools/mingw_32/bin/g++ -std=gnu++11 -I"C:/Users/BIOCBU~1/BBS-3~1.10-/R/include" -DNDEBUG -D_FILE_OFFSET_BITS=64 -I"C:/Users/biocbuild/bbs-3.10-bioc/R/library/Rhtslib/include" -I"C:/extsoft/include" -Wall -Wextra -I. -O2 -Wall -mtune=core2 -c twobitseq.cpp -o twobitseq.o C:/Rtools/mingw_32/bin/g++ -std=gnu++11 -I"C:/Users/BIOCBU~1/BBS-3~1.10-/R/include" -DNDEBUG -D_FILE_OFFSET_BITS=64 -I"C:/Users/biocbuild/bbs-3.10-bioc/R/library/Rhtslib/include" -I"C:/extsoft/include" -Wall -Wextra -I. -O2 -Wall -mtune=core2 -c yaml-cpp/aliasmanager.cpp -o yaml-cpp/aliasmanager.o C:/Rtools/mingw_32/bin/g++ -std=gnu++11 -I"C:/Users/BIOCBU~1/BBS-3~1.10-/R/include" -DNDEBUG -D_FILE_OFFSET_BITS=64 -I"C:/Users/biocbuild/bbs-3.10-bioc/R/library/Rhtslib/include" -I"C:/extsoft/include" -Wall -Wextra -I. -O2 -Wall -mtune=core2 -c yaml-cpp/conversion.cpp -o yaml-cpp/conversion.o C:/Rtools/mingw_32/bin/g++ -std=gnu++11 -I"C:/Users/BIOCBU~1/BBS-3~1.10-/R/include" -DNDEBUG -D_FILE_OFFSET_BITS=64 -I"C:/Users/biocbuild/bbs-3.10-bioc/R/library/Rhtslib/include" -I"C:/extsoft/include" -Wall -Wextra -I. -O2 -Wall -mtune=core2 -c yaml-cpp/directives.cpp -o yaml-cpp/directives.o C:/Rtools/mingw_32/bin/g++ -std=gnu++11 -I"C:/Users/BIOCBU~1/BBS-3~1.10-/R/include" -DNDEBUG -D_FILE_OFFSET_BITS=64 -I"C:/Users/biocbuild/bbs-3.10-bioc/R/library/Rhtslib/include" -I"C:/extsoft/include" -Wall -Wextra -I. -O2 -Wall -mtune=core2 -c yaml-cpp/emitfromevents.cpp -o yaml-cpp/emitfromevents.o C:/Rtools/mingw_32/bin/g++ -std=gnu++11 -I"C:/Users/BIOCBU~1/BBS-3~1.10-/R/include" -DNDEBUG -D_FILE_OFFSET_BITS=64 -I"C:/Users/biocbuild/bbs-3.10-bioc/R/library/Rhtslib/include" -I"C:/extsoft/include" -Wall -Wextra -I. -O2 -Wall -mtune=core2 -c yaml-cpp/emitter.cpp -o yaml-cpp/emitter.o In file included from yaml-cpp/emitterstate.h:10:0, from yaml-cpp/emitter.cpp:2: yaml-cpp/setting.h: In member function 'std::auto_ptr<YAML::SettingChangeBase> YAML::Setting<T>::set(const T&)': yaml-cpp/setting.h:60:44: warning: 'auto_ptr' is deprecated (declared at C:/Rtools/mingw_32/i686-w64-mingw32/include/c++/backward/auto_ptr.h:87) [-Wdeprecated-declarations] std::auto_ptr <SettingChangeBase> pChange(new SettingChange<T> (this)); ^ yaml-cpp/setting.h: At global scope: yaml-cpp/setting.h:84:61: warning: 'auto_ptr' is deprecated (declared at C:/Rtools/mingw_32/i686-w64-mingw32/include/c++/backward/auto_ptr.h:87) [-Wdeprecated-declarations] void push(std::auto_ptr <SettingChangeBase> pSettingChange) { ^ C:/Rtools/mingw_32/bin/g++ -std=gnu++11 -I"C:/Users/BIOCBU~1/BBS-3~1.10-/R/include" -DNDEBUG -D_FILE_OFFSET_BITS=64 -I"C:/Users/biocbuild/bbs-3.10-bioc/R/library/Rhtslib/include" -I"C:/extsoft/include" -Wall -Wextra -I. -O2 -Wall -mtune=core2 -c yaml-cpp/emitterstate.cpp -o yaml-cpp/emitterstate.o In file included from yaml-cpp/emitterstate.h:10:0, from yaml-cpp/emitterstate.cpp:1: yaml-cpp/setting.h: In member function 'std::auto_ptr<YAML::SettingChangeBase> YAML::Setting<T>::set(const T&)': yaml-cpp/setting.h:60:44: warning: 'auto_ptr' is deprecated (declared at C:/Rtools/mingw_32/i686-w64-mingw32/include/c++/backward/auto_ptr.h:87) [-Wdeprecated-declarations] std::auto_ptr <SettingChangeBase> pChange(new SettingChange<T> (this)); ^ yaml-cpp/setting.h: At global scope: yaml-cpp/setting.h:84:61: warning: 'auto_ptr' is deprecated (declared at C:/Rtools/mingw_32/i686-w64-mingw32/include/c++/backward/auto_ptr.h:87) [-Wdeprecated-declarations] void push(std::auto_ptr <SettingChangeBase> pSettingChange) { ^ yaml-cpp/emitterstate.cpp: In member function 'void YAML::EmitterState::EndGroup(YAML::GROUP_TYPE)': yaml-cpp/emitterstate.cpp:71:25: warning: 'auto_ptr' is deprecated (declared at C:/Rtools/mingw_32/i686-w64-mingw32/include/c++/backward/auto_ptr.h:87) [-Wdeprecated-declarations] std::auto_ptr<Group> pFinishedGroup = m_groups.pop(); ^ C:/Rtools/mingw_32/bin/g++ -std=gnu++11 -I"C:/Users/BIOCBU~1/BBS-3~1.10-/R/include" -DNDEBUG -D_FILE_OFFSET_BITS=64 -I"C:/Users/biocbuild/bbs-3.10-bioc/R/library/Rhtslib/include" -I"C:/extsoft/include" -Wall -Wextra -I. -O2 -Wall -mtune=core2 -c yaml-cpp/emitterutils.cpp -o yaml-cpp/emitterutils.o C:/Rtools/mingw_32/bin/g++ -std=gnu++11 -I"C:/Users/BIOCBU~1/BBS-3~1.10-/R/include" -DNDEBUG -D_FILE_OFFSET_BITS=64 -I"C:/Users/biocbuild/bbs-3.10-bioc/R/library/Rhtslib/include" -I"C:/extsoft/include" -Wall -Wextra -I. -O2 -Wall -mtune=core2 -c yaml-cpp/exp.cpp -o yaml-cpp/exp.o C:/Rtools/mingw_32/bin/g++ -std=gnu++11 -I"C:/Users/BIOCBU~1/BBS-3~1.10-/R/include" -DNDEBUG -D_FILE_OFFSET_BITS=64 -I"C:/Users/biocbuild/bbs-3.10-bioc/R/library/Rhtslib/include" -I"C:/extsoft/include" -Wall -Wextra -I. -O2 -Wall -mtune=core2 -c yaml-cpp/iterator.cpp -o yaml-cpp/iterator.o yaml-cpp/iterator.cpp:11:50: warning: 'auto_ptr' is deprecated (declared at C:/Rtools/mingw_32/i686-w64-mingw32/include/c++/backward/auto_ptr.h:87) [-Wdeprecated-declarations] Iterator::Iterator(std::auto_ptr<IterPriv> pData): m_pData(pData) ^ C:/Rtools/mingw_32/bin/g++ -std=gnu++11 -I"C:/Users/BIOCBU~1/BBS-3~1.10-/R/include" -DNDEBUG -D_FILE_OFFSET_BITS=64 -I"C:/Users/biocbuild/bbs-3.10-bioc/R/library/Rhtslib/include" -I"C:/extsoft/include" -Wall -Wextra -I. -O2 -Wall -mtune=core2 -c yaml-cpp/nodebuilder.cpp -o yaml-cpp/nodebuilder.o C:/Rtools/mingw_32/bin/g++ -std=gnu++11 -I"C:/Users/BIOCBU~1/BBS-3~1.10-/R/include" -DNDEBUG -D_FILE_OFFSET_BITS=64 -I"C:/Users/biocbuild/bbs-3.10-bioc/R/library/Rhtslib/include" -I"C:/extsoft/include" -Wall -Wextra -I. -O2 -Wall -mtune=core2 -c yaml-cpp/node.cpp -o yaml-cpp/node.o yaml-cpp/node.cpp: In member function 'std::auto_ptr<YAML::Node> YAML::Node::Clone() const': yaml-cpp/node.cpp:56:28: warning: 'auto_ptr' is deprecated (declared at C:/Rtools/mingw_32/i686-w64-mingw32/include/c++/backward/auto_ptr.h:87) [-Wdeprecated-declarations] std::auto_ptr<Node> pNode(new Node); ^ yaml-cpp/node.cpp: In member function 'YAML::Iterator YAML::Node::begin() const': yaml-cpp/node.cpp:148:76: warning: 'auto_ptr' is deprecated (declared at C:/Rtools/mingw_32/i686-w64-mingw32/include/c++/backward/auto_ptr.h:87) [-Wdeprecated-declarations] return Iterator(std::auto_ptr<IterPriv>(new IterPriv(m_seqData.begin()))); ^ yaml-cpp/node.cpp:150:76: warning: 'auto_ptr' is deprecated (declared at C:/Rtools/mingw_32/i686-w64-mingw32/include/c++/backward/auto_ptr.h:87) [-Wdeprecated-declarations] return Iterator(std::auto_ptr<IterPriv>(new IterPriv(m_mapData.begin()))); ^ yaml-cpp/node.cpp: In member function 'YAML::Iterator YAML::Node::end() const': yaml-cpp/node.cpp:166:74: warning: 'auto_ptr' is deprecated (declared at C:/Rtools/mingw_32/i686-w64-mingw32/include/c++/backward/auto_ptr.h:87) [-Wdeprecated-declarations] return Iterator(std::auto_ptr<IterPriv>(new IterPriv(m_seqData.end()))); ^ yaml-cpp/node.cpp:168:74: warning: 'auto_ptr' is deprecated (declared at C:/Rtools/mingw_32/i686-w64-mingw32/include/c++/backward/auto_ptr.h:87) [-Wdeprecated-declarations] return Iterator(std::auto_ptr<IterPriv>(new IterPriv(m_mapData.end()))); ^ C:/Rtools/mingw_32/bin/g++ -std=gnu++11 -I"C:/Users/BIOCBU~1/BBS-3~1.10-/R/include" -DNDEBUG -D_FILE_OFFSET_BITS=64 -I"C:/Users/biocbuild/bbs-3.10-bioc/R/library/Rhtslib/include" -I"C:/extsoft/include" -Wall -Wextra -I. -O2 -Wall -mtune=core2 -c yaml-cpp/nodeownership.cpp -o yaml-cpp/nodeownership.o C:/Rtools/mingw_32/bin/g++ -std=gnu++11 -I"C:/Users/BIOCBU~1/BBS-3~1.10-/R/include" -DNDEBUG -D_FILE_OFFSET_BITS=64 -I"C:/Users/biocbuild/bbs-3.10-bioc/R/library/Rhtslib/include" -I"C:/extsoft/include" -Wall -Wextra -I. -O2 -Wall -mtune=core2 -c yaml-cpp/null.cpp -o yaml-cpp/null.o C:/Rtools/mingw_32/bin/g++ -std=gnu++11 -I"C:/Users/BIOCBU~1/BBS-3~1.10-/R/include" -DNDEBUG -D_FILE_OFFSET_BITS=64 -I"C:/Users/biocbuild/bbs-3.10-bioc/R/library/Rhtslib/include" -I"C:/extsoft/include" -Wall -Wextra -I. -O2 -Wall -mtune=core2 -c yaml-cpp/ostream.cpp -o yaml-cpp/ostream.o C:/Rtools/mingw_32/bin/g++ -std=gnu++11 -I"C:/Users/BIOCBU~1/BBS-3~1.10-/R/include" -DNDEBUG -D_FILE_OFFSET_BITS=64 -I"C:/Users/biocbuild/bbs-3.10-bioc/R/library/Rhtslib/include" -I"C:/extsoft/include" -Wall -Wextra -I. -O2 -Wall -mtune=core2 -c yaml-cpp/parser.cpp -o yaml-cpp/parser.o C:/Rtools/mingw_32/bin/g++ -std=gnu++11 -I"C:/Users/BIOCBU~1/BBS-3~1.10-/R/include" -DNDEBUG -D_FILE_OFFSET_BITS=64 -I"C:/Users/biocbuild/bbs-3.10-bioc/R/library/Rhtslib/include" -I"C:/extsoft/include" -Wall -Wextra -I. -O2 -Wall -mtune=core2 -c yaml-cpp/regex.cpp -o yaml-cpp/regex.o C:/Rtools/mingw_32/bin/g++ -std=gnu++11 -I"C:/Users/BIOCBU~1/BBS-3~1.10-/R/include" -DNDEBUG -D_FILE_OFFSET_BITS=64 -I"C:/Users/biocbuild/bbs-3.10-bioc/R/library/Rhtslib/include" -I"C:/extsoft/include" -Wall -Wextra -I. -O2 -Wall -mtune=core2 -c yaml-cpp/scanner.cpp -o yaml-cpp/scanner.o yaml-cpp/scanner.cpp: In member function 'YAML::Scanner::IndentMarker* YAML::Scanner::PushIndentTo(int, YAML::Scanner::IndentMarker::INDENT_TYPE)': yaml-cpp/scanner.cpp:284:38: warning: 'auto_ptr' is deprecated (declared at C:/Rtools/mingw_32/i686-w64-mingw32/include/c++/backward/auto_ptr.h:87) [-Wdeprecated-declarations] std::auto_ptr<IndentMarker> pIndent(new IndentMarker(column, type)); ^ C:/Rtools/mingw_32/bin/g++ -std=gnu++11 -I"C:/Users/BIOCBU~1/BBS-3~1.10-/R/include" -DNDEBUG -D_FILE_OFFSET_BITS=64 -I"C:/Users/biocbuild/bbs-3.10-bioc/R/library/Rhtslib/include" -I"C:/extsoft/include" -Wall -Wextra -I. -O2 -Wall -mtune=core2 -c yaml-cpp/scanscalar.cpp -o yaml-cpp/scanscalar.o C:/Rtools/mingw_32/bin/g++ -std=gnu++11 -I"C:/Users/BIOCBU~1/BBS-3~1.10-/R/include" -DNDEBUG -D_FILE_OFFSET_BITS=64 -I"C:/Users/biocbuild/bbs-3.10-bioc/R/library/Rhtslib/include" -I"C:/extsoft/include" -Wall -Wextra -I. -O2 -Wall -mtune=core2 -c yaml-cpp/scantag.cpp -o yaml-cpp/scantag.o C:/Rtools/mingw_32/bin/g++ -std=gnu++11 -I"C:/Users/BIOCBU~1/BBS-3~1.10-/R/include" -DNDEBUG -D_FILE_OFFSET_BITS=64 -I"C:/Users/biocbuild/bbs-3.10-bioc/R/library/Rhtslib/include" -I"C:/extsoft/include" -Wall -Wextra -I. -O2 -Wall -mtune=core2 -c yaml-cpp/scantoken.cpp -o yaml-cpp/scantoken.o C:/Rtools/mingw_32/bin/g++ -std=gnu++11 -I"C:/Users/BIOCBU~1/BBS-3~1.10-/R/include" -DNDEBUG -D_FILE_OFFSET_BITS=64 -I"C:/Users/biocbuild/bbs-3.10-bioc/R/library/Rhtslib/include" -I"C:/extsoft/include" -Wall -Wextra -I. -O2 -Wall -mtune=core2 -c yaml-cpp/simplekey.cpp -o yaml-cpp/simplekey.o C:/Rtools/mingw_32/bin/g++ -std=gnu++11 -I"C:/Users/BIOCBU~1/BBS-3~1.10-/R/include" -DNDEBUG -D_FILE_OFFSET_BITS=64 -I"C:/Users/biocbuild/bbs-3.10-bioc/R/library/Rhtslib/include" -I"C:/extsoft/include" -Wall -Wextra -I. -O2 -Wall -mtune=core2 -c yaml-cpp/singledocparser.cpp -o yaml-cpp/singledocparser.o In file included from yaml-cpp/singledocparser.cpp:2:0: yaml-cpp/collectionstack.h:28:48: warning: unused parameter 'type' [-Wunused-parameter] void PopCollectionType(CollectionType::value type) { assert(type == GetCurCollectionType()); collectionStack.pop(); } ^ C:/Rtools/mingw_32/bin/g++ -std=gnu++11 -I"C:/Users/BIOCBU~1/BBS-3~1.10-/R/include" -DNDEBUG -D_FILE_OFFSET_BITS=64 -I"C:/Users/biocbuild/bbs-3.10-bioc/R/library/Rhtslib/include" -I"C:/extsoft/include" -Wall -Wextra -I. -O2 -Wall -mtune=core2 -c yaml-cpp/stream.cpp -o yaml-cpp/stream.o C:/Rtools/mingw_32/bin/g++ -std=gnu++11 -I"C:/Users/BIOCBU~1/BBS-3~1.10-/R/include" -DNDEBUG -D_FILE_OFFSET_BITS=64 -I"C:/Users/biocbuild/bbs-3.10-bioc/R/library/Rhtslib/include" -I"C:/extsoft/include" -Wall -Wextra -I. -O2 -Wall -mtune=core2 -c yaml-cpp/tag.cpp -o yaml-cpp/tag.o C:/Rtools/mingw_32/bin/g++ -std=gnu++11 -shared -s -static-libgcc -o seqbias.dll tmp.def sam.o bam_plbuf.o bam_aux.o common.o miscmath.o pos_table.o kmer_matrix.o logger.o motif.o seqbias.o sequencing_bias.o twobitseq.o yaml-cpp/aliasmanager.o yaml-cpp/conversion.o yaml-cpp/directives.o yaml-cpp/emitfromevents.o yaml-cpp/emitter.o yaml-cpp/emitterstate.o yaml-cpp/emitterutils.o yaml-cpp/exp.o yaml-cpp/iterator.o yaml-cpp/nodebuilder.o yaml-cpp/node.o yaml-cpp/nodeownership.o yaml-cpp/null.o yaml-cpp/ostream.o yaml-cpp/parser.o yaml-cpp/regex.o yaml-cpp/scanner.o yaml-cpp/scanscalar.o yaml-cpp/scantag.o yaml-cpp/scantoken.o yaml-cpp/simplekey.o yaml-cpp/singledocparser.o yaml-cpp/stream.o yaml-cpp/tag.o C:/Users/biocbuild/bbs-3.10-bioc/R/library/Rhtslib/usrlib/i386/libhts.a -LC:/extsoft/lib/i386 -lcurl -lrtmp -lssl -lssh2 -lcrypto -lgdi32 -lz -lws2_32 -lwldap32 -lwinmm -lidn -LC:/extsoft/lib/i386 -LC:/extsoft/lib -LC:/Users/BIOCBU~1/BBS-3~1.10-/R/bin/i386 -lR installing to C:/Users/biocbuild/bbs-3.10-bioc/meat/seqbias.buildbin-libdir/00LOCK-seqbias/00new/seqbias/libs/i386 ** R ** inst ** byte-compile and prepare package for lazy loading ** help *** installing help indices converting help for package 'seqbias' finding HTML links ... done count_reads html kmer_freq html random_intervals html seqbias-class html seqbias-package html seqbias_fit html seqbias_load html seqbias_predict html seqbias_save html ** building package indices ** installing vignettes ** testing if installed package can be loaded from temporary location ** testing if installed package can be loaded from final location ** testing if installed package keeps a record of temporary installation path install for x64 * installing *source* package 'seqbias' ... ********************************************** WARNING: this package has a configure script It probably needs manual configuration ********************************************** ** libs C:/Rtools/mingw_64/bin/gcc -I"C:/Users/BIOCBU~1/BBS-3~1.10-/R/include" -DNDEBUG -D_FILE_OFFSET_BITS=64 -I"C:/Users/biocbuild/bbs-3.10-bioc/R/library/Rhtslib/include" -I"C:/extsoft/include" -Wall -Wextra -I. -O2 -Wall -std=gnu99 -mtune=core2 -c sam.c -o sam.o C:/Rtools/mingw_64/bin/gcc -I"C:/Users/BIOCBU~1/BBS-3~1.10-/R/include" -DNDEBUG -D_FILE_OFFSET_BITS=64 -I"C:/Users/biocbuild/bbs-3.10-bioc/R/library/Rhtslib/include" -I"C:/extsoft/include" -Wall -Wextra -I. -O2 -Wall -std=gnu99 -mtune=core2 -c bam_plbuf.c -o bam_plbuf.o C:/Rtools/mingw_64/bin/gcc -I"C:/Users/BIOCBU~1/BBS-3~1.10-/R/include" -DNDEBUG -D_FILE_OFFSET_BITS=64 -I"C:/Users/biocbuild/bbs-3.10-bioc/R/library/Rhtslib/include" -I"C:/extsoft/include" -Wall -Wextra -I. -O2 -Wall -std=gnu99 -mtune=core2 -c bam_aux.c -o bam_aux.o C:/Rtools/mingw_64/bin/gcc -I"C:/Users/BIOCBU~1/BBS-3~1.10-/R/include" -DNDEBUG -D_FILE_OFFSET_BITS=64 -I"C:/Users/biocbuild/bbs-3.10-bioc/R/library/Rhtslib/include" -I"C:/extsoft/include" -Wall -Wextra -I. -O2 -Wall -std=gnu99 -mtune=core2 -c common.c -o common.o C:/Rtools/mingw_64/bin/gcc -I"C:/Users/BIOCBU~1/BBS-3~1.10-/R/include" -DNDEBUG -D_FILE_OFFSET_BITS=64 -I"C:/Users/biocbuild/bbs-3.10-bioc/R/library/Rhtslib/include" -I"C:/extsoft/include" -Wall -Wextra -I. -O2 -Wall -std=gnu99 -mtune=core2 -c miscmath.c -o miscmath.o C:/Rtools/mingw_64/bin/gcc -I"C:/Users/BIOCBU~1/BBS-3~1.10-/R/include" -DNDEBUG -D_FILE_OFFSET_BITS=64 -I"C:/Users/biocbuild/bbs-3.10-bioc/R/library/Rhtslib/include" -I"C:/extsoft/include" -Wall -Wextra -I. -O2 -Wall -std=gnu99 -mtune=core2 -c pos_table.c -o pos_table.o C:/Rtools/mingw_64/bin/g++ -std=gnu++11 -I"C:/Users/BIOCBU~1/BBS-3~1.10-/R/include" -DNDEBUG -D_FILE_OFFSET_BITS=64 -I"C:/Users/biocbuild/bbs-3.10-bioc/R/library/Rhtslib/include" -I"C:/extsoft/include" -Wall -Wextra -I. -O2 -Wall -mtune=core2 -c kmer_matrix.cpp -o kmer_matrix.o C:/Rtools/mingw_64/bin/g++ -std=gnu++11 -I"C:/Users/BIOCBU~1/BBS-3~1.10-/R/include" -DNDEBUG -D_FILE_OFFSET_BITS=64 -I"C:/Users/biocbuild/bbs-3.10-bioc/R/library/Rhtslib/include" -I"C:/extsoft/include" -Wall -Wextra -I. -O2 -Wall -mtune=core2 -c logger.cpp -o logger.o C:/Rtools/mingw_64/bin/g++ -std=gnu++11 -I"C:/Users/BIOCBU~1/BBS-3~1.10-/R/include" -DNDEBUG -D_FILE_OFFSET_BITS=64 -I"C:/Users/biocbuild/bbs-3.10-bioc/R/library/Rhtslib/include" -I"C:/extsoft/include" -Wall -Wextra -I. -O2 -Wall -mtune=core2 -c motif.cpp -o motif.o C:/Rtools/mingw_64/bin/g++ -std=gnu++11 -I"C:/Users/BIOCBU~1/BBS-3~1.10-/R/include" -DNDEBUG -D_FILE_OFFSET_BITS=64 -I"C:/Users/biocbuild/bbs-3.10-bioc/R/library/Rhtslib/include" -I"C:/extsoft/include" -Wall -Wextra -I. -O2 -Wall -mtune=core2 -c seqbias.cpp -o seqbias.o C:/Rtools/mingw_64/bin/g++ -std=gnu++11 -I"C:/Users/BIOCBU~1/BBS-3~1.10-/R/include" -DNDEBUG -D_FILE_OFFSET_BITS=64 -I"C:/Users/biocbuild/bbs-3.10-bioc/R/library/Rhtslib/include" -I"C:/extsoft/include" -Wall -Wextra -I. -O2 -Wall -mtune=core2 -c sequencing_bias.cpp -o sequencing_bias.o C:/Rtools/mingw_64/bin/g++ -std=gnu++11 -I"C:/Users/BIOCBU~1/BBS-3~1.10-/R/include" -DNDEBUG -D_FILE_OFFSET_BITS=64 -I"C:/Users/biocbuild/bbs-3.10-bioc/R/library/Rhtslib/include" -I"C:/extsoft/include" -Wall -Wextra -I. -O2 -Wall -mtune=core2 -c twobitseq.cpp -o twobitseq.o C:/Rtools/mingw_64/bin/g++ -std=gnu++11 -I"C:/Users/BIOCBU~1/BBS-3~1.10-/R/include" -DNDEBUG -D_FILE_OFFSET_BITS=64 -I"C:/Users/biocbuild/bbs-3.10-bioc/R/library/Rhtslib/include" -I"C:/extsoft/include" -Wall -Wextra -I. -O2 -Wall -mtune=core2 -c yaml-cpp/aliasmanager.cpp -o yaml-cpp/aliasmanager.o C:/Rtools/mingw_64/bin/g++ -std=gnu++11 -I"C:/Users/BIOCBU~1/BBS-3~1.10-/R/include" -DNDEBUG -D_FILE_OFFSET_BITS=64 -I"C:/Users/biocbuild/bbs-3.10-bioc/R/library/Rhtslib/include" -I"C:/extsoft/include" -Wall -Wextra -I. -O2 -Wall -mtune=core2 -c yaml-cpp/conversion.cpp -o yaml-cpp/conversion.o C:/Rtools/mingw_64/bin/g++ -std=gnu++11 -I"C:/Users/BIOCBU~1/BBS-3~1.10-/R/include" -DNDEBUG -D_FILE_OFFSET_BITS=64 -I"C:/Users/biocbuild/bbs-3.10-bioc/R/library/Rhtslib/include" -I"C:/extsoft/include" -Wall -Wextra -I. -O2 -Wall -mtune=core2 -c yaml-cpp/directives.cpp -o yaml-cpp/directives.o C:/Rtools/mingw_64/bin/g++ -std=gnu++11 -I"C:/Users/BIOCBU~1/BBS-3~1.10-/R/include" -DNDEBUG -D_FILE_OFFSET_BITS=64 -I"C:/Users/biocbuild/bbs-3.10-bioc/R/library/Rhtslib/include" -I"C:/extsoft/include" -Wall -Wextra -I. -O2 -Wall -mtune=core2 -c yaml-cpp/emitfromevents.cpp -o yaml-cpp/emitfromevents.o C:/Rtools/mingw_64/bin/g++ -std=gnu++11 -I"C:/Users/BIOCBU~1/BBS-3~1.10-/R/include" -DNDEBUG -D_FILE_OFFSET_BITS=64 -I"C:/Users/biocbuild/bbs-3.10-bioc/R/library/Rhtslib/include" -I"C:/extsoft/include" -Wall -Wextra -I. -O2 -Wall -mtune=core2 -c yaml-cpp/emitter.cpp -o yaml-cpp/emitter.o In file included from yaml-cpp/emitterstate.h:10:0, from yaml-cpp/emitter.cpp:2: yaml-cpp/setting.h: In member function 'std::auto_ptr<YAML::SettingChangeBase> YAML::Setting<T>::set(const T&)': yaml-cpp/setting.h:60:44: warning: 'auto_ptr' is deprecated (declared at C:/Rtools/mingw_64/x86_64-w64-mingw32/include/c++/backward/auto_ptr.h:87) [-Wdeprecated-declarations] std::auto_ptr <SettingChangeBase> pChange(new SettingChange<T> (this)); ^ yaml-cpp/setting.h: At global scope: yaml-cpp/setting.h:84:61: warning: 'auto_ptr' is deprecated (declared at C:/Rtools/mingw_64/x86_64-w64-mingw32/include/c++/backward/auto_ptr.h:87) [-Wdeprecated-declarations] void push(std::auto_ptr <SettingChangeBase> pSettingChange) { ^ C:/Rtools/mingw_64/bin/g++ -std=gnu++11 -I"C:/Users/BIOCBU~1/BBS-3~1.10-/R/include" -DNDEBUG -D_FILE_OFFSET_BITS=64 -I"C:/Users/biocbuild/bbs-3.10-bioc/R/library/Rhtslib/include" -I"C:/extsoft/include" -Wall -Wextra -I. -O2 -Wall -mtune=core2 -c yaml-cpp/emitterstate.cpp -o yaml-cpp/emitterstate.o In file included from yaml-cpp/emitterstate.h:10:0, from yaml-cpp/emitterstate.cpp:1: yaml-cpp/setting.h: In member function 'std::auto_ptr<YAML::SettingChangeBase> YAML::Setting<T>::set(const T&)': yaml-cpp/setting.h:60:44: warning: 'auto_ptr' is deprecated (declared at C:/Rtools/mingw_64/x86_64-w64-mingw32/include/c++/backward/auto_ptr.h:87) [-Wdeprecated-declarations] std::auto_ptr <SettingChangeBase> pChange(new SettingChange<T> (this)); ^ yaml-cpp/setting.h: At global scope: yaml-cpp/setting.h:84:61: warning: 'auto_ptr' is deprecated (declared at C:/Rtools/mingw_64/x86_64-w64-mingw32/include/c++/backward/auto_ptr.h:87) [-Wdeprecated-declarations] void push(std::auto_ptr <SettingChangeBase> pSettingChange) { ^ yaml-cpp/emitterstate.cpp: In member function 'void YAML::EmitterState::EndGroup(YAML::GROUP_TYPE)': yaml-cpp/emitterstate.cpp:71:25: warning: 'auto_ptr' is deprecated (declared at C:/Rtools/mingw_64/x86_64-w64-mingw32/include/c++/backward/auto_ptr.h:87) [-Wdeprecated-declarations] std::auto_ptr<Group> pFinishedGroup = m_groups.pop(); ^ C:/Rtools/mingw_64/bin/g++ -std=gnu++11 -I"C:/Users/BIOCBU~1/BBS-3~1.10-/R/include" -DNDEBUG -D_FILE_OFFSET_BITS=64 -I"C:/Users/biocbuild/bbs-3.10-bioc/R/library/Rhtslib/include" -I"C:/extsoft/include" -Wall -Wextra -I. -O2 -Wall -mtune=core2 -c yaml-cpp/emitterutils.cpp -o yaml-cpp/emitterutils.o C:/Rtools/mingw_64/bin/g++ -std=gnu++11 -I"C:/Users/BIOCBU~1/BBS-3~1.10-/R/include" -DNDEBUG -D_FILE_OFFSET_BITS=64 -I"C:/Users/biocbuild/bbs-3.10-bioc/R/library/Rhtslib/include" -I"C:/extsoft/include" -Wall -Wextra -I. -O2 -Wall -mtune=core2 -c yaml-cpp/exp.cpp -o yaml-cpp/exp.o C:/Rtools/mingw_64/bin/g++ -std=gnu++11 -I"C:/Users/BIOCBU~1/BBS-3~1.10-/R/include" -DNDEBUG -D_FILE_OFFSET_BITS=64 -I"C:/Users/biocbuild/bbs-3.10-bioc/R/library/Rhtslib/include" -I"C:/extsoft/include" -Wall -Wextra -I. -O2 -Wall -mtune=core2 -c yaml-cpp/iterator.cpp -o yaml-cpp/iterator.o yaml-cpp/iterator.cpp:11:50: warning: 'auto_ptr' is deprecated (declared at C:/Rtools/mingw_64/x86_64-w64-mingw32/include/c++/backward/auto_ptr.h:87) [-Wdeprecated-declarations] Iterator::Iterator(std::auto_ptr<IterPriv> pData): m_pData(pData) ^ C:/Rtools/mingw_64/bin/g++ -std=gnu++11 -I"C:/Users/BIOCBU~1/BBS-3~1.10-/R/include" -DNDEBUG -D_FILE_OFFSET_BITS=64 -I"C:/Users/biocbuild/bbs-3.10-bioc/R/library/Rhtslib/include" -I"C:/extsoft/include" -Wall -Wextra -I. -O2 -Wall -mtune=core2 -c yaml-cpp/nodebuilder.cpp -o yaml-cpp/nodebuilder.o C:/Rtools/mingw_64/bin/g++ -std=gnu++11 -I"C:/Users/BIOCBU~1/BBS-3~1.10-/R/include" -DNDEBUG -D_FILE_OFFSET_BITS=64 -I"C:/Users/biocbuild/bbs-3.10-bioc/R/library/Rhtslib/include" -I"C:/extsoft/include" -Wall -Wextra -I. -O2 -Wall -mtune=core2 -c yaml-cpp/node.cpp -o yaml-cpp/node.o yaml-cpp/node.cpp: In member function 'std::auto_ptr<YAML::Node> YAML::Node::Clone() const': yaml-cpp/node.cpp:56:28: warning: 'auto_ptr' is deprecated (declared at C:/Rtools/mingw_64/x86_64-w64-mingw32/include/c++/backward/auto_ptr.h:87) [-Wdeprecated-declarations] std::auto_ptr<Node> pNode(new Node); ^ yaml-cpp/node.cpp: In member function 'YAML::Iterator YAML::Node::begin() const': yaml-cpp/node.cpp:148:76: warning: 'auto_ptr' is deprecated (declared at C:/Rtools/mingw_64/x86_64-w64-mingw32/include/c++/backward/auto_ptr.h:87) [-Wdeprecated-declarations] return Iterator(std::auto_ptr<IterPriv>(new IterPriv(m_seqData.begin()))); ^ yaml-cpp/node.cpp:150:76: warning: 'auto_ptr' is deprecated (declared at C:/Rtools/mingw_64/x86_64-w64-mingw32/include/c++/backward/auto_ptr.h:87) [-Wdeprecated-declarations] return Iterator(std::auto_ptr<IterPriv>(new IterPriv(m_mapData.begin()))); ^ yaml-cpp/node.cpp: In member function 'YAML::Iterator YAML::Node::end() const': yaml-cpp/node.cpp:166:74: warning: 'auto_ptr' is deprecated (declared at C:/Rtools/mingw_64/x86_64-w64-mingw32/include/c++/backward/auto_ptr.h:87) [-Wdeprecated-declarations] return Iterator(std::auto_ptr<IterPriv>(new IterPriv(m_seqData.end()))); ^ yaml-cpp/node.cpp:168:74: warning: 'auto_ptr' is deprecated (declared at C:/Rtools/mingw_64/x86_64-w64-mingw32/include/c++/backward/auto_ptr.h:87) [-Wdeprecated-declarations] return Iterator(std::auto_ptr<IterPriv>(new IterPriv(m_mapData.end()))); ^ C:/Rtools/mingw_64/bin/g++ -std=gnu++11 -I"C:/Users/BIOCBU~1/BBS-3~1.10-/R/include" -DNDEBUG -D_FILE_OFFSET_BITS=64 -I"C:/Users/biocbuild/bbs-3.10-bioc/R/library/Rhtslib/include" -I"C:/extsoft/include" -Wall -Wextra -I. -O2 -Wall -mtune=core2 -c yaml-cpp/nodeownership.cpp -o yaml-cpp/nodeownership.o C:/Rtools/mingw_64/bin/g++ -std=gnu++11 -I"C:/Users/BIOCBU~1/BBS-3~1.10-/R/include" -DNDEBUG -D_FILE_OFFSET_BITS=64 -I"C:/Users/biocbuild/bbs-3.10-bioc/R/library/Rhtslib/include" -I"C:/extsoft/include" -Wall -Wextra -I. -O2 -Wall -mtune=core2 -c yaml-cpp/null.cpp -o yaml-cpp/null.o C:/Rtools/mingw_64/bin/g++ -std=gnu++11 -I"C:/Users/BIOCBU~1/BBS-3~1.10-/R/include" -DNDEBUG -D_FILE_OFFSET_BITS=64 -I"C:/Users/biocbuild/bbs-3.10-bioc/R/library/Rhtslib/include" -I"C:/extsoft/include" -Wall -Wextra -I. -O2 -Wall -mtune=core2 -c yaml-cpp/ostream.cpp -o yaml-cpp/ostream.o C:/Rtools/mingw_64/bin/g++ -std=gnu++11 -I"C:/Users/BIOCBU~1/BBS-3~1.10-/R/include" -DNDEBUG -D_FILE_OFFSET_BITS=64 -I"C:/Users/biocbuild/bbs-3.10-bioc/R/library/Rhtslib/include" -I"C:/extsoft/include" -Wall -Wextra -I. -O2 -Wall -mtune=core2 -c yaml-cpp/parser.cpp -o yaml-cpp/parser.o C:/Rtools/mingw_64/bin/g++ -std=gnu++11 -I"C:/Users/BIOCBU~1/BBS-3~1.10-/R/include" -DNDEBUG -D_FILE_OFFSET_BITS=64 -I"C:/Users/biocbuild/bbs-3.10-bioc/R/library/Rhtslib/include" -I"C:/extsoft/include" -Wall -Wextra -I. -O2 -Wall -mtune=core2 -c yaml-cpp/regex.cpp -o yaml-cpp/regex.o C:/Rtools/mingw_64/bin/g++ -std=gnu++11 -I"C:/Users/BIOCBU~1/BBS-3~1.10-/R/include" -DNDEBUG -D_FILE_OFFSET_BITS=64 -I"C:/Users/biocbuild/bbs-3.10-bioc/R/library/Rhtslib/include" -I"C:/extsoft/include" -Wall -Wextra -I. -O2 -Wall -mtune=core2 -c yaml-cpp/scanner.cpp -o yaml-cpp/scanner.o yaml-cpp/scanner.cpp: In member function 'YAML::Scanner::IndentMarker* YAML::Scanner::PushIndentTo(int, YAML::Scanner::IndentMarker::INDENT_TYPE)': yaml-cpp/scanner.cpp:284:38: warning: 'auto_ptr' is deprecated (declared at C:/Rtools/mingw_64/x86_64-w64-mingw32/include/c++/backward/auto_ptr.h:87) [-Wdeprecated-declarations] std::auto_ptr<IndentMarker> pIndent(new IndentMarker(column, type)); ^ C:/Rtools/mingw_64/bin/g++ -std=gnu++11 -I"C:/Users/BIOCBU~1/BBS-3~1.10-/R/include" -DNDEBUG -D_FILE_OFFSET_BITS=64 -I"C:/Users/biocbuild/bbs-3.10-bioc/R/library/Rhtslib/include" -I"C:/extsoft/include" -Wall -Wextra -I. -O2 -Wall -mtune=core2 -c yaml-cpp/scanscalar.cpp -o yaml-cpp/scanscalar.o C:/Rtools/mingw_64/bin/g++ -std=gnu++11 -I"C:/Users/BIOCBU~1/BBS-3~1.10-/R/include" -DNDEBUG -D_FILE_OFFSET_BITS=64 -I"C:/Users/biocbuild/bbs-3.10-bioc/R/library/Rhtslib/include" -I"C:/extsoft/include" -Wall -Wextra -I. -O2 -Wall -mtune=core2 -c yaml-cpp/scantag.cpp -o yaml-cpp/scantag.o C:/Rtools/mingw_64/bin/g++ -std=gnu++11 -I"C:/Users/BIOCBU~1/BBS-3~1.10-/R/include" -DNDEBUG -D_FILE_OFFSET_BITS=64 -I"C:/Users/biocbuild/bbs-3.10-bioc/R/library/Rhtslib/include" -I"C:/extsoft/include" -Wall -Wextra -I. -O2 -Wall -mtune=core2 -c yaml-cpp/scantoken.cpp -o yaml-cpp/scantoken.o C:/Rtools/mingw_64/bin/g++ -std=gnu++11 -I"C:/Users/BIOCBU~1/BBS-3~1.10-/R/include" -DNDEBUG -D_FILE_OFFSET_BITS=64 -I"C:/Users/biocbuild/bbs-3.10-bioc/R/library/Rhtslib/include" -I"C:/extsoft/include" -Wall -Wextra -I. -O2 -Wall -mtune=core2 -c yaml-cpp/simplekey.cpp -o yaml-cpp/simplekey.o C:/Rtools/mingw_64/bin/g++ -std=gnu++11 -I"C:/Users/BIOCBU~1/BBS-3~1.10-/R/include" -DNDEBUG -D_FILE_OFFSET_BITS=64 -I"C:/Users/biocbuild/bbs-3.10-bioc/R/library/Rhtslib/include" -I"C:/extsoft/include" -Wall -Wextra -I. -O2 -Wall -mtune=core2 -c yaml-cpp/singledocparser.cpp -o yaml-cpp/singledocparser.o In file included from yaml-cpp/singledocparser.cpp:2:0: yaml-cpp/collectionstack.h:28:48: warning: unused parameter 'type' [-Wunused-parameter] void PopCollectionType(CollectionType::value type) { assert(type == GetCurCollectionType()); collectionStack.pop(); } ^ C:/Rtools/mingw_64/bin/g++ -std=gnu++11 -I"C:/Users/BIOCBU~1/BBS-3~1.10-/R/include" -DNDEBUG -D_FILE_OFFSET_BITS=64 -I"C:/Users/biocbuild/bbs-3.10-bioc/R/library/Rhtslib/include" -I"C:/extsoft/include" -Wall -Wextra -I. -O2 -Wall -mtune=core2 -c yaml-cpp/stream.cpp -o yaml-cpp/stream.o C:/Rtools/mingw_64/bin/g++ -std=gnu++11 -I"C:/Users/BIOCBU~1/BBS-3~1.10-/R/include" -DNDEBUG -D_FILE_OFFSET_BITS=64 -I"C:/Users/biocbuild/bbs-3.10-bioc/R/library/Rhtslib/include" -I"C:/extsoft/include" -Wall -Wextra -I. -O2 -Wall -mtune=core2 -c yaml-cpp/tag.cpp -o yaml-cpp/tag.o C:/Rtools/mingw_64/bin/g++ -std=gnu++11 -shared -s -static-libgcc -o seqbias.dll tmp.def sam.o bam_plbuf.o bam_aux.o common.o miscmath.o pos_table.o kmer_matrix.o logger.o motif.o seqbias.o sequencing_bias.o twobitseq.o yaml-cpp/aliasmanager.o yaml-cpp/conversion.o yaml-cpp/directives.o yaml-cpp/emitfromevents.o yaml-cpp/emitter.o yaml-cpp/emitterstate.o yaml-cpp/emitterutils.o yaml-cpp/exp.o yaml-cpp/iterator.o yaml-cpp/nodebuilder.o yaml-cpp/node.o yaml-cpp/nodeownership.o yaml-cpp/null.o yaml-cpp/ostream.o yaml-cpp/parser.o yaml-cpp/regex.o yaml-cpp/scanner.o yaml-cpp/scanscalar.o yaml-cpp/scantag.o yaml-cpp/scantoken.o yaml-cpp/simplekey.o yaml-cpp/singledocparser.o yaml-cpp/stream.o yaml-cpp/tag.o C:/Users/biocbuild/bbs-3.10-bioc/R/library/Rhtslib/usrlib/x64/libhts.a -LC:/extsoft/lib/x64 -lcurl -lrtmp -lssl -lssh2 -lcrypto -lgdi32 -lz -lws2_32 -lwldap32 -lwinmm -LC:/extsoft/lib/x64 -LC:/extsoft/lib -LC:/Users/BIOCBU~1/BBS-3~1.10-/R/bin/x64 -lR installing to C:/Users/biocbuild/bbs-3.10-bioc/meat/seqbias.buildbin-libdir/seqbias/libs/x64 ** testing if installed package can be loaded * MD5 sums packaged installation of 'seqbias' as seqbias_1.34.0.zip * DONE (seqbias) * installing to library 'C:/Users/biocbuild/bbs-3.10-bioc/R/library' package 'seqbias' successfully unpacked and MD5 sums checked