Back to Multiple platform build/check report for BioC 3.10 |
|
This page was generated on 2020-04-15 12:13:07 -0400 (Wed, 15 Apr 2020).
Package 1563/1823 | Hostname | OS / Arch | INSTALL | BUILD | CHECK | BUILD BIN | ||||||
seqcombo 1.8.0 Guangchuang Yu
| malbec1 | Linux (Ubuntu 18.04.4 LTS) / x86_64 | OK | [ OK ] | OK | ![]() | ||||||
tokay1 | Windows Server 2012 R2 Standard / x64 | OK | OK | OK | OK | ![]() | ||||||
merida1 | OS X 10.11.6 El Capitan / x86_64 | OK | OK | OK | OK | ![]() |
Package: seqcombo |
Version: 1.8.0 |
Command: /home/biocbuild/bbs-3.10-bioc/R/bin/R CMD build --keep-empty-dirs --no-resave-data seqcombo |
StartedAt: 2020-04-14 22:39:36 -0400 (Tue, 14 Apr 2020) |
EndedAt: 2020-04-14 22:40:05 -0400 (Tue, 14 Apr 2020) |
EllapsedTime: 29.5 seconds |
RetCode: 0 |
Status: OK |
PackageFile: seqcombo_1.8.0.tar.gz |
PackageFileSize: 1.203 MiB |
############################################################################## ############################################################################## ### ### Running command: ### ### /home/biocbuild/bbs-3.10-bioc/R/bin/R CMD build --keep-empty-dirs --no-resave-data seqcombo ### ############################################################################## ############################################################################## * checking for file ‘seqcombo/DESCRIPTION’ ... OK * preparing ‘seqcombo’: * checking DESCRIPTION meta-information ... OK * installing the package to build vignettes * creating vignettes ... OK * checking for LF line-endings in source and make files and shell scripts * checking for empty or unneeded directories * building ‘seqcombo_1.8.0.tar.gz’