Back to Multiple platform build/check report for BioC 3.10 |
|
This page was generated on 2020-04-15 12:39:22 -0400 (Wed, 15 Apr 2020).
Package 1579/1823 | Hostname | OS / Arch | INSTALL | BUILD | CHECK | BUILD BIN | ||||||
shinyTANDEM 1.24.0 Frederic Fournier
| malbec1 | Linux (Ubuntu 18.04.4 LTS) / x86_64 | OK | OK | OK | |||||||
tokay1 | Windows Server 2012 R2 Standard / x64 | OK | OK | OK | OK | |||||||
merida1 | OS X 10.11.6 El Capitan / x86_64 | [ ERROR ] | ERROR | skipped | skipped |
Package: shinyTANDEM |
Version: 1.24.0 |
Command: /Library/Frameworks/R.framework/Versions/Current/Resources/bin/R CMD INSTALL shinyTANDEM |
StartedAt: 2020-04-14 18:40:30 -0400 (Tue, 14 Apr 2020) |
EndedAt: 2020-04-14 18:41:05 -0400 (Tue, 14 Apr 2020) |
EllapsedTime: 34.8 seconds |
RetCode: 1 |
Status: ERROR |
############################################################################## ############################################################################## ### ### Running command: ### ### /Library/Frameworks/R.framework/Versions/Current/Resources/bin/R CMD INSTALL shinyTANDEM ### ############################################################################## ############################################################################## * installing to library ‘/Library/Frameworks/R.framework/Versions/3.6/Resources/library’ ERROR: dependency ‘rTANDEM’ is not available for package ‘shinyTANDEM’ * removing ‘/Library/Frameworks/R.framework/Versions/3.6/Resources/library/shinyTANDEM’