Back to Multiple platform build/check report for BioC 3.10 |
|
This page was generated on 2020-04-15 12:30:34 -0400 (Wed, 15 Apr 2020).
Package 1585/1823 | Hostname | OS / Arch | INSTALL | BUILD | CHECK | BUILD BIN | ||||||
sigFeature 1.4.0 Pijush Das Developer
| malbec1 | Linux (Ubuntu 18.04.4 LTS) / x86_64 | OK | OK | OK | |||||||
tokay1 | Windows Server 2012 R2 Standard / x64 | [ OK ] | OK | OK | OK | |||||||
merida1 | OS X 10.11.6 El Capitan / x86_64 | OK | OK | OK | OK |
Package: sigFeature |
Version: 1.4.0 |
Command: C:\cygwin\bin\curl.exe -O https://malbec1.bioconductor.org/BBS/3.10/bioc/src/contrib/sigFeature_1.4.0.tar.gz && rm -rf sigFeature.buildbin-libdir && mkdir sigFeature.buildbin-libdir && C:\Users\biocbuild\bbs-3.10-bioc\R\bin\R.exe CMD INSTALL --merge-multiarch --build --library=sigFeature.buildbin-libdir sigFeature_1.4.0.tar.gz && C:\Users\biocbuild\bbs-3.10-bioc\R\bin\R.exe CMD INSTALL sigFeature_1.4.0.zip && rm sigFeature_1.4.0.tar.gz sigFeature_1.4.0.zip |
StartedAt: 2020-04-14 19:38:14 -0400 (Tue, 14 Apr 2020) |
EndedAt: 2020-04-14 19:38:53 -0400 (Tue, 14 Apr 2020) |
EllapsedTime: 39.6 seconds |
RetCode: 0 |
Status: OK |
############################################################################## ############################################################################## ### ### Running command: ### ### C:\cygwin\bin\curl.exe -O https://malbec1.bioconductor.org/BBS/3.10/bioc/src/contrib/sigFeature_1.4.0.tar.gz && rm -rf sigFeature.buildbin-libdir && mkdir sigFeature.buildbin-libdir && C:\Users\biocbuild\bbs-3.10-bioc\R\bin\R.exe CMD INSTALL --merge-multiarch --build --library=sigFeature.buildbin-libdir sigFeature_1.4.0.tar.gz && C:\Users\biocbuild\bbs-3.10-bioc\R\bin\R.exe CMD INSTALL sigFeature_1.4.0.zip && rm sigFeature_1.4.0.tar.gz sigFeature_1.4.0.zip ### ############################################################################## ############################################################################## % Total % Received % Xferd Average Speed Time Time Time Current Dload Upload Total Spent Left Speed 0 0 0 0 0 0 0 0 --:--:-- --:--:-- --:--:-- 0 100 241k 100 241k 0 0 5767k 0 --:--:-- --:--:-- --:--:-- 6348k install for i386 * installing *source* package 'sigFeature' ... ** using staged installation ** R ** data *** moving datasets to lazyload DB ** inst ** byte-compile and prepare package for lazy loading ** help *** installing help indices converting help for package 'sigFeature' finding HTML links ... done ExampleRawData html PlotErrors html WritesigFeature html featsweepSigFe html featureRankedList html results html sigCVError html sigFeature html sigFeature.enfold html sigFeatureFrequency html sigFeaturePvalue html sigfeatureRankedList html svmrfeFeatureRanking html ** building package indices ** installing vignettes ** testing if installed package can be loaded from temporary location ** testing if installed package can be loaded from final location ** testing if installed package keeps a record of temporary installation path install for x64 * installing *source* package 'sigFeature' ... ** testing if installed package can be loaded * MD5 sums packaged installation of 'sigFeature' as sigFeature_1.4.0.zip * DONE (sigFeature) * installing to library 'C:/Users/biocbuild/bbs-3.10-bioc/R/library' package 'sigFeature' successfully unpacked and MD5 sums checked