Back to Multiple platform build/check report for BioC 3.10 |
|
This page was generated on 2020-04-15 12:33:51 -0400 (Wed, 15 Apr 2020).
Package 1587/1823 | Hostname | OS / Arch | INSTALL | BUILD | CHECK | BUILD BIN | ||||||
siggenes 1.60.0 Holger Schwender
| malbec1 | Linux (Ubuntu 18.04.4 LTS) / x86_64 | OK | OK | OK | |||||||
tokay1 | Windows Server 2012 R2 Standard / x64 | OK | OK | OK | OK | |||||||
merida1 | OS X 10.11.6 El Capitan / x86_64 | OK | [ OK ] | OK | OK |
Package: siggenes |
Version: 1.60.0 |
Command: /Library/Frameworks/R.framework/Versions/Current/Resources/bin/R CMD build --keep-empty-dirs --no-resave-data siggenes |
StartedAt: 2020-04-14 19:46:13 -0400 (Tue, 14 Apr 2020) |
EndedAt: 2020-04-14 19:47:08 -0400 (Tue, 14 Apr 2020) |
EllapsedTime: 55.4 seconds |
RetCode: 0 |
Status: OK |
PackageFile: siggenes_1.60.0.tar.gz |
PackageFileSize: 588.9 KiB |
############################################################################## ############################################################################## ### ### Running command: ### ### /Library/Frameworks/R.framework/Versions/Current/Resources/bin/R CMD build --keep-empty-dirs --no-resave-data siggenes ### ############################################################################## ############################################################################## * checking for file ‘siggenes/DESCRIPTION’ ... OK * preparing ‘siggenes’: * checking DESCRIPTION meta-information ... OK * installing the package to build vignettes * creating vignettes ... OK Warning: ‘inst/doc’ file ‘siggenes.pdf’ ignored as vignettes have been rebuilt. Run R CMD build with --no-build-vignettes to prevent rebuilding. * checking for LF line-endings in source and make files and shell scripts * checking for empty or unneeded directories * building ‘siggenes_1.60.0.tar.gz’