Back to Multiple platform build/check report for BioC 3.10 |
|
This page was generated on 2020-04-15 12:29:15 -0400 (Wed, 15 Apr 2020).
Package 1612/1823 | Hostname | OS / Arch | INSTALL | BUILD | CHECK | BUILD BIN | ||||||
slalom 1.8.0 Davis McCarthy
| malbec1 | Linux (Ubuntu 18.04.4 LTS) / x86_64 | OK | OK | OK | ![]() | ||||||
tokay1 | Windows Server 2012 R2 Standard / x64 | OK | OK | OK | [ OK ] | ![]() | ||||||
merida1 | OS X 10.11.6 El Capitan / x86_64 | OK | OK | OK | OK | ![]() |
Package: slalom |
Version: 1.8.0 |
Command: rm -rf slalom.buildbin-libdir && mkdir slalom.buildbin-libdir && C:\Users\biocbuild\bbs-3.10-bioc\R\bin\R.exe CMD INSTALL --merge-multiarch --build --library=slalom.buildbin-libdir slalom_1.8.0.tar.gz |
StartedAt: 2020-04-15 09:42:50 -0400 (Wed, 15 Apr 2020) |
EndedAt: 2020-04-15 09:44:24 -0400 (Wed, 15 Apr 2020) |
EllapsedTime: 94.0 seconds |
RetCode: 0 |
Status: OK |
PackageFile: slalom_1.8.0.zip |
PackageFileSize: 20.27 MiB |
############################################################################## ############################################################################## ### ### Running command: ### ### rm -rf slalom.buildbin-libdir && mkdir slalom.buildbin-libdir && C:\Users\biocbuild\bbs-3.10-bioc\R\bin\R.exe CMD INSTALL --merge-multiarch --build --library=slalom.buildbin-libdir slalom_1.8.0.tar.gz ### ############################################################################## ############################################################################## install for i386 * installing *source* package 'slalom' ... ** using staged installation ** libs C:/Rtools/mingw_32/bin/g++ -std=gnu++11 -I"C:/Users/BIOCBU~1/BBS-3~1.10-/R/include" -DNDEBUG -I"C:/Users/biocbuild/bbs-3.10-bioc/R/library/Rcpp/include" -I"C:/Users/biocbuild/bbs-3.10-bioc/R/library/RcppArmadillo/include" -I"C:/Users/biocbuild/bbs-3.10-bioc/R/library/BH/include" -I"C:/extsoft/include" -O2 -Wall -mtune=core2 -c RcppExports.cpp -o RcppExports.o C:/Rtools/mingw_32/bin/g++ -std=gnu++11 -I"C:/Users/BIOCBU~1/BBS-3~1.10-/R/include" -DNDEBUG -I"C:/Users/biocbuild/bbs-3.10-bioc/R/library/Rcpp/include" -I"C:/Users/biocbuild/bbs-3.10-bioc/R/library/RcppArmadillo/include" -I"C:/Users/biocbuild/bbs-3.10-bioc/R/library/BH/include" -I"C:/extsoft/include" -O2 -Wall -mtune=core2 -c slalom-classes.cpp -o slalom-classes.o slalom-classes.cpp: In member function 'void SlalomModel::train()': slalom-classes.cpp:223:20: warning: unused variable 'meanerr' [-Wunused-variable] double meanerr = arma::mean(error); ^ slalom-classes.cpp:202:12: warning: unused variable 'meanerr' [-Wunused-variable] double meanerr = arma::mean(error); ^ slalom-classes.cpp: In member function 'void SlalomModel::updateEpsilon()': slalom-classes.cpp:431:23: warning: comparison between signed and unsigned integer expressions [-Wsign-compare] for (int i = 0; i < this->epsilon_E1.n_elem; i++) { ^ C:/Rtools/mingw_32/bin/g++ -std=gnu++11 -shared -s -static-libgcc -o slalom.dll tmp.def RcppExports.o slalom-classes.o -LC:/Users/BIOCBU~1/BBS-3~1.10-/R/bin/i386 -lRlapack -LC:/Users/BIOCBU~1/BBS-3~1.10-/R/bin/i386 -lRblas -lgfortran -lm -lquadmath -LC:/extsoft/lib/i386 -LC:/extsoft/lib -LC:/Users/BIOCBU~1/BBS-3~1.10-/R/bin/i386 -lR installing to C:/Users/biocbuild/bbs-3.10-bioc/meat/slalom.buildbin-libdir/00LOCK-slalom/00new/slalom/libs/i386 ** R ** data *** moving datasets to lazyload DB ** inst ** byte-compile and prepare package for lazy loading ** help *** installing help indices converting help for package 'slalom' finding HTML links ... done Rcpp_SlalomModel html SlalomModel html addResultsToSingleCellExperiment html initSlalom html mesc html newSlalomModel html plotLoadings html plotRelevance html plotTerms html slalom html topTerms html trainSlalom html updateSlalom html ** building package indices ** installing vignettes ** testing if installed package can be loaded from temporary location ** testing if installed package can be loaded from final location ** testing if installed package keeps a record of temporary installation path install for x64 * installing *source* package 'slalom' ... ** libs C:/Rtools/mingw_64/bin/g++ -std=gnu++11 -I"C:/Users/BIOCBU~1/BBS-3~1.10-/R/include" -DNDEBUG -I"C:/Users/biocbuild/bbs-3.10-bioc/R/library/Rcpp/include" -I"C:/Users/biocbuild/bbs-3.10-bioc/R/library/RcppArmadillo/include" -I"C:/Users/biocbuild/bbs-3.10-bioc/R/library/BH/include" -I"C:/extsoft/include" -O2 -Wall -mtune=core2 -c RcppExports.cpp -o RcppExports.o C:/Rtools/mingw_64/bin/g++ -std=gnu++11 -I"C:/Users/BIOCBU~1/BBS-3~1.10-/R/include" -DNDEBUG -I"C:/Users/biocbuild/bbs-3.10-bioc/R/library/Rcpp/include" -I"C:/Users/biocbuild/bbs-3.10-bioc/R/library/RcppArmadillo/include" -I"C:/Users/biocbuild/bbs-3.10-bioc/R/library/BH/include" -I"C:/extsoft/include" -O2 -Wall -mtune=core2 -c slalom-classes.cpp -o slalom-classes.o slalom-classes.cpp: In member function 'void SlalomModel::train()': slalom-classes.cpp:223:20: warning: unused variable 'meanerr' [-Wunused-variable] double meanerr = arma::mean(error); ^ slalom-classes.cpp:202:12: warning: unused variable 'meanerr' [-Wunused-variable] double meanerr = arma::mean(error); ^ slalom-classes.cpp: In member function 'void SlalomModel::updateEpsilon()': slalom-classes.cpp:431:23: warning: comparison between signed and unsigned integer expressions [-Wsign-compare] for (int i = 0; i < this->epsilon_E1.n_elem; i++) { ^ C:/Rtools/mingw_64/bin/g++ -std=gnu++11 -shared -s -static-libgcc -o slalom.dll tmp.def RcppExports.o slalom-classes.o -LC:/Users/BIOCBU~1/BBS-3~1.10-/R/bin/x64 -lRlapack -LC:/Users/BIOCBU~1/BBS-3~1.10-/R/bin/x64 -lRblas -lgfortran -lm -lquadmath -LC:/extsoft/lib/x64 -LC:/extsoft/lib -LC:/Users/BIOCBU~1/BBS-3~1.10-/R/bin/x64 -lR installing to C:/Users/biocbuild/bbs-3.10-bioc/meat/slalom.buildbin-libdir/slalom/libs/x64 ** testing if installed package can be loaded * MD5 sums packaged installation of 'slalom' as slalom_1.8.0.zip * DONE (slalom)