Back to Multiple platform build/check report for BioC 3.10 |
|
This page was generated on 2020-04-15 12:16:06 -0400 (Wed, 15 Apr 2020).
Package 1629/1823 | Hostname | OS / Arch | INSTALL | BUILD | CHECK | BUILD BIN | ||||||
sojourner 1.0.2 Sojourner Developer
| malbec1 | Linux (Ubuntu 18.04.4 LTS) / x86_64 | OK | OK | [ OK ] | |||||||
tokay1 | Windows Server 2012 R2 Standard / x64 | OK | OK | OK | OK | |||||||
merida1 | OS X 10.11.6 El Capitan / x86_64 | OK | OK | OK | OK |
Package: sojourner |
Version: 1.0.2 |
Command: /home/biocbuild/bbs-3.10-bioc/R/bin/R CMD check --install=check:sojourner.install-out.txt --library=/home/biocbuild/bbs-3.10-bioc/R/library --no-vignettes --timings sojourner_1.0.2.tar.gz |
StartedAt: 2020-04-15 06:48:56 -0400 (Wed, 15 Apr 2020) |
EndedAt: 2020-04-15 06:59:38 -0400 (Wed, 15 Apr 2020) |
EllapsedTime: 641.9 seconds |
RetCode: 0 |
Status: OK |
CheckDir: sojourner.Rcheck |
Warnings: 0 |
############################################################################## ############################################################################## ### ### Running command: ### ### /home/biocbuild/bbs-3.10-bioc/R/bin/R CMD check --install=check:sojourner.install-out.txt --library=/home/biocbuild/bbs-3.10-bioc/R/library --no-vignettes --timings sojourner_1.0.2.tar.gz ### ############################################################################## ############################################################################## * using log directory ‘/home/biocbuild/bbs-3.10-bioc/meat/sojourner.Rcheck’ * using R version 3.6.3 (2020-02-29) * using platform: x86_64-pc-linux-gnu (64-bit) * using session charset: UTF-8 * using option ‘--no-vignettes’ * checking for file ‘sojourner/DESCRIPTION’ ... OK * this is package ‘sojourner’ version ‘1.0.2’ * package encoding: UTF-8 * checking package namespace information ... OK * checking package dependencies ... OK * checking if this is a source package ... OK * checking if there is a namespace ... OK * checking for hidden files and directories ... OK * checking for portable file names ... OK * checking for sufficient/correct file permissions ... OK * checking whether package ‘sojourner’ can be installed ... OK * checking installed package size ... OK * checking package directory ... OK * checking ‘build’ directory ... OK * checking DESCRIPTION meta-information ... OK * checking top-level files ... OK * checking for left-over files ... OK * checking index information ... OK * checking package subdirectories ... OK * checking R files for non-ASCII characters ... OK * checking R files for syntax errors ... OK * checking whether the package can be loaded ... OK * checking whether the package can be loaded with stated dependencies ... OK * checking whether the package can be unloaded cleanly ... OK * checking whether the namespace can be loaded with stated dependencies ... OK * checking whether the namespace can be unloaded cleanly ... OK * checking dependencies in R code ... OK * checking S3 generic/method consistency ... OK * checking replacement functions ... OK * checking foreign function calls ... OK * checking R code for possible problems ... OK * checking Rd files ... OK * checking Rd metadata ... OK * checking Rd cross-references ... OK * checking for missing documentation entries ... OK * checking for code/documentation mismatches ... OK * checking Rd \usage sections ... OK * checking Rd contents ... OK * checking for unstated dependencies in examples ... OK * checking files in ‘vignettes’ ... OK * checking examples ... OK Examples with CPU or elapsed time > 5s user system elapsed plotLocalizations_Density-methods 49.432 0.232 49.830 plotTrackOverlay_Dcoef-methods 39.456 0.152 39.981 fitNormDistr-methods 38.472 0.444 39.391 plotTrack-methods 19.404 0.724 20.475 selComponentTracks-methods 17.564 0.920 18.898 maskTracks-methods 17.708 0.164 17.932 Dcoef-methods 15.532 0.404 16.065 fitCDF-methods 13.816 0.296 14.207 getCI-methods 13.676 0.228 13.956 plotIndividualTracks-methods 13.440 0.156 13.679 compare_RT_CDF-methods 7.328 0.368 115.052 fitRT-methods 5.696 0.176 5.110 combineTrackll-methods 4.928 0.428 110.488 * checking for unstated dependencies in ‘tests’ ... OK * checking tests ... Running ‘runTests.R’ OK * checking for unstated dependencies in vignettes ... OK * checking package vignettes in ‘inst/doc’ ... OK * checking running R code from vignettes ... SKIPPED * checking re-building of vignette outputs ... SKIPPED * checking PDF version of manual ... OK * DONE Status: OK
sojourner.Rcheck/00install.out
############################################################################## ############################################################################## ### ### Running command: ### ### /home/biocbuild/bbs-3.10-bioc/R/bin/R CMD INSTALL sojourner ### ############################################################################## ############################################################################## * installing to library ‘/home/biocbuild/bbs-3.10-bioc/R/library’ * installing *source* package ‘sojourner’ ... ** using staged installation ** R ** inst ** byte-compile and prepare package for lazy loading ** help *** installing help indices ** building package indices ** installing vignettes ** testing if installed package can be loaded from temporary location ** testing if installed package can be loaded from final location ** testing if installed package keeps a record of temporary installation path * DONE (sojourner)
sojourner.Rcheck/tests/runTests.Rout
R version 3.6.3 (2020-02-29) -- "Holding the Windsock" Copyright (C) 2020 The R Foundation for Statistical Computing Platform: x86_64-pc-linux-gnu (64-bit) R is free software and comes with ABSOLUTELY NO WARRANTY. You are welcome to redistribute it under certain conditions. Type 'license()' or 'licence()' for distribution details. R is a collaborative project with many contributors. Type 'contributors()' for more information and 'citation()' on how to cite R or R packages in publications. Type 'demo()' for some demos, 'help()' for on-line help, or 'help.start()' for an HTML browser interface to help. Type 'q()' to quit R. > BiocGenerics:::testPackage("sojourner") Reading ParticleTracker file: SWR1_WT_140mW_image6.csv ... mage6 read and processed. Process complete. Reading ParticleTracker file: SWR1_WT_140mW_image6.csv ... mage6 read and processed. Process complete. applying filter, min 5 max Inf Reading ParticleTracker file: SWR1_WT_140mW_image6.csv ... mage6 read and processed. Process complete. applying filter, min 5 max Inf applying filter, min 7 max Inf 45 tracks length > & = 1 45 tracks length > & = 2 45 tracks length > & = 3 45 tracks length > & = 4 45 tracks length > & = 5 45 tracks length > & = 6 ... Reading ParticleTracker file: SWR1_WT_140mW_image6.csv ... mage6 read and processed. Process complete. applying trimmer, min 1 max 20 RUNIT TEST PROTOCOL -- Wed Apr 15 06:59:34 2020 *********************************************** Number of test functions: 4 Number of errors: 0 Number of failures: 0 1 Test Suite : sojourner RUnit Tests - 4 test functions, 0 errors, 0 failures Number of test functions: 4 Number of errors: 0 Number of failures: 0 > > proc.time() user system elapsed 9.508 0.484 10.088
sojourner.Rcheck/sojourner-Ex.timings
name | user | system | elapsed | |
Dcoef-methods | 15.532 | 0.404 | 16.065 | |
bootstrap-methods | 2.780 | 0.128 | 2.931 | |
combineTrackll-methods | 4.928 | 0.428 | 110.488 | |
compareFolder-methods | 0.104 | 0.060 | 0.172 | |
compare_RT_CDF-methods | 7.328 | 0.368 | 115.052 | |
createTrackll-methods | 0.036 | 0.020 | 0.063 | |
densityMaskTracks-methods | 3.288 | 0.132 | 3.455 | |
dispVariance-methods | 0.976 | 0.084 | 1.068 | |
displacementCDF-methods | 2.404 | 0.140 | 2.575 | |
dwellTime-methods | 0.748 | 0.084 | 0.841 | |
exportTrackll-methods | 0.120 | 0.116 | 0.260 | |
filterTrack-methods | 0.132 | 0.036 | 0.174 | |
fitCDF-methods | 13.816 | 0.296 | 14.207 | |
fitNormDistr-methods | 38.472 | 0.444 | 39.391 | |
fitRT-methods | 5.696 | 0.176 | 5.110 | |
getCI-methods | 13.676 | 0.228 | 13.956 | |
hmmTrackll-methods | 0.516 | 0.072 | 0.595 | |
linkSkippedFrames-methods | 0.156 | 0.116 | 0.290 | |
maskTracks-methods | 17.708 | 0.164 | 17.932 | |
mergeTracks-methods | 0.040 | 0.028 | 0.073 | |
msd-methods | 3.008 | 0.236 | 3.352 | |
plotIndividualTracks-methods | 13.440 | 0.156 | 13.679 | |
plotLocalizations_Density-methods | 49.432 | 0.232 | 49.830 | |
plotTrack-methods | 19.404 | 0.724 | 20.475 | |
plotTrackOverlay_Dcoef-methods | 39.456 | 0.152 | 39.981 | |
selComponentTracks-methods | 17.564 | 0.920 | 18.898 | |
sojournerGUI-methods | 0 | 0 | 0 | |
squareDisp-methods | 0.232 | 0.128 | 0.376 | |