Back to Multiple platform build/check report for BioC 3.10 |
|
This page was generated on 2020-04-15 12:48:19 -0400 (Wed, 15 Apr 2020).
Package 1759/1823 | Hostname | OS / Arch | INSTALL | BUILD | CHECK | BUILD BIN | ||||||
tRNAdbImport 1.4.0 Felix G.M. Ernst
| malbec1 | Linux (Ubuntu 18.04.4 LTS) / x86_64 | OK | OK | OK | ![]() | ||||||
tokay1 | Windows Server 2012 R2 Standard / x64 | OK | OK | OK | OK | ![]() | ||||||
merida1 | OS X 10.11.6 El Capitan / x86_64 | OK | OK | OK | [ OK ] | ![]() |
Package: tRNAdbImport |
Version: 1.4.0 |
Command: rm -rf tRNAdbImport.buildbin-libdir && mkdir tRNAdbImport.buildbin-libdir && /Users/biocbuild/BBS/utils/build-universal.sh tRNAdbImport_1.4.0.tar.gz /Library/Frameworks/R.framework/Versions/Current/Resources/bin/R tRNAdbImport.buildbin-libdir |
StartedAt: 2020-04-15 09:01:34 -0400 (Wed, 15 Apr 2020) |
EndedAt: 2020-04-15 09:02:38 -0400 (Wed, 15 Apr 2020) |
EllapsedTime: 64.8 seconds |
RetCode: 0 |
Status: OK |
PackageFile: tRNAdbImport_1.4.0.tgz |
PackageFileSize: 360 KiB |
############################################################################## ############################################################################## ### ### Running command: ### ### rm -rf tRNAdbImport.buildbin-libdir && mkdir tRNAdbImport.buildbin-libdir && /Users/biocbuild/BBS/utils/build-universal.sh tRNAdbImport_1.4.0.tar.gz /Library/Frameworks/R.framework/Versions/Current/Resources/bin/R tRNAdbImport.buildbin-libdir ### ############################################################################## ############################################################################## >>>>>>> >>>>>>> INSTALLATION WITH 'R CMD INSTALL --preclean --no-multiarch --library=tRNAdbImport.buildbin-libdir tRNAdbImport_1.4.0.tar.gz' >>>>>>> * installing *source* package ‘tRNAdbImport’ ... ** using staged installation ** R ** inst ** byte-compile and prepare package for lazy loading ** help *** installing help indices ** building package indices ** installing vignettes ** testing if installed package can be loaded from temporary location ** testing if installed package can be loaded from final location ** testing if installed package keeps a record of temporary installation path * DONE (tRNAdbImport)