Back to Multiple platform build/check report for BioC 3.10 |
|
This page was generated on 2020-04-15 12:29:30 -0400 (Wed, 15 Apr 2020).
Package 1713/1823 | Hostname | OS / Arch | INSTALL | BUILD | CHECK | BUILD BIN | ||||||
tenXplore 1.8.0 VJ Carey
| malbec1 | Linux (Ubuntu 18.04.4 LTS) / x86_64 | OK | OK | OK | ![]() | ||||||
tokay1 | Windows Server 2012 R2 Standard / x64 | OK | OK | OK | [ OK ] | ![]() | ||||||
merida1 | OS X 10.11.6 El Capitan / x86_64 | OK | OK | OK | OK | ![]() |
Package: tenXplore |
Version: 1.8.0 |
Command: rm -rf tenXplore.buildbin-libdir && mkdir tenXplore.buildbin-libdir && C:\Users\biocbuild\bbs-3.10-bioc\R\bin\R.exe CMD INSTALL --merge-multiarch --build --library=tenXplore.buildbin-libdir tenXplore_1.8.0.tar.gz |
StartedAt: 2020-04-15 09:48:36 -0400 (Wed, 15 Apr 2020) |
EndedAt: 2020-04-15 09:49:21 -0400 (Wed, 15 Apr 2020) |
EllapsedTime: 44.7 seconds |
RetCode: 0 |
Status: OK |
PackageFile: tenXplore_1.8.0.zip |
PackageFileSize: 2.2 MiB |
############################################################################## ############################################################################## ### ### Running command: ### ### rm -rf tenXplore.buildbin-libdir && mkdir tenXplore.buildbin-libdir && C:\Users\biocbuild\bbs-3.10-bioc\R\bin\R.exe CMD INSTALL --merge-multiarch --build --library=tenXplore.buildbin-libdir tenXplore_1.8.0.tar.gz ### ############################################################################## ############################################################################## install for i386 * installing *source* package 'tenXplore' ... ** using staged installation ** R ** data ** inst ** byte-compile and prepare package for lazy loading ** help *** installing help indices converting help for package 'tenXplore' finding HTML links ... done CellTypes html tenXplore html tenx500 html ** building package indices ** installing vignettes ** testing if installed package can be loaded from temporary location ** testing if installed package can be loaded from final location ** testing if installed package keeps a record of temporary installation path install for x64 * installing *source* package 'tenXplore' ... ** testing if installed package can be loaded * MD5 sums packaged installation of 'tenXplore' as tenXplore_1.8.0.zip * DONE (tenXplore)