Back to Multiple platform build/check report for BioC 3.10 |
|
This page was generated on 2020-04-15 12:17:57 -0400 (Wed, 15 Apr 2020).
Package 1738/1823 | Hostname | OS / Arch | INSTALL | BUILD | CHECK | BUILD BIN | ||||||
topGO 2.38.1 Adrian Alexa
| malbec1 | Linux (Ubuntu 18.04.4 LTS) / x86_64 | OK | OK | OK | ![]() | ||||||
tokay1 | Windows Server 2012 R2 Standard / x64 | OK | OK | OK | [ OK ] | ![]() | ||||||
merida1 | OS X 10.11.6 El Capitan / x86_64 | OK | OK | OK | OK | ![]() |
Package: topGO |
Version: 2.38.1 |
Command: rm -rf topGO.buildbin-libdir && mkdir topGO.buildbin-libdir && C:\Users\biocbuild\bbs-3.10-bioc\R\bin\R.exe CMD INSTALL --merge-multiarch --build --library=topGO.buildbin-libdir topGO_2.38.1.tar.gz |
StartedAt: 2020-04-15 09:50:05 -0400 (Wed, 15 Apr 2020) |
EndedAt: 2020-04-15 09:50:47 -0400 (Wed, 15 Apr 2020) |
EllapsedTime: 42.1 seconds |
RetCode: 0 |
Status: OK |
PackageFile: topGO_2.38.1.zip |
PackageFileSize: 1.449 MiB |
############################################################################## ############################################################################## ### ### Running command: ### ### rm -rf topGO.buildbin-libdir && mkdir topGO.buildbin-libdir && C:\Users\biocbuild\bbs-3.10-bioc\R\bin\R.exe CMD INSTALL --merge-multiarch --build --library=topGO.buildbin-libdir topGO_2.38.1.tar.gz ### ############################################################################## ############################################################################## install for i386 * installing *source* package 'topGO' ... ** using staged installation ** R ** data ** inst ** byte-compile and prepare package for lazy loading ** help *** installing help indices converting help for package 'topGO' finding HTML links ... done GOTests html GOdata html annFUN html classicCount-class html classicExpr-class html classicScore-class html dagFunctions html diagnosticMethods html elimCount-class html elimExpr-class html elimScore-class html geneList html getPvalues html getSigGroups html groupGOTerms html groupStats-class html inducedGraph html parentChild-class html printGraph-methods html topGO-package html topGOdata-class html topGOresult-class html weightCount-class html ** building package indices ** installing vignettes ** testing if installed package can be loaded from temporary location groupGOTerms: GOBPTerm, GOMFTerm, GOCCTerm environments built. ** testing if installed package can be loaded from final location groupGOTerms: GOBPTerm, GOMFTerm, GOCCTerm environments built. ** testing if installed package keeps a record of temporary installation path install for x64 * installing *source* package 'topGO' ... ** testing if installed package can be loaded groupGOTerms: GOBPTerm, GOMFTerm, GOCCTerm environments built. * MD5 sums packaged installation of 'topGO' as topGO_2.38.1.zip * DONE (topGO)