Back to Multiple platform build/check report for BioC 3.10 |
|
This page was generated on 2020-04-15 12:18:43 -0400 (Wed, 15 Apr 2020).
Package 1763/1823 | Hostname | OS / Arch | INSTALL | BUILD | CHECK | BUILD BIN | ||||||
tspair 1.44.0 Jeffrey T. Leek
| malbec1 | Linux (Ubuntu 18.04.4 LTS) / x86_64 | OK | OK | OK | ![]() | ||||||
tokay1 | Windows Server 2012 R2 Standard / x64 | OK | [ OK ] | OK | OK | ![]() | ||||||
merida1 | OS X 10.11.6 El Capitan / x86_64 | OK | OK | OK | OK | ![]() |
Package: tspair |
Version: 1.44.0 |
Command: chmod a+r tspair -R && C:\Users\biocbuild\bbs-3.10-bioc\R\bin\R.exe CMD build --keep-empty-dirs --no-resave-data tspair |
StartedAt: 2020-04-14 21:03:32 -0400 (Tue, 14 Apr 2020) |
EndedAt: 2020-04-14 21:04:20 -0400 (Tue, 14 Apr 2020) |
EllapsedTime: 47.5 seconds |
RetCode: 0 |
Status: OK |
PackageFile: tspair_1.44.0.tar.gz |
PackageFileSize: 634.4 KiB |
############################################################################## ############################################################################## ### ### Running command: ### ### chmod a+r tspair -R && C:\Users\biocbuild\bbs-3.10-bioc\R\bin\R.exe CMD build --keep-empty-dirs --no-resave-data tspair ### ############################################################################## ############################################################################## * checking for file 'tspair/DESCRIPTION' ... OK * preparing 'tspair': * checking DESCRIPTION meta-information ... OK * cleaning src * checking whether 'INDEX' is up-to-date ... NO * use '--force' to remove the existing 'INDEX' * installing the package to build vignettes * creating vignettes ... OK * cleaning src * checking for LF line-endings in source and make files and shell scripts * checking for empty or unneeded directories * looking to see if a 'data/datalist' file should be added * building 'tspair_1.44.0.tar.gz'