Back to Multiple platform build/check report for BioC 3.10 |
|
This page was generated on 2020-04-15 12:42:16 -0400 (Wed, 15 Apr 2020).
Package 1783/1823 | Hostname | OS / Arch | INSTALL | BUILD | CHECK | BUILD BIN | ||||||
variancePartition 1.16.1 Gabriel E. Hoffman
| malbec1 | Linux (Ubuntu 18.04.4 LTS) / x86_64 | OK | OK | OK | ![]() | ||||||
tokay1 | Windows Server 2012 R2 Standard / x64 | OK | OK | OK | OK | ![]() | ||||||
merida1 | OS X 10.11.6 El Capitan / x86_64 | OK | OK | OK | [ OK ] | ![]() |
Package: variancePartition |
Version: 1.16.1 |
Command: rm -rf variancePartition.buildbin-libdir && mkdir variancePartition.buildbin-libdir && /Users/biocbuild/BBS/utils/build-universal.sh variancePartition_1.16.1.tar.gz /Library/Frameworks/R.framework/Versions/Current/Resources/bin/R variancePartition.buildbin-libdir |
StartedAt: 2020-04-15 09:03:33 -0400 (Wed, 15 Apr 2020) |
EndedAt: 2020-04-15 09:04:28 -0400 (Wed, 15 Apr 2020) |
EllapsedTime: 54.7 seconds |
RetCode: 0 |
Status: OK |
PackageFile: variancePartition_1.16.1.tgz |
PackageFileSize: 3.223 MiB |
############################################################################## ############################################################################## ### ### Running command: ### ### rm -rf variancePartition.buildbin-libdir && mkdir variancePartition.buildbin-libdir && /Users/biocbuild/BBS/utils/build-universal.sh variancePartition_1.16.1.tar.gz /Library/Frameworks/R.framework/Versions/Current/Resources/bin/R variancePartition.buildbin-libdir ### ############################################################################## ############################################################################## >>>>>>> >>>>>>> INSTALLATION WITH 'R CMD INSTALL --preclean --no-multiarch --library=variancePartition.buildbin-libdir variancePartition_1.16.1.tar.gz' >>>>>>> * installing *source* package ‘variancePartition’ ... ** using staged installation ** R ** data ** inst ** byte-compile and prepare package for lazy loading Creating a generic function for ‘eBayes’ from package ‘limma’ in package ‘variancePartition’ Creating a new generic function for ‘classifyTestsF’ in package ‘variancePartition’ Creating a generic function for ‘topTable’ from package ‘limma’ in package ‘variancePartition’ ** help *** installing help indices ** building package indices ** installing vignettes ** testing if installed package can be loaded from temporary location ** testing if installed package can be loaded from final location ** testing if installed package keeps a record of temporary installation path * DONE (variancePartition)