Back to Multiple platform build/check report for BioC 3.10 |
|
This page was generated on 2020-04-15 12:44:32 -0400 (Wed, 15 Apr 2020).
Package 1817/1823 | Hostname | OS / Arch | INSTALL | BUILD | CHECK | BUILD BIN | ||||||
yamss 1.12.1 Leslie Myint
| malbec1 | Linux (Ubuntu 18.04.4 LTS) / x86_64 | OK | OK | OK | |||||||
tokay1 | Windows Server 2012 R2 Standard / x64 | OK | OK | OK | OK | |||||||
merida1 | OS X 10.11.6 El Capitan / x86_64 | OK | OK | OK | [ OK ] |
Package: yamss |
Version: 1.12.1 |
Command: rm -rf yamss.buildbin-libdir && mkdir yamss.buildbin-libdir && /Users/biocbuild/BBS/utils/build-universal.sh yamss_1.12.1.tar.gz /Library/Frameworks/R.framework/Versions/Current/Resources/bin/R yamss.buildbin-libdir |
StartedAt: 2020-04-15 09:06:25 -0400 (Wed, 15 Apr 2020) |
EndedAt: 2020-04-15 09:07:09 -0400 (Wed, 15 Apr 2020) |
EllapsedTime: 44.2 seconds |
RetCode: 0 |
Status: OK |
PackageFile: yamss_1.12.1.tgz |
PackageFileSize: 612 KiB |
############################################################################## ############################################################################## ### ### Running command: ### ### rm -rf yamss.buildbin-libdir && mkdir yamss.buildbin-libdir && /Users/biocbuild/BBS/utils/build-universal.sh yamss_1.12.1.tar.gz /Library/Frameworks/R.framework/Versions/Current/Resources/bin/R yamss.buildbin-libdir ### ############################################################################## ############################################################################## >>>>>>> >>>>>>> INSTALLATION WITH 'R CMD INSTALL --preclean --no-multiarch --library=yamss.buildbin-libdir yamss_1.12.1.tar.gz' >>>>>>> * installing *source* package ‘yamss’ ... ** using staged installation ** R ** data ** inst ** byte-compile and prepare package for lazy loading No methods found in package ‘IRanges’ for request: ‘ifelse’ when loading ‘yamss’ ** help *** installing help indices ** building package indices ** installing vignettes ** testing if installed package can be loaded from temporary location No methods found in package ‘IRanges’ for request: ‘ifelse’ when loading ‘yamss’ ** testing if installed package can be loaded from final location No methods found in package ‘IRanges’ for request: ‘ifelse’ when loading ‘yamss’ ** testing if installed package keeps a record of temporary installation path * DONE (yamss)