Back to Build/check report for BioC 3.10 experimental data |
This page was generated on 2020-04-14 17:46:15 -0400 (Tue, 14 Apr 2020).
Package 274/384 | Hostname | OS / Arch | INSTALL | BUILD | CHECK | ||||||
ProData 1.24.0 Xiaochun Li
| malbec1 | Linux (Ubuntu 18.04.4 LTS) / x86_64 | OK | [ OK ] | OK |
Package: ProData |
Version: 1.24.0 |
Command: /home/biocbuild/bbs-3.10-bioc/R/bin/R CMD build --keep-empty-dirs --no-resave-data ProData |
StartedAt: 2020-04-14 11:27:44 -0400 (Tue, 14 Apr 2020) |
EndedAt: 2020-04-14 11:27:47 -0400 (Tue, 14 Apr 2020) |
EllapsedTime: 3.6 seconds |
RetCode: 0 |
Status: OK |
PackageFile: ProData_1.24.0.tar.gz |
PackageFileSize: 19.05 MiB |
############################################################################## ############################################################################## ### ### Running command: ### ### /home/biocbuild/bbs-3.10-bioc/R/bin/R CMD build --keep-empty-dirs --no-resave-data ProData ### ############################################################################## ############################################################################## * checking for file ‘ProData/DESCRIPTION’ ... OK * preparing ‘ProData’: * checking DESCRIPTION meta-information ... OK * checking for LF line-endings in source and make files and shell scripts * checking for empty or unneeded directories * looking to see if a ‘data/datalist’ file should be added * building ‘ProData_1.24.0.tar.gz’