Back to Build/check report for BioC 3.10 experimental data |
This page was generated on 2020-04-14 17:46:28 -0400 (Tue, 14 Apr 2020).
Package 292/384 | Hostname | OS / Arch | INSTALL | BUILD | CHECK | ||||||
RcisTarget.hg19.motifDBs.cisbpOnly.500bp 1.6.0 Sara Aibar
| malbec1 | Linux (Ubuntu 18.04.4 LTS) / x86_64 | OK | [ OK ] | OK |
Package: RcisTarget.hg19.motifDBs.cisbpOnly.500bp |
Version: 1.6.0 |
Command: /home/biocbuild/bbs-3.10-bioc/R/bin/R CMD build --keep-empty-dirs --no-resave-data RcisTarget.hg19.motifDBs.cisbpOnly.500bp |
StartedAt: 2020-04-14 12:18:40 -0400 (Tue, 14 Apr 2020) |
EndedAt: 2020-04-14 12:18:52 -0400 (Tue, 14 Apr 2020) |
EllapsedTime: 11.8 seconds |
RetCode: 0 |
Status: OK |
PackageFile: RcisTarget.hg19.motifDBs.cisbpOnly.500bp_1.6.0.tar.gz |
PackageFileSize: 53.48 MiB |
############################################################################## ############################################################################## ### ### Running command: ### ### /home/biocbuild/bbs-3.10-bioc/R/bin/R CMD build --keep-empty-dirs --no-resave-data RcisTarget.hg19.motifDBs.cisbpOnly.500bp ### ############################################################################## ############################################################################## * checking for file ‘RcisTarget.hg19.motifDBs.cisbpOnly.500bp/DESCRIPTION’ ... OK * preparing ‘RcisTarget.hg19.motifDBs.cisbpOnly.500bp’: * checking DESCRIPTION meta-information ... OK * checking for LF line-endings in source and make files and shell scripts * checking for empty or unneeded directories * looking to see if a ‘data/datalist’ file should be added * building ‘RcisTarget.hg19.motifDBs.cisbpOnly.500bp_1.6.0.tar.gz’