Back to Build/check report for BioC 3.10 experimental data |
This page was generated on 2020-04-14 17:46:17 -0400 (Tue, 14 Apr 2020).
Package 181/384 | Hostname | OS / Arch | INSTALL | BUILD | CHECK | ||||||
humanStemCell 0.26.0 R. Gentleman
| malbec1 | Linux (Ubuntu 18.04.4 LTS) / x86_64 | OK | [ OK ] | WARNINGS | ![]() |
Package: humanStemCell |
Version: 0.26.0 |
Command: /home/biocbuild/bbs-3.10-bioc/R/bin/R CMD build --keep-empty-dirs --no-resave-data humanStemCell |
StartedAt: 2020-04-14 11:30:52 -0400 (Tue, 14 Apr 2020) |
EndedAt: 2020-04-14 11:31:55 -0400 (Tue, 14 Apr 2020) |
EllapsedTime: 62.5 seconds |
RetCode: 0 |
Status: OK |
PackageFile: humanStemCell_0.26.0.tar.gz |
PackageFileSize: 30.64 MiB |
############################################################################## ############################################################################## ### ### Running command: ### ### /home/biocbuild/bbs-3.10-bioc/R/bin/R CMD build --keep-empty-dirs --no-resave-data humanStemCell ### ############################################################################## ############################################################################## * checking for file ‘humanStemCell/DESCRIPTION’ ... OK * preparing ‘humanStemCell’: * checking DESCRIPTION meta-information ... OK * checking for LF line-endings in source and make files and shell scripts * checking for empty or unneeded directories * looking to see if a ‘data/datalist’ file should be added * building ‘humanStemCell_0.26.0.tar.gz’