Back to Build/check report for BioC 3.10 experimental data |
This page was generated on 2020-04-14 17:46:19 -0400 (Tue, 14 Apr 2020).
Package 223/384 | Hostname | OS / Arch | INSTALL | BUILD | CHECK | ||||||
minfiData 0.32.0 Kasper Daniel Hansen
| malbec1 | Linux (Ubuntu 18.04.4 LTS) / x86_64 | [ OK ] | OK | OK | ![]() |
Package: minfiData |
Version: 0.32.0 |
Command: /home/biocbuild/bbs-3.10-bioc/R/bin/R CMD INSTALL minfiData |
StartedAt: 2020-04-14 11:19:40 -0400 (Tue, 14 Apr 2020) |
EndedAt: 2020-04-14 11:20:46 -0400 (Tue, 14 Apr 2020) |
EllapsedTime: 65.5 seconds |
RetCode: 0 |
Status: OK |
############################################################################## ############################################################################## ### ### Running command: ### ### /home/biocbuild/bbs-3.10-bioc/R/bin/R CMD INSTALL minfiData ### ############################################################################## ############################################################################## * installing to library ‘/home/biocbuild/bbs-3.10-bioc/R/library’ * installing *source* package ‘minfiData’ ... ** using staged installation ** data *** moving datasets to lazyload DB ** inst ** help *** installing help indices ** building package indices ** testing if installed package can be loaded from temporary location ** testing if installed package can be loaded from final location ** testing if installed package keeps a record of temporary installation path * DONE (minfiData)