Back to Multiple platform build/check report for BioC 3.11 |
|
This page was generated on 2020-01-16 13:51:47 -0500 (Thu, 16 Jan 2020).
Package 12/1818 | Hostname | OS / Arch | INSTALL | BUILD | CHECK | BUILD BIN | ||||||
ACE 1.5.0 Jos B Poell
| malbec2 | Linux (Ubuntu 18.04.3 LTS) / x86_64 | OK | OK | OK | |||||||
tokay2 | Windows Server 2012 R2 Standard / x64 | OK | OK | OK | OK | |||||||
celaya2 | OS X 10.11.6 El Capitan / x86_64 | OK | OK | [ OK ] | OK |
Package: ACE |
Version: 1.5.0 |
Command: /Library/Frameworks/R.framework/Versions/Current/Resources/bin/R CMD check --install=check:ACE.install-out.txt --library=/Library/Frameworks/R.framework/Versions/Current/Resources/library --no-vignettes --timings ACE_1.5.0.tar.gz |
StartedAt: 2020-01-16 01:31:58 -0500 (Thu, 16 Jan 2020) |
EndedAt: 2020-01-16 01:36:42 -0500 (Thu, 16 Jan 2020) |
EllapsedTime: 283.9 seconds |
RetCode: 0 |
Status: OK |
CheckDir: ACE.Rcheck |
Warnings: 0 |
############################################################################## ############################################################################## ### ### Running command: ### ### /Library/Frameworks/R.framework/Versions/Current/Resources/bin/R CMD check --install=check:ACE.install-out.txt --library=/Library/Frameworks/R.framework/Versions/Current/Resources/library --no-vignettes --timings ACE_1.5.0.tar.gz ### ############################################################################## ############################################################################## * using log directory ‘/Users/biocbuild/bbs-3.11-bioc/meat/ACE.Rcheck’ * using R Under development (unstable) (2019-12-14 r77572) * using platform: x86_64-apple-darwin15.6.0 (64-bit) * using session charset: UTF-8 * using option ‘--no-vignettes’ * checking for file ‘ACE/DESCRIPTION’ ... OK * this is package ‘ACE’ version ‘1.5.0’ * package encoding: UTF-8 * checking package namespace information ... OK * checking package dependencies ... OK * checking if this is a source package ... OK * checking if there is a namespace ... OK * checking for hidden files and directories ... OK * checking for portable file names ... OK * checking for sufficient/correct file permissions ... OK * checking whether package ‘ACE’ can be installed ... OK * checking installed package size ... OK * checking package directory ... OK * checking ‘build’ directory ... OK * checking DESCRIPTION meta-information ... OK * checking top-level files ... OK * checking for left-over files ... OK * checking index information ... OK * checking package subdirectories ... OK * checking R files for non-ASCII characters ... OK * checking R files for syntax errors ... OK * checking whether the package can be loaded ... OK * checking whether the package can be loaded with stated dependencies ... OK * checking whether the package can be unloaded cleanly ... OK * checking whether the namespace can be loaded with stated dependencies ... OK * checking whether the namespace can be unloaded cleanly ... OK * checking dependencies in R code ... NOTE Unexported object imported by a ':::' call: ‘QDNAseq:::sdDiffTrim’ See the note in ?`:::` about the use of this operator. * checking S3 generic/method consistency ... OK * checking replacement functions ... OK * checking foreign function calls ... OK * checking R code for possible problems ... OK * checking Rd files ... OK * checking Rd metadata ... OK * checking Rd cross-references ... OK * checking for missing documentation entries ... OK * checking for code/documentation mismatches ... OK * checking Rd \usage sections ... OK * checking Rd contents ... OK * checking for unstated dependencies in examples ... OK * checking contents of ‘data’ directory ... OK * checking data for non-ASCII characters ... OK * checking data for ASCII and uncompressed saves ... OK * checking files in ‘vignettes’ ... OK * checking examples ... OK Examples with CPU (user + system) or elapsed time > 5s user system elapsed squaremodelsummary 17.230 0.358 18.260 squaremodel 16.899 0.345 19.925 twosamplecompare 10.315 0.086 10.423 loopsquaremodel 7.712 0.180 7.896 * checking for unstated dependencies in vignettes ... OK * checking package vignettes in ‘inst/doc’ ... OK * checking running R code from vignettes ... SKIPPED * checking re-building of vignette outputs ... SKIPPED * checking PDF version of manual ... OK * DONE Status: 1 NOTE See ‘/Users/biocbuild/bbs-3.11-bioc/meat/ACE.Rcheck/00check.log’ for details.
ACE.Rcheck/00install.out
############################################################################## ############################################################################## ### ### Running command: ### ### /Library/Frameworks/R.framework/Versions/Current/Resources/bin/R CMD INSTALL ACE ### ############################################################################## ############################################################################## * installing to library ‘/Library/Frameworks/R.framework/Versions/4.0/Resources/library’ * installing *source* package ‘ACE’ ... ** using staged installation ** R ** data *** moving datasets to lazyload DB ** inst ** byte-compile and prepare package for lazy loading ** help *** installing help indices ** building package indices ** installing vignettes ** testing if installed package can be loaded from temporary location ** testing if installed package can be loaded from final location ** testing if installed package keeps a record of temporary installation path * DONE (ACE)
ACE.Rcheck/ACE-Ex.timings
name | user | system | elapsed | |
ACEcall | 3.117 | 0.821 | 4.007 | |
analyzegenomiclocations | 0.032 | 0.006 | 0.037 | |
compresstemplate | 0.104 | 0.003 | 0.106 | |
copyNumbersSegmented | 1.724 | 0.045 | 1.770 | |
correlationmatrix | 0.240 | 0.009 | 0.248 | |
forcesegmentsontemplate | 0.636 | 0.010 | 0.648 | |
getadjustedsegments | 0.356 | 0.010 | 0.367 | |
linkvariants | 0.047 | 0.007 | 0.054 | |
loopsquaremodel | 7.712 | 0.180 | 7.896 | |
objectsampletotemplate | 0.011 | 0.002 | 0.013 | |
postanalysisloop | 0.001 | 0.001 | 0.001 | |
runACE | 0.000 | 0.000 | 0.001 | |
singlemodel | 1.767 | 0.064 | 1.835 | |
singleplot | 2.307 | 0.036 | 2.345 | |
squaremodel | 16.899 | 0.345 | 19.925 | |
squaremodelsummary | 17.230 | 0.358 | 18.260 | |
templatefromequalsegments | 0.049 | 0.018 | 0.067 | |
twosamplecompare | 10.315 | 0.086 | 10.423 | |