Back to Multiple platform build/check report for BioC 3.11 |
|
This page was generated on 2020-07-14 13:52:08 -0400 (Tue, 14 Jul 2020).
TO THE DEVELOPERS/MAINTAINERS OF THE CTDquerier PACKAGE: Please make sure to use the following settings in order to reproduce any error or warning you see on this page. |
Package 402/1905 | Hostname | OS / Arch | INSTALL | BUILD | CHECK | BUILD BIN | ||||||
Carles Hernandez-Ferrer
| malbec2 | Linux (Ubuntu 18.04.4 LTS) / x86_64 | OK | OK | ERROR | |||||||
tokay2 | Windows Server 2012 R2 Standard / x64 | OK | OK | ERROR | [ OK ] | |||||||
machv2 | macOS 10.14.6 Mojave / x86_64 | OK | OK | ERROR | OK |
Package: CTDquerier |
Version: 1.8.0 |
Command: rm -rf CTDquerier.buildbin-libdir && mkdir CTDquerier.buildbin-libdir && C:\Users\biocbuild\bbs-3.11-bioc\R\bin\R.exe CMD INSTALL --merge-multiarch --build --library=CTDquerier.buildbin-libdir CTDquerier_1.8.0.tar.gz |
StartedAt: 2020-07-14 12:39:48 -0400 (Tue, 14 Jul 2020) |
EndedAt: 2020-07-14 12:40:17 -0400 (Tue, 14 Jul 2020) |
EllapsedTime: 28.5 seconds |
RetCode: 0 |
Status: OK |
PackageFile: CTDquerier_1.8.0.zip |
PackageFileSize: 7.566 MiB |
############################################################################## ############################################################################## ### ### Running command: ### ### rm -rf CTDquerier.buildbin-libdir && mkdir CTDquerier.buildbin-libdir && C:\Users\biocbuild\bbs-3.11-bioc\R\bin\R.exe CMD INSTALL --merge-multiarch --build --library=CTDquerier.buildbin-libdir CTDquerier_1.8.0.tar.gz ### ############################################################################## ############################################################################## install for i386 * installing *source* package 'CTDquerier' ... ** using staged installation ** R ** data *** moving datasets to lazyload DB ** inst ** byte-compile and prepare package for lazy loading ** help *** installing help indices converting help for package 'CTDquerier' finding HTML links ... done CTDdata-class html CTDquerier html download_ctd_chem html download_ctd_dise html download_ctd_genes html enrich-methods html gala html get_table-methods html get_terms-methods html leaf_plot html load_ctd_chem html load_ctd_dise html load_ctd_gene html query_ctd_chem html query_ctd_dise html query_ctd_gene html ** building package indices ** installing vignettes ** testing if installed package can be loaded from temporary location Warning: Package 'CTDquerier' is deprecated and will be removed from Bioconductor version 3.12 ** testing if installed package can be loaded from final location Warning: Package 'CTDquerier' is deprecated and will be removed from Bioconductor version 3.12 ** testing if installed package keeps a record of temporary installation path install for x64 * installing *source* package 'CTDquerier' ... ** testing if installed package can be loaded Warning: Package 'CTDquerier' is deprecated and will be removed from Bioconductor version 3.12 * MD5 sums packaged installation of 'CTDquerier' as CTDquerier_1.8.0.zip * DONE (CTDquerier)