Back to Multiple platform build/check report for BioC 3.11 |
|
This page was generated on 2020-01-16 13:41:20 -0500 (Thu, 16 Jan 2020).
Package 225/1818 | Hostname | OS / Arch | INSTALL | BUILD | CHECK | BUILD BIN | ||||||
Cardinal 2.5.0 Kylie A. Bemis
| malbec2 | Linux (Ubuntu 18.04.3 LTS) / x86_64 | OK | OK | OK | ![]() | ||||||
tokay2 | Windows Server 2012 R2 Standard / x64 | OK | OK | OK | OK | ![]() | ||||||
celaya2 | OS X 10.11.6 El Capitan / x86_64 | OK | [ OK ] | OK | OK | ![]() |
Package: Cardinal |
Version: 2.5.0 |
Command: /Library/Frameworks/R.framework/Versions/Current/Resources/bin/R CMD build --keep-empty-dirs --no-resave-data Cardinal |
StartedAt: 2020-01-15 21:55:49 -0500 (Wed, 15 Jan 2020) |
EndedAt: 2020-01-15 21:59:47 -0500 (Wed, 15 Jan 2020) |
EllapsedTime: 238.4 seconds |
RetCode: 0 |
Status: OK |
PackageFile: Cardinal_2.5.0.tar.gz |
PackageFileSize: 4.494 MiB |
############################################################################## ############################################################################## ### ### Running command: ### ### /Library/Frameworks/R.framework/Versions/Current/Resources/bin/R CMD build --keep-empty-dirs --no-resave-data Cardinal ### ############################################################################## ############################################################################## * checking for file ‘Cardinal/DESCRIPTION’ ... OK * preparing ‘Cardinal’: * checking DESCRIPTION meta-information ... OK * cleaning src * installing the package to build vignettes * creating vignettes ... OK * cleaning src * checking for LF line-endings in source and make files and shell scripts * checking for empty or unneeded directories * building ‘Cardinal_2.5.0.tar.gz’