Back to Multiple platform build/check report for BioC 3.11 |
|
This page was generated on 2020-01-16 13:35:20 -0500 (Thu, 16 Jan 2020).
Package 365/1818 | Hostname | OS / Arch | INSTALL | BUILD | CHECK | BUILD BIN | ||||||
CorMut 1.29.0 Zhenpeng Li
| malbec2 | Linux (Ubuntu 18.04.3 LTS) / x86_64 | OK | OK | OK | ![]() | ||||||
tokay2 | Windows Server 2012 R2 Standard / x64 | OK | OK | OK | OK | ![]() | ||||||
celaya2 | OS X 10.11.6 El Capitan / x86_64 | OK | OK | [ OK ] | OK | ![]() |
Package: CorMut |
Version: 1.29.0 |
Command: /Library/Frameworks/R.framework/Versions/Current/Resources/bin/R CMD check --install=check:CorMut.install-out.txt --library=/Library/Frameworks/R.framework/Versions/Current/Resources/library --no-vignettes --timings CorMut_1.29.0.tar.gz |
StartedAt: 2020-01-16 03:18:53 -0500 (Thu, 16 Jan 2020) |
EndedAt: 2020-01-16 03:20:59 -0500 (Thu, 16 Jan 2020) |
EllapsedTime: 126.4 seconds |
RetCode: 0 |
Status: OK |
CheckDir: CorMut.Rcheck |
Warnings: 0 |
############################################################################## ############################################################################## ### ### Running command: ### ### /Library/Frameworks/R.framework/Versions/Current/Resources/bin/R CMD check --install=check:CorMut.install-out.txt --library=/Library/Frameworks/R.framework/Versions/Current/Resources/library --no-vignettes --timings CorMut_1.29.0.tar.gz ### ############################################################################## ############################################################################## * using log directory ‘/Users/biocbuild/bbs-3.11-bioc/meat/CorMut.Rcheck’ * using R Under development (unstable) (2019-12-14 r77572) * using platform: x86_64-apple-darwin15.6.0 (64-bit) * using session charset: UTF-8 * using option ‘--no-vignettes’ * checking for file ‘CorMut/DESCRIPTION’ ... OK * checking extension type ... Package * this is package ‘CorMut’ version ‘1.29.0’ * checking package namespace information ... OK * checking package dependencies ... OK * checking if this is a source package ... OK * checking if there is a namespace ... OK * checking for hidden files and directories ... OK * checking for portable file names ... OK * checking for sufficient/correct file permissions ... OK * checking whether package ‘CorMut’ can be installed ... OK * checking installed package size ... OK * checking package directory ... OK * checking ‘build’ directory ... OK * checking DESCRIPTION meta-information ... OK * checking top-level files ... OK * checking for left-over files ... OK * checking index information ... OK * checking package subdirectories ... OK * checking R files for non-ASCII characters ... OK * checking R files for syntax errors ... OK * checking whether the package can be loaded ... OK * checking whether the package can be loaded with stated dependencies ... OK * checking whether the package can be unloaded cleanly ... OK * checking whether the namespace can be loaded with stated dependencies ... OK * checking whether the namespace can be unloaded cleanly ... OK * checking dependencies in R code ... OK * checking S3 generic/method consistency ... OK * checking replacement functions ... OK * checking foreign function calls ... OK * checking R code for possible problems ... OK * checking Rd files ... OK * checking Rd metadata ... OK * checking Rd cross-references ... OK * checking for missing documentation entries ... OK * checking for code/documentation mismatches ... OK * checking Rd \usage sections ... OK * checking Rd contents ... OK * checking for unstated dependencies in examples ... OK * checking sizes of PDF files under ‘inst/doc’ ... OK * checking files in ‘vignettes’ ... OK * checking examples ... OK Examples with CPU (user + system) or elapsed time > 5s user system elapsed biCompare-methods 27.916 0.982 34.709 miAA 9.789 0.941 10.734 ckaksAA 5.878 0.074 6.084 plot-methods 4.983 0.045 5.036 jiAA 4.932 0.091 5.025 * checking for unstated dependencies in vignettes ... OK * checking package vignettes in ‘inst/doc’ ... OK * checking running R code from vignettes ... SKIPPED * checking re-building of vignette outputs ... SKIPPED * checking PDF version of manual ... OK * DONE Status: OK
CorMut.Rcheck/00install.out
############################################################################## ############################################################################## ### ### Running command: ### ### /Library/Frameworks/R.framework/Versions/Current/Resources/bin/R CMD INSTALL CorMut ### ############################################################################## ############################################################################## * installing to library ‘/Library/Frameworks/R.framework/Versions/4.0/Resources/library’ * installing *source* package ‘CorMut’ ... ** using staged installation ** R ** inst ** byte-compile and prepare package for lazy loading Warning in .recursiveCallTest(body, fname) : the body of the generic function for ‘seq_num.CorMut’ calls 'standardGeneric' to dispatch on a different name ("aslot")! Warning in .recursiveCallTest(body, fname) : the body of the generic function for ‘kaks.CorMut’ calls 'standardGeneric' to dispatch on a different name ("aslot")! Warning in .recursiveCallTest(body, fname) : the body of the generic function for ‘lod.CorMut’ calls 'standardGeneric' to dispatch on a different name ("aslot")! Warning in .recursiveCallTest(body, fname) : the body of the generic function for ‘q.CorMut’ calls 'standardGeneric' to dispatch on a different name ("aslot")! Warning in .recursiveCallTest(body, fname) : the body of the generic function for ‘ka.CorMut’ calls 'standardGeneric' to dispatch on a different name ("aslot")! Warning in .recursiveCallTest(body, fname) : the body of the generic function for ‘ks.CorMut’ calls 'standardGeneric' to dispatch on a different name ("aslot")! Warning in .recursiveCallTest(body, fname) : the body of the generic function for ‘mi.CorMut’ calls 'standardGeneric' to dispatch on a different name ("aslot")! Warning in .recursiveCallTest(body, fname) : the body of the generic function for ‘p.value.CorMut’ calls 'standardGeneric' to dispatch on a different name ("aslot")! Warning in .recursiveCallTest(body, fname) : the body of the generic function for ‘ckaks.CorMut’ calls 'standardGeneric' to dispatch on a different name ("aslot")! Warning in .recursiveCallTest(body, fname) : the body of the generic function for ‘method.CorMut’ calls 'standardGeneric' to dispatch on a different name ("aslot")! Warning in .recursiveCallTest(body, fname) : the body of the generic function for ‘positiveSite01.CorMut’ calls 'standardGeneric' to dispatch on a different name ("aslot")! Warning in .recursiveCallTest(body, fname) : the body of the generic function for ‘positiveSite02.CorMut’ calls 'standardGeneric' to dispatch on a different name ("aslot")! Warning in .recursiveCallTest(body, fname) : the body of the generic function for ‘state_1.CorMut’ calls 'standardGeneric' to dispatch on a different name ("aslot")! Warning in .recursiveCallTest(body, fname) : the body of the generic function for ‘statistic_1.CorMut’ calls 'standardGeneric' to dispatch on a different name ("aslot")! Warning in .recursiveCallTest(body, fname) : the body of the generic function for ‘state_2.CorMut’ calls 'standardGeneric' to dispatch on a different name ("aslot")! Warning in .recursiveCallTest(body, fname) : the body of the generic function for ‘statistic_2.CorMut’ calls 'standardGeneric' to dispatch on a different name ("aslot")! ** help *** installing help indices ** building package indices ** installing vignettes ** testing if installed package can be loaded from temporary location ** testing if installed package can be loaded from final location ** testing if installed package keeps a record of temporary installation path * DONE (CorMut)
CorMut.Rcheck/CorMut-Ex.timings
name | user | system | elapsed | |
JI-class | 0.001 | 0.000 | 0.000 | |
MI-class | 0.001 | 0.001 | 0.000 | |
biCkaksCodon-class | 0 | 0 | 0 | |
biCompare-class | 0.001 | 0.000 | 0.001 | |
biCompare-methods | 27.916 | 0.982 | 34.709 | |
ckaks-class | 0.000 | 0.000 | 0.001 | |
ckaksAA | 5.878 | 0.074 | 6.084 | |
ckaksCodon | 3.275 | 0.024 | 3.300 | |
filterSites-methods | 2.373 | 0.014 | 2.388 | |
jiAA | 4.932 | 0.091 | 5.025 | |
kaksAA-class | 0.001 | 0.000 | 0.000 | |
kaksAA | 3.027 | 0.021 | 3.049 | |
kaksCodon-class | 0 | 0 | 0 | |
kaksCodon | 2.323 | 0.007 | 2.330 | |
miAA | 9.789 | 0.941 | 10.734 | |
miCodon | 3.411 | 0.044 | 3.457 | |
plot-methods | 4.983 | 0.045 | 5.036 | |
seqFormat-methods | 0.855 | 0.008 | 0.864 | |