Back to Multiple platform build/check report for BioC 3.11 |
|
This page was generated on 2020-10-17 11:58:21 -0400 (Sat, 17 Oct 2020).
TO THE DEVELOPERS/MAINTAINERS OF THE DChIPRep PACKAGE: Please make sure to use the following settings in order to reproduce any error or warning you see on this page. |
Package 426/1905 | Hostname | OS / Arch | INSTALL | BUILD | CHECK | BUILD BIN | ||||||
Bernd Klaus
| malbec2 | Linux (Ubuntu 18.04.4 LTS) / x86_64 | OK | OK | WARNINGS | |||||||
tokay2 | Windows Server 2012 R2 Standard / x64 | OK | OK | WARNINGS | OK | |||||||
machv2 | macOS 10.14.6 Mojave / x86_64 | OK | OK | WARNINGS | [ OK ] |
Package: DChIPRep |
Version: 1.18.0 |
Command: rm -rf DChIPRep.buildbin-libdir && mkdir DChIPRep.buildbin-libdir && /Users/biocbuild/BBS/utils/build-universal.sh DChIPRep_1.18.0.tar.gz /Library/Frameworks/R.framework/Versions/Current/Resources/bin/R DChIPRep.buildbin-libdir |
StartedAt: 2020-10-17 06:54:29 -0400 (Sat, 17 Oct 2020) |
EndedAt: 2020-10-17 06:56:34 -0400 (Sat, 17 Oct 2020) |
EllapsedTime: 124.4 seconds |
RetCode: 0 |
Status: OK |
PackageFile: DChIPRep_1.18.0.tgz |
PackageFileSize: 1.667 MiB |
############################################################################## ############################################################################## ### ### Running command: ### ### rm -rf DChIPRep.buildbin-libdir && mkdir DChIPRep.buildbin-libdir && /Users/biocbuild/BBS/utils/build-universal.sh DChIPRep_1.18.0.tar.gz /Library/Frameworks/R.framework/Versions/Current/Resources/bin/R DChIPRep.buildbin-libdir ### ############################################################################## ############################################################################## >>>>>>> >>>>>>> INSTALLATION WITH 'R CMD INSTALL --preclean --no-multiarch --library=DChIPRep.buildbin-libdir DChIPRep_1.18.0.tar.gz' >>>>>>> * installing *source* package ‘DChIPRep’ ... ** using staged installation ** R ** data *** moving datasets to lazyload DB ** exec ** inst ** byte-compile and prepare package for lazy loading ** help *** installing help indices ** building package indices ** installing vignettes ** testing if installed package can be loaded from temporary location Warning: Package 'DChIPRep' is deprecated and will be removed from Bioconductor version 3.12 ** testing if installed package can be loaded from final location Warning: Package 'DChIPRep' is deprecated and will be removed from Bioconductor version 3.12 ** testing if installed package keeps a record of temporary installation path * DONE (DChIPRep)