Back to Multiple platform build/check report for BioC 3.11 |
|
This page was generated on 2020-01-16 13:45:40 -0500 (Thu, 16 Jan 2020).
Package 423/1818 | Hostname | OS / Arch | INSTALL | BUILD | CHECK | BUILD BIN | ||||||
DeepBlueR 1.13.0 Felipe Albrecht
| malbec2 | Linux (Ubuntu 18.04.3 LTS) / x86_64 | OK | OK | OK | |||||||
tokay2 | Windows Server 2012 R2 Standard / x64 | OK | OK | OK | OK | |||||||
celaya2 | OS X 10.11.6 El Capitan / x86_64 | OK | OK | OK | [ OK ] |
Package: DeepBlueR |
Version: 1.13.0 |
Command: rm -rf DeepBlueR.buildbin-libdir && mkdir DeepBlueR.buildbin-libdir && /Users/biocbuild/BBS/utils/build-universal.sh DeepBlueR_1.13.0.tar.gz /Library/Frameworks/R.framework/Versions/Current/Resources/bin/R DeepBlueR.buildbin-libdir |
StartedAt: 2020-01-16 10:45:37 -0500 (Thu, 16 Jan 2020) |
EndedAt: 2020-01-16 10:46:35 -0500 (Thu, 16 Jan 2020) |
EllapsedTime: 57.5 seconds |
RetCode: 0 |
Status: OK |
PackageFile: DeepBlueR_1.13.0.tgz |
PackageFileSize: 2.076 MiB |
############################################################################## ############################################################################## ### ### Running command: ### ### rm -rf DeepBlueR.buildbin-libdir && mkdir DeepBlueR.buildbin-libdir && /Users/biocbuild/BBS/utils/build-universal.sh DeepBlueR_1.13.0.tar.gz /Library/Frameworks/R.framework/Versions/Current/Resources/bin/R DeepBlueR.buildbin-libdir ### ############################################################################## ############################################################################## >>>>>>> >>>>>>> INSTALLATION WITH 'R CMD INSTALL --preclean --no-multiarch --library=DeepBlueR.buildbin-libdir DeepBlueR_1.13.0.tar.gz' >>>>>>> * installing *source* package ‘DeepBlueR’ ... ** using staged installation ** R ** demo ** inst ** byte-compile and prepare package for lazy loading Called method: deepblue_list_column_types Reported status was: okay Called method: deepblue_info Reported status was: okay ** help *** installing help indices ** building package indices ** installing vignettes ** testing if installed package can be loaded from temporary location ** testing if installed package can be loaded from final location ** testing if installed package keeps a record of temporary installation path * DONE (DeepBlueR)