Back to Multiple platform build/check report for BioC 3.11 |
|
This page was generated on 2020-01-16 13:40:51 -0500 (Thu, 16 Jan 2020).
Package 503/1818 | Hostname | OS / Arch | INSTALL | BUILD | CHECK | BUILD BIN | ||||||
EBSeqHMM 1.21.0 Ning Leng
| malbec2 | Linux (Ubuntu 18.04.3 LTS) / x86_64 | OK | OK | OK | ![]() | ||||||
tokay2 | Windows Server 2012 R2 Standard / x64 | OK | OK | OK | OK | ![]() | ||||||
celaya2 | OS X 10.11.6 El Capitan / x86_64 | OK | OK | [ OK ] | OK | ![]() |
Package: EBSeqHMM |
Version: 1.21.0 |
Command: /Library/Frameworks/R.framework/Versions/Current/Resources/bin/R CMD check --install=check:EBSeqHMM.install-out.txt --library=/Library/Frameworks/R.framework/Versions/Current/Resources/library --no-vignettes --timings EBSeqHMM_1.21.0.tar.gz |
StartedAt: 2020-01-16 04:03:22 -0500 (Thu, 16 Jan 2020) |
EndedAt: 2020-01-16 04:05:02 -0500 (Thu, 16 Jan 2020) |
EllapsedTime: 100.6 seconds |
RetCode: 0 |
Status: OK |
CheckDir: EBSeqHMM.Rcheck |
Warnings: 0 |
############################################################################## ############################################################################## ### ### Running command: ### ### /Library/Frameworks/R.framework/Versions/Current/Resources/bin/R CMD check --install=check:EBSeqHMM.install-out.txt --library=/Library/Frameworks/R.framework/Versions/Current/Resources/library --no-vignettes --timings EBSeqHMM_1.21.0.tar.gz ### ############################################################################## ############################################################################## * using log directory ‘/Users/biocbuild/bbs-3.11-bioc/meat/EBSeqHMM.Rcheck’ * using R Under development (unstable) (2019-12-14 r77572) * using platform: x86_64-apple-darwin15.6.0 (64-bit) * using session charset: UTF-8 * using option ‘--no-vignettes’ * checking for file ‘EBSeqHMM/DESCRIPTION’ ... OK * checking extension type ... Package * this is package ‘EBSeqHMM’ version ‘1.21.0’ * checking package namespace information ... OK * checking package dependencies ... OK * checking if this is a source package ... OK * checking if there is a namespace ... OK * checking for hidden files and directories ... OK * checking for portable file names ... OK * checking for sufficient/correct file permissions ... OK * checking whether package ‘EBSeqHMM’ can be installed ... OK * checking installed package size ... OK * checking package directory ... OK * checking ‘build’ directory ... OK * checking DESCRIPTION meta-information ... OK * checking top-level files ... OK * checking for left-over files ... OK * checking index information ... OK * checking package subdirectories ... OK * checking R files for non-ASCII characters ... OK * checking R files for syntax errors ... OK * checking whether the package can be loaded ... OK * checking whether the package can be loaded with stated dependencies ... OK * checking whether the package can be unloaded cleanly ... OK * checking whether the namespace can be loaded with stated dependencies ... OK * checking whether the namespace can be unloaded cleanly ... OK * checking dependencies in R code ... OK * checking S3 generic/method consistency ... OK * checking replacement functions ... OK * checking foreign function calls ... OK * checking R code for possible problems ... NOTE EBHMMNBfun: no visible binding for global variable ‘median’ EBHMMNBfun : <anonymous>: no visible global function definition for ‘quantile’ EBHMMNBfun: no visible global function definition for ‘optim’ EBHMMNBfunForMulti: no visible binding for global variable ‘median’ EBHMMNBfunForMulti : <anonymous>: no visible global function definition for ‘quantile’ EBHMMNBfunForMulti: no visible global function definition for ‘optim’ EBSeqHMMTest : <anonymous>: no visible global function definition for ‘quantile’ EBTest_ext: no visible global function definition for ‘quantile’ EBTest_ext: no visible binding for global variable ‘var’ PlotExp: no visible global function definition for ‘plot’ PlotExp: no visible global function definition for ‘axis’ PlotExp : <anonymous>: no visible global function definition for ‘median’ PlotExp: no visible global function definition for ‘lines’ beta.mom: no visible global function definition for ‘var’ Undefined global functions or variables: axis lines median optim plot quantile var Consider adding importFrom("graphics", "axis", "lines", "plot") importFrom("stats", "median", "optim", "quantile", "var") to your NAMESPACE file. * checking Rd files ... OK * checking Rd metadata ... OK * checking Rd cross-references ... OK * checking for missing documentation entries ... OK * checking for code/documentation mismatches ... OK * checking Rd \usage sections ... OK * checking Rd contents ... OK * checking for unstated dependencies in examples ... OK * checking contents of ‘data’ directory ... OK * checking data for non-ASCII characters ... OK * checking data for ASCII and uncompressed saves ... OK * checking sizes of PDF files under ‘inst/doc’ ... OK * checking files in ‘vignettes’ ... OK * checking examples ... OK * checking for unstated dependencies in vignettes ... OK * checking package vignettes in ‘inst/doc’ ... OK * checking running R code from vignettes ... SKIPPED * checking re-building of vignette outputs ... SKIPPED * checking PDF version of manual ... OK * DONE Status: 1 NOTE See ‘/Users/biocbuild/bbs-3.11-bioc/meat/EBSeqHMM.Rcheck/00check.log’ for details.
EBSeqHMM.Rcheck/00install.out
############################################################################## ############################################################################## ### ### Running command: ### ### /Library/Frameworks/R.framework/Versions/Current/Resources/bin/R CMD INSTALL EBSeqHMM ### ############################################################################## ############################################################################## * installing to library ‘/Library/Frameworks/R.framework/Versions/4.0/Resources/library’ * installing *source* package ‘EBSeqHMM’ ... ** using staged installation ** R ** data ** demo ** byte-compile and prepare package for lazy loading ** help *** installing help indices ** building package indices ** installing vignettes ** testing if installed package can be loaded from temporary location ** testing if installed package can be loaded from final location ** testing if installed package keeps a record of temporary installation path * DONE (EBSeqHMM)
EBSeqHMM.Rcheck/EBSeqHMM-Ex.timings
name | user | system | elapsed | |
EBHMMNBMultiEM_2chain | 1.148 | 0.062 | 1.211 | |
EBHMMNBfun | 0.104 | 0.005 | 0.109 | |
EBHMMNBfunForMulti | 0.531 | 0.051 | 0.583 | |
EBSeqHMM-package | 1.196 | 0.013 | 1.209 | |
EBSeqHMMTest | 1.215 | 0.041 | 1.256 | |
EBTest_ext | 0.223 | 0.003 | 0.226 | |
GeneExampleData | 0.013 | 0.003 | 0.015 | |
GetAllPaths | 1.161 | 0.026 | 1.186 | |
GetConfidentCalls | 1.209 | 0.037 | 1.245 | |
GetDECalls | 1.080 | 0.018 | 1.097 | |
IsoExampleList | 0.014 | 0.004 | 0.019 | |
LikefunNBHMM | 0.014 | 0.004 | 0.017 | |
PlotExp | 0.011 | 0.004 | 0.015 | |
beta.mom | 0.001 | 0.001 | 0.001 | |
f0 | 0.003 | 0.002 | 0.004 | |