Back to Multiple platform build/check report for BioC 3.11 |
|
This page was generated on 2020-01-16 13:44:31 -0500 (Thu, 16 Jan 2020).
Package 549/1818 | Hostname | OS / Arch | INSTALL | BUILD | CHECK | BUILD BIN | ||||||
ExperimentHub 1.13.5 Bioconductor Package Maintainer
| malbec2 | Linux (Ubuntu 18.04.3 LTS) / x86_64 | OK | OK | OK | |||||||
tokay2 | Windows Server 2012 R2 Standard / x64 | OK | OK | OK | OK | |||||||
celaya2 | OS X 10.11.6 El Capitan / x86_64 | OK | OK | OK | [ OK ] |
Package: ExperimentHub |
Version: 1.13.5 |
Command: rm -rf ExperimentHub.buildbin-libdir && mkdir ExperimentHub.buildbin-libdir && /Users/biocbuild/BBS/utils/build-universal.sh ExperimentHub_1.13.5.tar.gz /Library/Frameworks/R.framework/Versions/Current/Resources/bin/R ExperimentHub.buildbin-libdir |
StartedAt: 2020-01-16 10:52:49 -0500 (Thu, 16 Jan 2020) |
EndedAt: 2020-01-16 10:53:10 -0500 (Thu, 16 Jan 2020) |
EllapsedTime: 20.6 seconds |
RetCode: 0 |
Status: OK |
PackageFile: ExperimentHub_1.13.5.tgz |
PackageFileSize: 501.1 KiB |
############################################################################## ############################################################################## ### ### Running command: ### ### rm -rf ExperimentHub.buildbin-libdir && mkdir ExperimentHub.buildbin-libdir && /Users/biocbuild/BBS/utils/build-universal.sh ExperimentHub_1.13.5.tar.gz /Library/Frameworks/R.framework/Versions/Current/Resources/bin/R ExperimentHub.buildbin-libdir ### ############################################################################## ############################################################################## >>>>>>> >>>>>>> INSTALLATION WITH 'R CMD INSTALL --preclean --no-multiarch --library=ExperimentHub.buildbin-libdir ExperimentHub_1.13.5.tar.gz' >>>>>>> * installing *source* package ‘ExperimentHub’ ... ** using staged installation ** R ** inst ** byte-compile and prepare package for lazy loading ** help *** installing help indices ** building package indices ** installing vignettes ** testing if installed package can be loaded from temporary location ** testing if installed package can be loaded from final location ** testing if installed package keeps a record of temporary installation path * DONE (ExperimentHub)