Back to Multiple platform build/check report for BioC 3.11 |
|
This page was generated on 2020-01-16 13:40:00 -0500 (Thu, 16 Jan 2020).
Package 717/1818 | Hostname | OS / Arch | INSTALL | BUILD | CHECK | BUILD BIN | ||||||
GOexpress 1.21.0 Kevin Rue-Albrecht
| malbec2 | Linux (Ubuntu 18.04.3 LTS) / x86_64 | OK | OK | OK | ![]() | ||||||
tokay2 | Windows Server 2012 R2 Standard / x64 | OK | OK | WARNINGS | OK | ![]() | ||||||
celaya2 | OS X 10.11.6 El Capitan / x86_64 | OK | OK | [ OK ] | OK | ![]() |
Package: GOexpress |
Version: 1.21.0 |
Command: /Library/Frameworks/R.framework/Versions/Current/Resources/bin/R CMD check --install=check:GOexpress.install-out.txt --library=/Library/Frameworks/R.framework/Versions/Current/Resources/library --no-vignettes --timings GOexpress_1.21.0.tar.gz |
StartedAt: 2020-01-16 05:01:47 -0500 (Thu, 16 Jan 2020) |
EndedAt: 2020-01-16 05:05:23 -0500 (Thu, 16 Jan 2020) |
EllapsedTime: 215.3 seconds |
RetCode: 0 |
Status: OK |
CheckDir: GOexpress.Rcheck |
Warnings: 0 |
############################################################################## ############################################################################## ### ### Running command: ### ### /Library/Frameworks/R.framework/Versions/Current/Resources/bin/R CMD check --install=check:GOexpress.install-out.txt --library=/Library/Frameworks/R.framework/Versions/Current/Resources/library --no-vignettes --timings GOexpress_1.21.0.tar.gz ### ############################################################################## ############################################################################## * using log directory ‘/Users/biocbuild/bbs-3.11-bioc/meat/GOexpress.Rcheck’ * using R Under development (unstable) (2019-12-14 r77572) * using platform: x86_64-apple-darwin15.6.0 (64-bit) * using session charset: UTF-8 * using option ‘--no-vignettes’ * checking for file ‘GOexpress/DESCRIPTION’ ... OK * this is package ‘GOexpress’ version ‘1.21.0’ * checking package namespace information ... OK * checking package dependencies ... OK * checking if this is a source package ... OK * checking if there is a namespace ... OK * checking for hidden files and directories ... NOTE Found the following hidden files and directories: .travis.yml These were most likely included in error. See section ‘Package structure’ in the ‘Writing R Extensions’ manual. * checking for portable file names ... OK * checking for sufficient/correct file permissions ... OK * checking whether package ‘GOexpress’ can be installed ... OK * checking installed package size ... OK * checking package directory ... OK * checking ‘build’ directory ... OK * checking DESCRIPTION meta-information ... OK * checking top-level files ... OK * checking for left-over files ... OK * checking index information ... OK * checking package subdirectories ... OK * checking R files for non-ASCII characters ... OK * checking R files for syntax errors ... OK * checking whether the package can be loaded ... OK * checking whether the package can be loaded with stated dependencies ... OK * checking whether the package can be unloaded cleanly ... OK * checking whether the namespace can be loaded with stated dependencies ... OK * checking whether the namespace can be unloaded cleanly ... OK * checking dependencies in R code ... OK * checking S3 generic/method consistency ... OK * checking replacement functions ... OK * checking foreign function calls ... OK * checking R code for possible problems ... NOTE GO_analyse: no visible binding for global variable ‘microarray2dataset’ GO_analyse: no visible binding for global variable ‘prefix2dataset’ mart_from_ensembl: no visible binding for global variable ‘prefix2dataset’ Undefined global functions or variables: microarray2dataset prefix2dataset * checking Rd files ... OK * checking Rd metadata ... OK * checking Rd cross-references ... OK * checking for missing documentation entries ... OK * checking for code/documentation mismatches ... OK * checking Rd \usage sections ... OK * checking Rd contents ... OK * checking for unstated dependencies in examples ... OK * checking contents of ‘data’ directory ... OK * checking data for non-ASCII characters ... OK * checking data for ASCII and uncompressed saves ... OK * checking sizes of PDF files under ‘inst/doc’ ... OK * checking files in ‘vignettes’ ... OK * checking examples ... OK Examples with CPU (user + system) or elapsed time > 5s user system elapsed AlvMac_results.pVal 6.436 2.502 9.443 GO_analyse 4.997 0.296 5.296 * checking for unstated dependencies in vignettes ... OK * checking package vignettes in ‘inst/doc’ ... OK * checking running R code from vignettes ... SKIPPED * checking re-building of vignette outputs ... SKIPPED * checking PDF version of manual ... OK * DONE Status: 2 NOTEs See ‘/Users/biocbuild/bbs-3.11-bioc/meat/GOexpress.Rcheck/00check.log’ for details.
GOexpress.Rcheck/00install.out
############################################################################## ############################################################################## ### ### Running command: ### ### /Library/Frameworks/R.framework/Versions/Current/Resources/bin/R CMD INSTALL GOexpress ### ############################################################################## ############################################################################## * installing to library ‘/Library/Frameworks/R.framework/Versions/4.0/Resources/library’ * installing *source* package ‘GOexpress’ ... ** using staged installation ** R ** data *** moving datasets to lazyload DB ** inst ** byte-compile and prepare package for lazy loading ** help *** installing help indices ** building package indices ** installing vignettes ** testing if installed package can be loaded from temporary location ** testing if installed package can be loaded from final location ** testing if installed package keeps a record of temporary installation path * DONE (GOexpress)
GOexpress.Rcheck/GOexpress-Ex.timings
name | user | system | elapsed | |
AlvMac | 0.245 | 0.031 | 0.302 | |
AlvMac_GOgenes | 0.188 | 0.031 | 0.237 | |
AlvMac_allGO | 0.044 | 0.006 | 0.054 | |
AlvMac_allgenes | 0.028 | 0.004 | 0.032 | |
AlvMac_results | 0.349 | 0.038 | 0.442 | |
AlvMac_results.pVal | 6.436 | 2.502 | 9.443 | |
GO_analyse | 4.997 | 0.296 | 5.296 | |
GOexpress-package | 0.008 | 0.009 | 0.018 | |
cluster_GO | 0.294 | 0.037 | 0.332 | |
expression_plot | 2.049 | 0.092 | 2.142 | |
expression_plot_symbol | 1.641 | 0.012 | 1.654 | |
expression_profiles | 1.450 | 0.008 | 1.459 | |
expression_profiles_symbol | 2.278 | 0.048 | 2.326 | |
heatmap_GO | 1.107 | 0.033 | 1.140 | |
hist_scores | 0.466 | 0.037 | 0.504 | |
list_genes | 0.169 | 0.012 | 0.181 | |
microarray2dataset | 0.035 | 0.016 | 0.050 | |
pValue_GO | 0.000 | 0.001 | 0.000 | |
plot_design | 0.256 | 0.015 | 0.274 | |
prefix2dataset | 0.017 | 0.004 | 0.020 | |
quantiles_scores | 0.688 | 0.021 | 0.708 | |
rerank | 0.295 | 0.011 | 0.307 | |
subEset | 0.068 | 0.003 | 0.071 | |
subset_scores | 0.398 | 0.015 | 0.413 | |
table_genes | 0.287 | 0.020 | 0.307 | |