Back to Multiple platform build/check report for BioC 3.11
ABCDEFGH[I]JKLMNOPQRSTUVWXYZ

BUILD BIN report for IMMAN on celaya2

This page was generated on 2020-01-10 12:52:43 -0500 (Fri, 10 Jan 2020).

Package 830/1813HostnameOS / ArchINSTALLBUILDCHECKBUILD BIN
IMMAN 1.7.0
Minoo Ashtiani
Snapshot Date: 2020-01-09 16:45:12 -0500 (Thu, 09 Jan 2020)
URL: https://git.bioconductor.org/packages/IMMAN
Branch: master
Last Commit: ce795cb
Last Changed Date: 2019-10-29 13:42:55 -0500 (Tue, 29 Oct 2019)
malbec2 Linux (Ubuntu 18.04.3 LTS) / x86_64  OK  ERROR  skipped 
tokay2 Windows Server 2012 R2 Standard / x64  OK  OK  OK  OK UNNEEDED, same version exists in internal repository
celaya2 OS X 10.11.6 El Capitan / x86_64  OK  OK  OK [ OK ]UNNEEDED, same version exists in internal repository

Summary

Package: IMMAN
Version: 1.7.0
Command: rm -rf IMMAN.buildbin-libdir && mkdir IMMAN.buildbin-libdir && /Users/biocbuild/BBS/utils/build-universal.sh IMMAN_1.7.0.tar.gz /Library/Frameworks/R.framework/Versions/Current/Resources/bin/R IMMAN.buildbin-libdir
StartedAt: 2020-01-10 10:45:39 -0500 (Fri, 10 Jan 2020)
EndedAt: 2020-01-10 10:46:06 -0500 (Fri, 10 Jan 2020)
EllapsedTime: 26.3 seconds
RetCode: 0
Status:  OK 
PackageFile: IMMAN_1.7.0.tgz
PackageFileSize: 99.37 KiB

Command output

##############################################################################
##############################################################################
###
### Running command:
###
###   rm -rf IMMAN.buildbin-libdir && mkdir IMMAN.buildbin-libdir && /Users/biocbuild/BBS/utils/build-universal.sh IMMAN_1.7.0.tar.gz /Library/Frameworks/R.framework/Versions/Current/Resources/bin/R IMMAN.buildbin-libdir
###
##############################################################################
##############################################################################


>>>>>>> 
>>>>>>> INSTALLATION WITH 'R CMD INSTALL --preclean --no-multiarch --library=IMMAN.buildbin-libdir IMMAN_1.7.0.tar.gz'
>>>>>>> 

* installing *source* package ‘IMMAN’ ...
** using staged installation
** R
** data
*** moving datasets to lazyload DB
** inst
** byte-compile and prepare package for lazy loading
** help
*** installing help indices
** building package indices
** installing vignettes
** testing if installed package can be loaded from temporary location
** testing if installed package can be loaded from final location
** testing if installed package keeps a record of temporary installation path
* DONE (IMMAN)