Back to Multiple platform build/check report for BioC 3.11 |
|
This page was generated on 2020-01-16 13:40:09 -0500 (Thu, 16 Jan 2020).
Package 1095/1818 | Hostname | OS / Arch | INSTALL | BUILD | CHECK | BUILD BIN | ||||||
MSGFplus 1.21.0 Thomas Lin Pedersen
| malbec2 | Linux (Ubuntu 18.04.3 LTS) / x86_64 | OK | OK | OK | ![]() | ||||||
tokay2 | Windows Server 2012 R2 Standard / x64 | OK | OK | OK | OK | ![]() | ||||||
celaya2 | OS X 10.11.6 El Capitan / x86_64 | [ OK ] | OK | OK | OK | ![]() |
Package: MSGFplus |
Version: 1.21.0 |
Command: /Library/Frameworks/R.framework/Versions/Current/Resources/bin/R CMD INSTALL MSGFplus |
StartedAt: 2020-01-15 18:29:52 -0500 (Wed, 15 Jan 2020) |
EndedAt: 2020-01-15 18:30:09 -0500 (Wed, 15 Jan 2020) |
EllapsedTime: 17.6 seconds |
RetCode: 0 |
Status: OK |
############################################################################## ############################################################################## ### ### Running command: ### ### /Library/Frameworks/R.framework/Versions/Current/Resources/bin/R CMD INSTALL MSGFplus ### ############################################################################## ############################################################################## * installing to library ‘/Library/Frameworks/R.framework/Versions/4.0/Resources/library’ * installing *source* package ‘MSGFplus’ ... ** using staged installation ** R ** inst ** byte-compile and prepare package for lazy loading ** help *** installing help indices ** building package indices ** installing vignettes ** testing if installed package can be loaded from temporary location ** testing if installed package can be loaded from final location ** testing if installed package keeps a record of temporary installation path * DONE (MSGFplus)