Back to Multiple platform build/check report for BioC 3.11 |
|
This page was generated on 2020-01-16 13:48:42 -0500 (Thu, 16 Jan 2020).
Package 1184/1818 | Hostname | OS / Arch | INSTALL | BUILD | CHECK | BUILD BIN | ||||||
Onassis 1.9.2 Eugenia Galeota
| malbec2 | Linux (Ubuntu 18.04.3 LTS) / x86_64 | OK | OK | OK | |||||||
tokay2 | Windows Server 2012 R2 Standard / x64 | OK | OK | OK | OK | |||||||
celaya2 | OS X 10.11.6 El Capitan / x86_64 | OK | OK | OK | [ OK ] |
Package: Onassis |
Version: 1.9.2 |
Command: rm -rf Onassis.buildbin-libdir && mkdir Onassis.buildbin-libdir && /Users/biocbuild/BBS/utils/build-universal.sh Onassis_1.9.2.tar.gz /Library/Frameworks/R.framework/Versions/Current/Resources/bin/R Onassis.buildbin-libdir |
StartedAt: 2020-01-16 11:26:15 -0500 (Thu, 16 Jan 2020) |
EndedAt: 2020-01-16 11:26:43 -0500 (Thu, 16 Jan 2020) |
EllapsedTime: 27.1 seconds |
RetCode: 0 |
Status: OK |
PackageFile: Onassis_1.9.2.tgz |
PackageFileSize: 1.703 MiB |
############################################################################## ############################################################################## ### ### Running command: ### ### rm -rf Onassis.buildbin-libdir && mkdir Onassis.buildbin-libdir && /Users/biocbuild/BBS/utils/build-universal.sh Onassis_1.9.2.tar.gz /Library/Frameworks/R.framework/Versions/Current/Resources/bin/R Onassis.buildbin-libdir ### ############################################################################## ############################################################################## >>>>>>> >>>>>>> INSTALLATION WITH 'R CMD INSTALL --preclean --no-multiarch --library=Onassis.buildbin-libdir Onassis_1.9.2.tar.gz' >>>>>>> * installing *source* package ‘Onassis’ ... ** using staged installation ** R ** inst ** byte-compile and prepare package for lazy loading ** help *** installing help indices ** building package indices ** installing vignettes ** testing if installed package can be loaded from temporary location ** testing if installed package can be loaded from final location ** testing if installed package keeps a record of temporary installation path * DONE (Onassis)