Back to Multiple platform build/check report for BioC 3.11 |
|
This page was generated on 2020-01-16 13:55:13 -0500 (Thu, 16 Jan 2020).
Package 1345/1818 | Hostname | OS / Arch | INSTALL | BUILD | CHECK | BUILD BIN | ||||||
Qtlizer 1.1.0 Matthias Munz
| malbec2 | Linux (Ubuntu 18.04.3 LTS) / x86_64 | OK | OK | OK | |||||||
tokay2 | Windows Server 2012 R2 Standard / x64 | OK | OK | OK | OK | |||||||
celaya2 | OS X 10.11.6 El Capitan / x86_64 | OK | OK | [ OK ] | OK |
Package: Qtlizer |
Version: 1.1.0 |
Command: /Library/Frameworks/R.framework/Versions/Current/Resources/bin/R CMD check --install=check:Qtlizer.install-out.txt --library=/Library/Frameworks/R.framework/Versions/Current/Resources/library --no-vignettes --timings Qtlizer_1.1.0.tar.gz |
StartedAt: 2020-01-16 07:51:56 -0500 (Thu, 16 Jan 2020) |
EndedAt: 2020-01-16 07:52:34 -0500 (Thu, 16 Jan 2020) |
EllapsedTime: 38.1 seconds |
RetCode: 0 |
Status: OK |
CheckDir: Qtlizer.Rcheck |
Warnings: 0 |
############################################################################## ############################################################################## ### ### Running command: ### ### /Library/Frameworks/R.framework/Versions/Current/Resources/bin/R CMD check --install=check:Qtlizer.install-out.txt --library=/Library/Frameworks/R.framework/Versions/Current/Resources/library --no-vignettes --timings Qtlizer_1.1.0.tar.gz ### ############################################################################## ############################################################################## * using log directory ‘/Users/biocbuild/bbs-3.11-bioc/meat/Qtlizer.Rcheck’ * using R Under development (unstable) (2019-12-14 r77572) * using platform: x86_64-apple-darwin15.6.0 (64-bit) * using session charset: UTF-8 * using option ‘--no-vignettes’ * checking for file ‘Qtlizer/DESCRIPTION’ ... OK * this is package ‘Qtlizer’ version ‘1.1.0’ * package encoding: UTF-8 * checking package namespace information ... OK * checking package dependencies ... OK * checking if this is a source package ... OK * checking if there is a namespace ... OK * checking for hidden files and directories ... OK * checking for portable file names ... OK * checking for sufficient/correct file permissions ... OK * checking whether package ‘Qtlizer’ can be installed ... OK * checking installed package size ... OK * checking package directory ... OK * checking ‘build’ directory ... OK * checking DESCRIPTION meta-information ... OK * checking top-level files ... OK * checking for left-over files ... OK * checking index information ... OK * checking package subdirectories ... OK * checking R files for non-ASCII characters ... OK * checking R files for syntax errors ... OK * checking whether the package can be loaded ... OK * checking whether the package can be loaded with stated dependencies ... OK * checking whether the package can be unloaded cleanly ... OK * checking whether the namespace can be loaded with stated dependencies ... OK * checking whether the namespace can be unloaded cleanly ... OK * checking dependencies in R code ... OK * checking S3 generic/method consistency ... OK * checking replacement functions ... OK * checking foreign function calls ... OK * checking R code for possible problems ... NOTE File ‘Qtlizer/R/zzz.R’: .onLoad calls: packageStartupMessage("\n ---------\n \n For example usage please run: vignette('Qtlizer')\n \n Web-based GUI: http://genehopper.de/qtlizer\n Documentation: http://genehopper.de/help#qtlizer_docu\n Github Repo: https://github.com/matmu/Qtlizer\n \n Citation appreciated:\n Munz M, Wohlers I, Simon E, Busch H, Schaefer A* and Erdmann J* (2018) Qtlizer: comprehensive QTL annotation of GWAS results. bioRxiv DOI: https://doi.org/10.1101/495903\n \n ---------", domain = NULL, appendLF = TRUE) See section ‘Good practice’ in '?.onAttach'. * checking Rd files ... OK * checking Rd metadata ... OK * checking Rd cross-references ... OK * checking for missing documentation entries ... OK * checking for code/documentation mismatches ... OK * checking Rd \usage sections ... OK * checking Rd contents ... OK * checking for unstated dependencies in examples ... OK * checking files in ‘vignettes’ ... OK * checking examples ... OK Examples with CPU (user + system) or elapsed time > 5s user system elapsed get_qtls 4.724 0.46 6.641 * checking for unstated dependencies in vignettes ... OK * checking package vignettes in ‘inst/doc’ ... OK * checking running R code from vignettes ... SKIPPED * checking re-building of vignette outputs ... SKIPPED * checking PDF version of manual ... OK * DONE Status: 1 NOTE See ‘/Users/biocbuild/bbs-3.11-bioc/meat/Qtlizer.Rcheck/00check.log’ for details.
Qtlizer.Rcheck/00install.out
############################################################################## ############################################################################## ### ### Running command: ### ### /Library/Frameworks/R.framework/Versions/Current/Resources/bin/R CMD INSTALL Qtlizer ### ############################################################################## ############################################################################## * installing to library ‘/Library/Frameworks/R.framework/Versions/4.0/Resources/library’ * installing *source* package ‘Qtlizer’ ... ** using staged installation ** R ** byte-compile and prepare package for lazy loading ** help *** installing help indices ** building package indices ** installing vignettes ** testing if installed package can be loaded from temporary location ** testing if installed package can be loaded from final location ** testing if installed package keeps a record of temporary installation path * DONE (Qtlizer)
Qtlizer.Rcheck/Qtlizer-Ex.timings
name | user | system | elapsed | |
get_qtls | 4.724 | 0.460 | 6.641 | |