Back to Multiple platform build/check report for BioC 3.11
ABCDEFGHIJKLMNOPQ[R]STUVWXYZ

BUILD BIN report for RNAprobR on celaya2

This page was generated on 2019-12-12 13:55:00 -0500 (Thu, 12 Dec 2019).

Package 1443/1808HostnameOS / ArchINSTALLBUILDCHECKBUILD BIN
RNAprobR 1.19.0
Nikos Sidiropoulos
Snapshot Date: 2019-12-11 16:45:15 -0500 (Wed, 11 Dec 2019)
URL: https://git.bioconductor.org/packages/RNAprobR
Branch: master
Last Commit: 59d7da8
Last Changed Date: 2019-10-29 13:39:06 -0500 (Tue, 29 Oct 2019)
malbec2 Linux (Ubuntu 18.04.3 LTS) / x86_64  OK  OK  WARNINGS UNNEEDED, same version exists in internal repository
tokay2 Windows Server 2012 R2 Standard / x64  OK  OK  WARNINGS  OK UNNEEDED, same version exists in internal repository
celaya2 OS X 10.11.6 El Capitan / x86_64  OK  OK  WARNINGS [ OK ]UNNEEDED, same version exists in internal repository

Summary

Package: RNAprobR
Version: 1.19.0
Command: rm -rf RNAprobR.buildbin-libdir && mkdir RNAprobR.buildbin-libdir && /Users/biocbuild/BBS/utils/build-universal.sh RNAprobR_1.19.0.tar.gz /Library/Frameworks/R.framework/Versions/Current/Resources/bin/R RNAprobR.buildbin-libdir
StartedAt: 2019-12-12 09:23:16 -0500 (Thu, 12 Dec 2019)
EndedAt: 2019-12-12 09:24:03 -0500 (Thu, 12 Dec 2019)
EllapsedTime: 47.6 seconds
RetCode: 0
Status:  OK 
PackageFile: RNAprobR_1.19.0.tgz
PackageFileSize: 593.9 KiB

Command output

##############################################################################
##############################################################################
###
### Running command:
###
###   rm -rf RNAprobR.buildbin-libdir && mkdir RNAprobR.buildbin-libdir && /Users/biocbuild/BBS/utils/build-universal.sh RNAprobR_1.19.0.tar.gz /Library/Frameworks/R.framework/Versions/Current/Resources/bin/R RNAprobR.buildbin-libdir
###
##############################################################################
##############################################################################


>>>>>>> 
>>>>>>> INSTALLATION WITH 'R CMD INSTALL --preclean --no-multiarch --library=RNAprobR.buildbin-libdir RNAprobR_1.19.0.tar.gz'
>>>>>>> 

* installing *source* package ‘RNAprobR’ ...
** using staged installation
** R
** inst
** byte-compile and prepare package for lazy loading
** help
*** installing help indices
** building package indices
** installing vignettes
** testing if installed package can be loaded from temporary location
** testing if installed package can be loaded from final location
** testing if installed package keeps a record of temporary installation path
* DONE (RNAprobR)