Back to Multiple platform build/check report for BioC 3.11
ABCDEFGHIJKLMNOPQR[S]TUVWXYZ

CHECK report for SubCellBarCode on celaya2

This page was generated on 2019-12-20 12:59:29 -0500 (Fri, 20 Dec 2019).

Package 1668/1809HostnameOS / ArchINSTALLBUILDCHECKBUILD BIN
SubCellBarCode 1.3.0
Taner Arslan
Snapshot Date: 2019-12-19 16:46:09 -0500 (Thu, 19 Dec 2019)
URL: https://git.bioconductor.org/packages/SubCellBarCode
Branch: master
Last Commit: f8aa319
Last Changed Date: 2019-10-29 13:43:35 -0500 (Tue, 29 Oct 2019)
malbec2 Linux (Ubuntu 18.04.3 LTS) / x86_64  OK  OK  OK UNNEEDED, same version exists in internal repository
tokay2 Windows Server 2012 R2 Standard / x64  OK  OK  OK  OK UNNEEDED, same version exists in internal repository
celaya2 OS X 10.11.6 El Capitan / x86_64  OK  OK [ OK ] OK UNNEEDED, same version exists in internal repository

Summary

Package: SubCellBarCode
Version: 1.3.0
Command: /Library/Frameworks/R.framework/Versions/Current/Resources/bin/R CMD check --install=check:SubCellBarCode.install-out.txt --library=/Library/Frameworks/R.framework/Versions/Current/Resources/library --no-vignettes --timings SubCellBarCode_1.3.0.tar.gz
StartedAt: 2019-12-20 08:30:00 -0500 (Fri, 20 Dec 2019)
EndedAt: 2019-12-20 08:33:47 -0500 (Fri, 20 Dec 2019)
EllapsedTime: 226.8 seconds
RetCode: 0
Status:  OK 
CheckDir: SubCellBarCode.Rcheck
Warnings: 0

Command output

##############################################################################
##############################################################################
###
### Running command:
###
###   /Library/Frameworks/R.framework/Versions/Current/Resources/bin/R CMD check --install=check:SubCellBarCode.install-out.txt --library=/Library/Frameworks/R.framework/Versions/Current/Resources/library --no-vignettes --timings SubCellBarCode_1.3.0.tar.gz
###
##############################################################################
##############################################################################


* using log directory ‘/Users/biocbuild/bbs-3.11-bioc/meat/SubCellBarCode.Rcheck’
* using R Under development (unstable) (2019-12-14 r77572)
* using platform: x86_64-apple-darwin15.6.0 (64-bit)
* using session charset: UTF-8
* using option ‘--no-vignettes’
* checking for file ‘SubCellBarCode/DESCRIPTION’ ... OK
* checking extension type ... Package
* this is package ‘SubCellBarCode’ version ‘1.3.0’
* package encoding: UTF-8
* checking package namespace information ... OK
* checking package dependencies ... OK
* checking if this is a source package ... OK
* checking if there is a namespace ... OK
* checking for hidden files and directories ... OK
* checking for portable file names ... OK
* checking for sufficient/correct file permissions ... OK
* checking whether package ‘SubCellBarCode’ can be installed ... OK
* checking installed package size ... OK
* checking package directory ... OK
* checking ‘build’ directory ... OK
* checking DESCRIPTION meta-information ... OK
* checking top-level files ... OK
* checking for left-over files ... OK
* checking index information ... OK
* checking package subdirectories ... OK
* checking R files for non-ASCII characters ... OK
* checking R files for syntax errors ... OK
* checking whether the package can be loaded ... OK
* checking whether the package can be loaded with stated dependencies ... OK
* checking whether the package can be unloaded cleanly ... OK
* checking whether the namespace can be loaded with stated dependencies ... OK
* checking whether the namespace can be unloaded cleanly ... OK
* checking dependencies in R code ... OK
* checking S3 generic/method consistency ... OK
* checking replacement functions ... OK
* checking foreign function calls ... OK
* checking R code for possible problems ... OK
* checking Rd files ... OK
* checking Rd metadata ... OK
* checking Rd cross-references ... OK
* checking for missing documentation entries ... OK
* checking for code/documentation mismatches ... OK
* checking Rd \usage sections ... OK
* checking Rd contents ... OK
* checking for unstated dependencies in examples ... OK
* checking contents of ‘data’ directory ... OK
* checking data for non-ASCII characters ... OK
* checking data for ASCII and uncompressed saves ... OK
* checking files in ‘vignettes’ ... OK
* checking examples ... OK
Examples with CPU (user + system) or elapsed time > 5s
                               user system elapsed
applyThresholdCompartment    25.672  0.832  27.157
computeThresholdCompartment  18.248  0.552  18.801
applyThresholdNeighborhood   16.779  0.710  17.854
computeThresholdNeighborhood 13.884  0.483  14.368
candidateRelocatedProteins   12.243  0.817  13.061
svmClassification            11.489  0.483  11.975
* checking for unstated dependencies in vignettes ... OK
* checking package vignettes in ‘inst/doc’ ... OK
* checking running R code from vignettes ... SKIPPED
* checking re-building of vignette outputs ... SKIPPED
* checking PDF version of manual ... OK
* DONE

Status: OK


Installation output

SubCellBarCode.Rcheck/00install.out

##############################################################################
##############################################################################
###
### Running command:
###
###   /Library/Frameworks/R.framework/Versions/Current/Resources/bin/R CMD INSTALL SubCellBarCode
###
##############################################################################
##############################################################################


* installing to library ‘/Library/Frameworks/R.framework/Versions/4.0/Resources/library’
* installing *source* package ‘SubCellBarCode’ ...
** using staged installation
** R
** data
*** moving datasets to lazyload DB
** byte-compile and prepare package for lazy loading
** help
*** installing help indices
** building package indices
** installing vignettes
** testing if installed package can be loaded from temporary location
** testing if installed package can be loaded from final location
** testing if installed package keeps a record of temporary installation path
* DONE (SubCellBarCode)

Tests output


Example timings

SubCellBarCode.Rcheck/SubCellBarCode-Ex.timings

nameusersystemelapsed
applyThresholdCompartment25.672 0.83227.157
applyThresholdNeighborhood16.779 0.71017.854
calRowMean0.0060.0010.009
calculateCoveredProtein0.2380.0050.244
candidateRelocatedProteins12.243 0.81713.061
computeThresholdCompartment18.248 0.55218.801
computeThresholdNeighborhood13.884 0.48314.368
hcc827Ctrl0.0050.0010.005
hcc827CtrlPSMCount0.0100.0010.011
hcc827GEF0.0060.0010.007
hcc827GEFClass0.0030.0010.004
hcc827GefPSMCount0.0020.0000.002
loadData0.0020.0000.002
markerQualityControl0.8400.0100.852
mergeCls0.0080.0010.008
mergeProbability0.0070.0010.008
plotBarcode1.1530.0031.155
plotMultipleProtein0.4140.0060.420
replacePrediction0.0090.0010.009
sankeyPlot0.0620.0030.064
sumProbability0.0120.0000.013
svmClassification11.489 0.48311.975
tsneVisualization0.3510.0060.362