Back to Multiple platform build/check report for BioC 3.11 |
|
This page was generated on 2020-01-16 13:48:57 -0500 (Thu, 16 Jan 2020).
Package 1714/1818 | Hostname | OS / Arch | INSTALL | BUILD | CHECK | BUILD BIN | ||||||
TFHAZ 1.9.0 Alberto Marchesi
| malbec2 | Linux (Ubuntu 18.04.3 LTS) / x86_64 | OK | OK | OK | |||||||
tokay2 | Windows Server 2012 R2 Standard / x64 | OK | OK | OK | NA | |||||||
celaya2 | OS X 10.11.6 El Capitan / x86_64 | OK | OK | [ OK ] | OK |
Package: TFHAZ |
Version: 1.9.0 |
Command: /Library/Frameworks/R.framework/Versions/Current/Resources/bin/R CMD check --install=check:TFHAZ.install-out.txt --library=/Library/Frameworks/R.framework/Versions/Current/Resources/library --no-vignettes --timings TFHAZ_1.9.0.tar.gz |
StartedAt: 2020-01-16 09:25:52 -0500 (Thu, 16 Jan 2020) |
EndedAt: 2020-01-16 09:28:28 -0500 (Thu, 16 Jan 2020) |
EllapsedTime: 155.5 seconds |
RetCode: 0 |
Status: OK |
CheckDir: TFHAZ.Rcheck |
Warnings: 0 |
############################################################################## ############################################################################## ### ### Running command: ### ### /Library/Frameworks/R.framework/Versions/Current/Resources/bin/R CMD check --install=check:TFHAZ.install-out.txt --library=/Library/Frameworks/R.framework/Versions/Current/Resources/library --no-vignettes --timings TFHAZ_1.9.0.tar.gz ### ############################################################################## ############################################################################## * using log directory ‘/Users/biocbuild/bbs-3.11-bioc/meat/TFHAZ.Rcheck’ * using R Under development (unstable) (2019-12-14 r77572) * using platform: x86_64-apple-darwin15.6.0 (64-bit) * using session charset: UTF-8 * using option ‘--no-vignettes’ * checking for file ‘TFHAZ/DESCRIPTION’ ... OK * checking extension type ... Package * this is package ‘TFHAZ’ version ‘1.9.0’ * package encoding: UTF-8 * checking package namespace information ... OK * checking package dependencies ... OK * checking if this is a source package ... OK * checking if there is a namespace ... OK * checking for hidden files and directories ... OK * checking for portable file names ... OK * checking for sufficient/correct file permissions ... OK * checking whether package ‘TFHAZ’ can be installed ... OK * checking installed package size ... OK * checking package directory ... OK * checking ‘build’ directory ... OK * checking DESCRIPTION meta-information ... OK * checking top-level files ... OK * checking for left-over files ... OK * checking index information ... OK * checking package subdirectories ... OK * checking R files for non-ASCII characters ... OK * checking R files for syntax errors ... OK * checking whether the package can be loaded ... OK * checking whether the package can be loaded with stated dependencies ... OK * checking whether the package can be unloaded cleanly ... OK * checking whether the namespace can be loaded with stated dependencies ... OK * checking whether the namespace can be unloaded cleanly ... OK * checking dependencies in R code ... OK * checking S3 generic/method consistency ... OK * checking replacement functions ... OK * checking foreign function calls ... OK * checking R code for possible problems ... OK * checking Rd files ... OK * checking Rd metadata ... OK * checking Rd cross-references ... OK * checking for missing documentation entries ... OK * checking for code/documentation mismatches ... OK * checking Rd \usage sections ... OK * checking Rd contents ... OK * checking for unstated dependencies in examples ... OK * checking contents of ‘data’ directory ... OK * checking data for non-ASCII characters ... OK * checking data for ASCII and uncompressed saves ... OK * checking files in ‘vignettes’ ... OK * checking examples ... OK Examples with CPU (user + system) or elapsed time > 5s user system elapsed dense_zones 12.856 0.354 13.220 accumulation 8.530 0.085 8.614 * checking for unstated dependencies in vignettes ... OK * checking package vignettes in ‘inst/doc’ ... OK * checking running R code from vignettes ... SKIPPED * checking re-building of vignette outputs ... SKIPPED * checking PDF version of manual ... OK * DONE Status: OK
TFHAZ.Rcheck/00install.out
############################################################################## ############################################################################## ### ### Running command: ### ### /Library/Frameworks/R.framework/Versions/Current/Resources/bin/R CMD INSTALL TFHAZ ### ############################################################################## ############################################################################## * installing to library ‘/Library/Frameworks/R.framework/Versions/4.0/Resources/library’ * installing *source* package ‘TFHAZ’ ... ** using staged installation ** R ** data *** moving datasets to lazyload DB ** byte-compile and prepare package for lazy loading ** help *** installing help indices ** building package indices ** installing vignettes ** testing if installed package can be loaded from temporary location ** testing if installed package can be loaded from final location ** testing if installed package keeps a record of temporary installation path * DONE (TFHAZ)
TFHAZ.Rcheck/TFHAZ-Ex.timings
name | user | system | elapsed | |
Ishikawa | 0.145 | 0.026 | 0.171 | |
TF_acc_w_0 | 0.117 | 0.025 | 0.142 | |
TF_dense_w_0 | 0.351 | 0.058 | 0.409 | |
TF_dense_w_10 | 0.335 | 0.073 | 0.409 | |
TF_dense_w_100 | 0.250 | 0.056 | 0.307 | |
TF_dense_w_1000 | 0.233 | 0.015 | 0.249 | |
TF_dense_w_10000 | 0.347 | 0.014 | 0.362 | |
accumulation | 8.530 | 0.085 | 8.614 | |
base_dense_w_10 | 0.313 | 0.015 | 0.328 | |
dense_zones | 12.856 | 0.354 | 13.220 | |
high_accumulation_zones | 0.532 | 0.090 | 0.623 | |
n_zones_PCA | 0.054 | 0.005 | 0.059 | |
plot_accumulation | 0.001 | 0.000 | 0.000 | |
plot_n_zones | 0.018 | 0.004 | 0.022 | |
reg_dense_w_10 | 0.233 | 0.010 | 0.243 | |
w_analysis | 0.020 | 0.003 | 0.023 | |