Back to Multiple platform build/check report for BioC 3.11 |
|
This page was generated on 2020-10-16 11:59:10 -0400 (Fri, 16 Oct 2020).
TO THE DEVELOPERS/MAINTAINERS OF THE Wrench PACKAGE: Please make sure to use the following settings in order to reproduce any error or warning you see on this page. |
Package 1889/1905 | Hostname | OS / Arch | INSTALL | BUILD | CHECK | BUILD BIN | ||||||
Wrench 1.6.0 Hector Corrada Bravo
| malbec2 | Linux (Ubuntu 18.04.4 LTS) / x86_64 | OK | OK | OK | ![]() | ||||||
tokay2 | Windows Server 2012 R2 Standard / x64 | OK | OK | OK | [ OK ] | ![]() | ||||||
machv2 | macOS 10.14.6 Mojave / x86_64 | OK | OK | OK | OK | ![]() |
Package: Wrench |
Version: 1.6.0 |
Command: rm -rf Wrench.buildbin-libdir && mkdir Wrench.buildbin-libdir && C:\Users\biocbuild\bbs-3.11-bioc\R\bin\R.exe CMD INSTALL --merge-multiarch --build --library=Wrench.buildbin-libdir Wrench_1.6.0.tar.gz |
StartedAt: 2020-10-16 11:34:32 -0400 (Fri, 16 Oct 2020) |
EndedAt: 2020-10-16 11:34:40 -0400 (Fri, 16 Oct 2020) |
EllapsedTime: 8.2 seconds |
RetCode: 0 |
Status: OK |
PackageFile: Wrench_1.6.0.zip |
PackageFileSize: 280.5 KiB |
############################################################################## ############################################################################## ### ### Running command: ### ### rm -rf Wrench.buildbin-libdir && mkdir Wrench.buildbin-libdir && C:\Users\biocbuild\bbs-3.11-bioc\R\bin\R.exe CMD INSTALL --merge-multiarch --build --library=Wrench.buildbin-libdir Wrench_1.6.0.tar.gz ### ############################################################################## ############################################################################## install for i386 * installing *source* package 'Wrench' ... ** using staged installation ** R ** inst ** byte-compile and prepare package for lazy loading ** help *** installing help indices converting help for package 'Wrench' finding HTML links ... done dot-estimSummary html dot-getCondLogWeights html dot-getCondWeights html dot-getHurdle html dot-getMargWeights html dot-getReference html dot-getWeightedMean html dot-getWeightedMedian html dot-gets2 html wrench html ** building package indices ** installing vignettes ** testing if installed package can be loaded from temporary location ** testing if installed package can be loaded from final location ** testing if installed package keeps a record of temporary installation path install for x64 * installing *source* package 'Wrench' ... ** testing if installed package can be loaded * MD5 sums packaged installation of 'Wrench' as Wrench_1.6.0.zip * DONE (Wrench)