Back to Multiple platform build/check report for BioC 3.11 |
|
This page was generated on 2020-01-16 13:41:09 -0500 (Thu, 16 Jan 2020).
Package 341/1818 | Hostname | OS / Arch | INSTALL | BUILD | CHECK | BUILD BIN | ||||||
coMET 1.19.0 Tiphaine Martin
| malbec2 | Linux (Ubuntu 18.04.3 LTS) / x86_64 | OK | OK | OK | ![]() | ||||||
tokay2 | Windows Server 2012 R2 Standard / x64 | OK | OK | OK | OK | ![]() | ||||||
celaya2 | OS X 10.11.6 El Capitan / x86_64 | OK | OK | [ OK ] | OK | ![]() |
Package: coMET |
Version: 1.19.0 |
Command: /Library/Frameworks/R.framework/Versions/Current/Resources/bin/R CMD check --install=check:coMET.install-out.txt --library=/Library/Frameworks/R.framework/Versions/Current/Resources/library --no-vignettes --timings coMET_1.19.0.tar.gz |
StartedAt: 2020-01-16 03:08:15 -0500 (Thu, 16 Jan 2020) |
EndedAt: 2020-01-16 03:22:42 -0500 (Thu, 16 Jan 2020) |
EllapsedTime: 866.9 seconds |
RetCode: 0 |
Status: OK |
CheckDir: coMET.Rcheck |
Warnings: 0 |
############################################################################## ############################################################################## ### ### Running command: ### ### /Library/Frameworks/R.framework/Versions/Current/Resources/bin/R CMD check --install=check:coMET.install-out.txt --library=/Library/Frameworks/R.framework/Versions/Current/Resources/library --no-vignettes --timings coMET_1.19.0.tar.gz ### ############################################################################## ############################################################################## * using log directory ‘/Users/biocbuild/bbs-3.11-bioc/meat/coMET.Rcheck’ * using R Under development (unstable) (2019-12-14 r77572) * using platform: x86_64-apple-darwin15.6.0 (64-bit) * using session charset: UTF-8 * using option ‘--no-vignettes’ * checking for file ‘coMET/DESCRIPTION’ ... OK * checking extension type ... Package * this is package ‘coMET’ version ‘1.19.0’ * checking package namespace information ... OK * checking package dependencies ... OK * checking if this is a source package ... OK * checking if there is a namespace ... OK * checking for hidden files and directories ... OK * checking for portable file names ... OK * checking for sufficient/correct file permissions ... OK * checking whether package ‘coMET’ can be installed ... OK * checking installed package size ... NOTE installed size is 18.8Mb sub-directories of 1Mb or more: data 7.5Mb extdata 10.7Mb * checking package directory ... OK * checking ‘build’ directory ... OK * checking DESCRIPTION meta-information ... OK * checking top-level files ... NOTE File LICENSE is not mentioned in the DESCRIPTION file. * checking for left-over files ... OK * checking index information ... OK * checking package subdirectories ... OK * checking R files for non-ASCII characters ... OK * checking R files for syntax errors ... OK * checking whether the package can be loaded ... OK * checking whether the package can be loaded with stated dependencies ... OK * checking whether the package can be unloaded cleanly ... OK * checking whether the namespace can be loaded with stated dependencies ... OK * checking whether the namespace can be unloaded cleanly ... OK * checking dependencies in R code ... OK * checking S3 generic/method consistency ... OK * checking replacement functions ... OK * checking foreign function calls ... OK * checking R code for possible problems ... NOTE draw.plot.annotation : <anonymous>: no visible global function definition for 'ggplotGrob' draw.plot.annotation: no visible global function definition for 'viewTracks' draw.plot.annotation: no visible global function definition for 'trackList' eQTL: no visible binding for global variable 'chromosome_stop' eQTL: no visible binding for global variable 'chromosome_start' eQTL: no visible binding for global variable 'chromosome_name' eQTL_GTEx: no visible binding for global variable 'snp_pos' eQTL_GTEx: no visible binding for global variable 'snp_chrom' eQTL_GTEx: no visible binding for global variable 'gene_start' eQTL_GTEx: no visible binding for global variable 'gene_stop' eQTL_GTEx: no visible binding for global variable 'gene_chr' geneExpression_GTEx: no visible global function definition for 'as' metQTL: no visible binding for global variable 'chromosome_stop' metQTL: no visible binding for global variable 'chromosome_start' metQTL: no visible binding for global variable 'chromosome_name' psiQTL_GTEx: no visible binding for global variable 'pos_snp' psiQTL_GTEx: no visible binding for global variable 'chr_snp' psiQTL_GTEx: no visible binding for global variable 'pos_middle_exon' psiQTL_GTEx: no visible binding for global variable 'chr_exon' Undefined global functions or variables: as chr_exon chr_snp chromosome_name chromosome_start chromosome_stop gene_chr gene_start gene_stop ggplotGrob pos_middle_exon pos_snp snp_chrom snp_pos trackList viewTracks Consider adding importFrom("methods", "as") to your NAMESPACE file (and ensure that your DESCRIPTION Imports field contains 'methods'). * checking Rd files ... OK * checking Rd metadata ... OK * checking Rd cross-references ... OK * checking for missing documentation entries ... OK * checking for code/documentation mismatches ... OK * checking Rd \usage sections ... OK * checking Rd contents ... OK * checking for unstated dependencies in examples ... OK * checking contents of ‘data’ directory ... OK * checking data for non-ASCII characters ... OK * checking data for ASCII and uncompressed saves ... OK * checking sizes of PDF files under ‘inst/doc’ ... OK * checking files in ‘vignettes’ ... OK * checking examples ... OK Examples with CPU (user + system) or elapsed time > 5s user system elapsed comet.web 11.397 0.270 60.805 coMET-package 10.494 0.648 29.943 chromatinHMMAll_UCSC 9.674 0.029 9.713 HistoneAll_UCSC 8.266 0.024 8.293 imprintedGenes_GTEx 8.187 0.072 8.595 comet 6.716 0.103 6.973 * checking for unstated dependencies in ‘tests’ ... OK * checking tests ... Running ‘runTests.R’ OK * checking for unstated dependencies in vignettes ... OK * checking package vignettes in ‘inst/doc’ ... OK * checking running R code from vignettes ... SKIPPED * checking re-building of vignette outputs ... SKIPPED * checking PDF version of manual ... OK * DONE Status: 3 NOTEs See ‘/Users/biocbuild/bbs-3.11-bioc/meat/coMET.Rcheck/00check.log’ for details.
coMET.Rcheck/00install.out
############################################################################## ############################################################################## ### ### Running command: ### ### /Library/Frameworks/R.framework/Versions/Current/Resources/bin/R CMD INSTALL coMET ### ############################################################################## ############################################################################## * installing to library ‘/Library/Frameworks/R.framework/Versions/4.0/Resources/library’ * installing *source* package ‘coMET’ ... ** using staged installation ** R ** data ** inst ** byte-compile and prepare package for lazy loading ** help *** installing help indices ** building package indices ** installing vignettes ** testing if installed package can be loaded from temporary location ** testing if installed package can be loaded from final location ** testing if installed package keeps a record of temporary installation path * DONE (coMET)
coMET.Rcheck/tests/runTests.Rout
R Under development (unstable) (2019-12-14 r77572) -- "Unsuffered Consequences" Copyright (C) 2019 The R Foundation for Statistical Computing Platform: x86_64-apple-darwin15.6.0 (64-bit) R is free software and comes with ABSOLUTELY NO WARRANTY. You are welcome to redistribute it under certain conditions. Type 'license()' or 'licence()' for distribution details. R is a collaborative project with many contributors. Type 'contributors()' for more information and 'citation()' on how to cite R or R packages in publications. Type 'demo()' for some demos, 'help()' for on-line help, or 'help.start()' for an HTML browser interface to help. Type 'q()' to quit R. > require("coMET") || stop("unable to load Package:coMET") Loading required package: coMET Loading required package: grid Loading required package: biomaRt Loading required package: Gviz Loading required package: S4Vectors Loading required package: stats4 Loading required package: BiocGenerics Loading required package: parallel Attaching package: 'BiocGenerics' The following objects are masked from 'package:parallel': clusterApply, clusterApplyLB, clusterCall, clusterEvalQ, clusterExport, clusterMap, parApply, parCapply, parLapply, parLapplyLB, parRapply, parSapply, parSapplyLB The following objects are masked from 'package:stats': IQR, mad, sd, var, xtabs The following objects are masked from 'package:base': Filter, Find, Map, Position, Reduce, anyDuplicated, append, as.data.frame, basename, cbind, colnames, dirname, do.call, duplicated, eval, evalq, get, grep, grepl, intersect, is.unsorted, lapply, mapply, match, mget, order, paste, pmax, pmax.int, pmin, pmin.int, rank, rbind, rownames, sapply, setdiff, sort, table, tapply, union, unique, unsplit, which, which.max, which.min Attaching package: 'S4Vectors' The following object is masked from 'package:base': expand.grid Loading required package: IRanges Loading required package: GenomicRanges Loading required package: GenomeInfoDb Loading required package: psych Attaching package: 'psych' The following object is masked from 'package:IRanges': reflect [1] TRUE > BiocGenerics:::testPackage("coMET") RUNIT TEST PROTOCOL -- Thu Jan 16 03:22:30 2020 *********************************************** Number of test functions: 1 Number of errors: 0 Number of failures: 0 1 Test Suite : coMET RUnit Tests - 1 test function, 0 errors, 0 failures Number of test functions: 1 Number of errors: 0 Number of failures: 0 > > proc.time() user system elapsed 24.907 1.857 26.736
coMET.Rcheck/coMET-Ex.timings
name | user | system | elapsed | |
COSMIC_UCSC | 3.297 | 0.208 | 3.506 | |
ChIPTF_ENCODE | 1.575 | 0.104 | 1.680 | |
ClinVarCnv_UCSC | 1.101 | 0.177 | 1.279 | |
ClinVarMain_UCSC | 0.984 | 0.050 | 1.035 | |
CoreillCNV_UCSC | 0.853 | 0.005 | 0.858 | |
DNAse_UCSC | 0.885 | 0.007 | 0.892 | |
DNaseI_FANTOM | 1.030 | 0.021 | 1.052 | |
DNaseI_RoadMap | 0.399 | 0.008 | 0.408 | |
GAD_UCSC | 0.834 | 0.005 | 0.839 | |
GWAScatalog_UCSC | 0.708 | 0.007 | 0.716 | |
GeneReviews_UCSC | 1.177 | 0.007 | 1.183 | |
HiCdata2matrix | 0.056 | 0.007 | 0.062 | |
HistoneAll_UCSC | 8.266 | 0.024 | 8.293 | |
HistoneOne_UCSC | 0.607 | 0.005 | 0.612 | |
ISCA_UCSC | 0.942 | 0.007 | 0.950 | |
TFBS_FANTOM | 0.795 | 0.006 | 0.802 | |
bindingMotifsBiomart_ENSEMBL | 0.316 | 0.011 | 0.327 | |
chrUCSC2ENSEMBL | 0.001 | 0.001 | 0.001 | |
chromHMM_RoadMap | 1.289 | 0.014 | 1.305 | |
chromatinHMMAll_UCSC | 9.674 | 0.029 | 9.713 | |
chromatinHMMOne_UCSC | 1.276 | 0.009 | 1.286 | |
coMET-package | 10.494 | 0.648 | 29.943 | |
comet | 6.716 | 0.103 | 6.973 | |
comet.list | 1.796 | 0.030 | 1.828 | |
comet.web | 11.397 | 0.270 | 60.805 | |
cpgIslands_UCSC | 0.327 | 0.011 | 0.342 | |
dgfootprints_RoadMap | 1.507 | 0.059 | 1.569 | |
eQTL | 2.538 | 0.023 | 2.565 | |
eQTL_GTEx | 2.629 | 0.018 | 2.652 | |
gcContent_UCSC | 1.827 | 0.012 | 1.846 | |
genesName_ENSEMBL | 0.007 | 0.005 | 0.011 | |
genes_ENSEMBL | 1.622 | 0.015 | 1.643 | |
imprintedGenes_GTEx | 8.187 | 0.072 | 8.595 | |
interestGenes_ENSEMBL | 1.469 | 0.029 | 1.500 | |
interestTranscript_ENSEMBL | 1.741 | 0.018 | 1.760 | |
knownGenes_UCSC | 1.967 | 0.010 | 1.988 | |
metQTL | 2.214 | 0.018 | 2.255 | |
miRNATargetRegionsBiomart_ENSEMBL | 0.131 | 0.004 | 0.143 | |
otherRegulatoryRegionsBiomart_ENSEMBL | 0.287 | 0.018 | 0.326 | |
psiQTL_GTEx | 2.090 | 0.018 | 2.109 | |
refGenes_UCSC | 1.816 | 0.010 | 1.838 | |
regulationBiomart_ENSEMBL | 0.690 | 0.004 | 0.706 | |
regulatoryEvidenceBiomart_ENSEMBL | 0.352 | 0.014 | 0.388 | |
regulatoryFeaturesBiomart_ENSEMBL | 0.356 | 0.014 | 0.396 | |
regulatorySegmentsBiomart_ENSEMBL | 0.418 | 0.014 | 0.451 | |
repeatMasker_UCSC | 1.178 | 0.007 | 1.192 | |
segmentalDups_UCSC | 0.929 | 0.013 | 0.957 | |
snpBiomart_ENSEMBL | 1.018 | 0.005 | 1.030 | |
snpLocations_UCSC | 2.804 | 0.015 | 2.826 | |
structureBiomart_ENSEMBL | 0.759 | 0.005 | 0.764 | |
transcript_ENSEMBL | 3.342 | 0.077 | 3.420 | |
xenorefGenes_UCSC | 1.379 | 0.035 | 1.415 | |