Back to Multiple platform build/check report for BioC 3.11 |
|
This page was generated on 2020-01-16 13:37:11 -0500 (Thu, 16 Jan 2020).
Package 393/1818 | Hostname | OS / Arch | INSTALL | BUILD | CHECK | BUILD BIN | ||||||
customProDB 1.27.0 Xiaojing Wang
| malbec2 | Linux (Ubuntu 18.04.3 LTS) / x86_64 | OK | OK | OK | |||||||
tokay2 | Windows Server 2012 R2 Standard / x64 | OK | OK | OK | OK | |||||||
celaya2 | OS X 10.11.6 El Capitan / x86_64 | OK | OK | [ OK ] | OK |
Package: customProDB |
Version: 1.27.0 |
Command: /Library/Frameworks/R.framework/Versions/Current/Resources/bin/R CMD check --install=check:customProDB.install-out.txt --library=/Library/Frameworks/R.framework/Versions/Current/Resources/library --no-vignettes --timings customProDB_1.27.0.tar.gz |
StartedAt: 2020-01-16 03:25:30 -0500 (Thu, 16 Jan 2020) |
EndedAt: 2020-01-16 03:33:43 -0500 (Thu, 16 Jan 2020) |
EllapsedTime: 493.2 seconds |
RetCode: 0 |
Status: OK |
CheckDir: customProDB.Rcheck |
Warnings: 0 |
############################################################################## ############################################################################## ### ### Running command: ### ### /Library/Frameworks/R.framework/Versions/Current/Resources/bin/R CMD check --install=check:customProDB.install-out.txt --library=/Library/Frameworks/R.framework/Versions/Current/Resources/library --no-vignettes --timings customProDB_1.27.0.tar.gz ### ############################################################################## ############################################################################## * using log directory ‘/Users/biocbuild/bbs-3.11-bioc/meat/customProDB.Rcheck’ * using R Under development (unstable) (2019-12-14 r77572) * using platform: x86_64-apple-darwin15.6.0 (64-bit) * using session charset: UTF-8 * using option ‘--no-vignettes’ * checking for file ‘customProDB/DESCRIPTION’ ... OK * checking extension type ... Package * this is package ‘customProDB’ version ‘1.27.0’ * checking package namespace information ... OK * checking package dependencies ... OK * checking if this is a source package ... OK * checking if there is a namespace ... OK * checking for hidden files and directories ... OK * checking for portable file names ... OK * checking for sufficient/correct file permissions ... OK * checking whether package ‘customProDB’ can be installed ... OK * checking installed package size ... OK * checking package directory ... OK * checking ‘build’ directory ... OK * checking DESCRIPTION meta-information ... OK * checking top-level files ... OK * checking for left-over files ... OK * checking index information ... OK * checking package subdirectories ... OK * checking R files for non-ASCII characters ... OK * checking R files for syntax errors ... OK * checking whether the package can be loaded ... OK * checking whether the package can be loaded with stated dependencies ... OK * checking whether the package can be unloaded cleanly ... OK * checking whether the namespace can be loaded with stated dependencies ... OK * checking whether the namespace can be unloaded cleanly ... OK * checking dependencies in R code ... NOTE Unexported objects imported by ':::' calls: ‘biomaRt:::martBM’ ‘biomaRt:::martDataset’ ‘biomaRt:::martHost’ See the note in ?`:::` about the use of this operator. * checking S3 generic/method consistency ... OK * checking replacement functions ... OK * checking foreign function calls ... OK * checking R code for possible problems ... NOTE Bed2Range: no visible binding for global variable ‘V5’ OutputNovelJun: no visible binding for global variable ‘jun_type’ OutputVarproseq: no visible binding for global variable ‘genename’ OutputVarproseq: no visible binding for global variable ‘txname’ OutputVarproseq: no visible binding for global variable ‘proname’ OutputVarproseq: no visible binding for global variable ‘aaref’ OutputVarproseq: no visible binding for global variable ‘aapos’ OutputVarproseq: no visible binding for global variable ‘aavar’ OutputVarproseq: no visible binding for global variable ‘rsid’ OutputVarproseq_single: no visible binding for global variable ‘genename’ OutputVarproseq_single: no visible binding for global variable ‘txname’ OutputVarproseq_single: no visible binding for global variable ‘proname’ OutputVarproseq_single: no visible binding for global variable ‘aaref’ OutputVarproseq_single: no visible binding for global variable ‘aapos’ OutputVarproseq_single: no visible binding for global variable ‘aavar’ OutputVarproseq_single: no visible binding for global variable ‘rsid’ Outputaberrant: no visible binding for global variable ‘pro_name’ Positionincoding: no visible binding for global variable ‘cds_start’ Positionincoding: no visible binding for global variable ‘cds_end’ PrepareAnnotationEnsembl: no visible binding for global variable ‘ensembl_gene_id’ PrepareAnnotationEnsembl: no visible binding for global variable ‘pro_name’ PrepareAnnotationEnsembl: no visible binding for global variable ‘chrom’ PrepareAnnotationEnsembl: no visible binding for global variable ‘name’ PrepareAnnotationEnsembl: no visible binding for global variable ‘alleleCount’ PrepareAnnotationEnsembl: no visible binding for global variable ‘alleles’ PrepareAnnotationRefseq: no visible binding for global variable ‘name’ PrepareAnnotationRefseq: no visible binding for global variable ‘mrnaAcc’ PrepareAnnotationRefseq: no visible binding for global variable ‘protAcc’ PrepareAnnotationRefseq: no visible binding for global variable ‘transcript’ PrepareAnnotationRefseq: no visible binding for global variable ‘chrom’ PrepareAnnotationRefseq: no visible binding for global variable ‘alleleCount’ PrepareAnnotationRefseq: no visible binding for global variable ‘alleles’ PrepareAnnotationRefseq: no visible binding for global variable ‘COSMIC’ Varlocation: no visible binding for global variable ‘pro_name’ Undefined global functions or variables: COSMIC V5 aapos aaref aavar alleleCount alleles cds_end cds_start chrom ensembl_gene_id genename jun_type mrnaAcc name pro_name proname protAcc rsid transcript txname * checking Rd files ... OK * checking Rd metadata ... OK * checking Rd cross-references ... OK * checking for missing documentation entries ... OK * checking for code/documentation mismatches ... OK * checking Rd \usage sections ... OK * checking Rd contents ... OK * checking for unstated dependencies in examples ... OK * checking sizes of PDF files under ‘inst/doc’ ... OK * checking files in ‘vignettes’ ... OK * checking examples ... OK Examples with CPU (user + system) or elapsed time > 5s user system elapsed PrepareAnnotationEnsembl 6.938 0.344 27.173 easyRun_mul 5.775 0.097 5.873 * checking for unstated dependencies in vignettes ... OK * checking package vignettes in ‘inst/doc’ ... OK * checking running R code from vignettes ... SKIPPED * checking re-building of vignette outputs ... SKIPPED * checking PDF version of manual ... OK * DONE Status: 2 NOTEs See ‘/Users/biocbuild/bbs-3.11-bioc/meat/customProDB.Rcheck/00check.log’ for details.
customProDB.Rcheck/00install.out
############################################################################## ############################################################################## ### ### Running command: ### ### /Library/Frameworks/R.framework/Versions/Current/Resources/bin/R CMD INSTALL customProDB ### ############################################################################## ############################################################################## * installing to library ‘/Library/Frameworks/R.framework/Versions/4.0/Resources/library’ * installing *source* package ‘customProDB’ ... ** using staged installation ** R ** inst ** byte-compile and prepare package for lazy loading ** help *** installing help indices ** building package indices ** installing vignettes ** testing if installed package can be loaded from temporary location ** testing if installed package can be loaded from final location ** testing if installed package keeps a record of temporary installation path * DONE (customProDB)
customProDB.Rcheck/customProDB-Ex.timings
name | user | system | elapsed | |
Bed2Range | 0.183 | 0.012 | 0.196 | |
InputVcf | 1.551 | 0.147 | 1.700 | |
JunctionType | 2.736 | 0.298 | 3.037 | |
Multiple_VCF | 1.325 | 0.088 | 1.414 | |
OutputNovelJun | 2.785 | 0.123 | 2.911 | |
OutputVarprocodingseq | 1.192 | 0.034 | 1.240 | |
OutputVarproseq | 1.124 | 0.039 | 1.171 | |
OutputVarproseq_single | 1.138 | 0.037 | 1.334 | |
Outputaberrant | 0.577 | 0.020 | 0.710 | |
Outputproseq | 1.439 | 0.015 | 1.642 | |
OutputsharedPro | 4.005 | 0.034 | 4.573 | |
Positionincoding | 0.666 | 0.030 | 0.737 | |
PrepareAnnotationEnsembl | 6.938 | 0.344 | 27.173 | |
PrepareAnnotationRefseq | 0.001 | 0.000 | 0.001 | |
SharedJunc | 1.035 | 0.016 | 1.052 | |
Varlocation | 0.000 | 0.000 | 0.001 | |
aaVariation | 0.947 | 0.025 | 0.972 | |
calculateRPKM | 1.264 | 0.017 | 1.281 | |
easyRun | 3.087 | 0.068 | 3.157 | |
easyRun_mul | 5.775 | 0.097 | 5.873 | |