Back to Multiple platform build/check report for BioC 3.11 |
|
This page was generated on 2020-01-16 13:51:07 -0500 (Thu, 16 Jan 2020).
Package 828/1818 | Hostname | OS / Arch | INSTALL | BUILD | CHECK | BUILD BIN | ||||||
igvR 1.7.8 Paul Shannon
| malbec2 | Linux (Ubuntu 18.04.3 LTS) / x86_64 | OK | OK | WARNINGS | |||||||
tokay2 | Windows Server 2012 R2 Standard / x64 | OK | OK | WARNINGS | OK | |||||||
celaya2 | OS X 10.11.6 El Capitan / x86_64 | OK | [ OK ] | WARNINGS | OK |
Package: igvR |
Version: 1.7.8 |
Command: /Library/Frameworks/R.framework/Versions/Current/Resources/bin/R CMD build --keep-empty-dirs --no-resave-data igvR |
StartedAt: 2020-01-15 23:58:26 -0500 (Wed, 15 Jan 2020) |
EndedAt: 2020-01-15 23:59:54 -0500 (Wed, 15 Jan 2020) |
EllapsedTime: 88.9 seconds |
RetCode: 0 |
Status: OK |
PackageFile: igvR_1.7.8.tar.gz |
PackageFileSize: 3.615 MiB |
############################################################################## ############################################################################## ### ### Running command: ### ### /Library/Frameworks/R.framework/Versions/Current/Resources/bin/R CMD build --keep-empty-dirs --no-resave-data igvR ### ############################################################################## ############################################################################## * checking for file ‘igvR/DESCRIPTION’ ... OK * preparing ‘igvR’: * checking DESCRIPTION meta-information ... OK * installing the package to build vignettes * creating vignettes ... OK * checking for LF line-endings in source and make files and shell scripts * checking for empty or unneeded directories WARNING: directory ‘igvR/docs’ is empty WARNING: directory ‘igvR/inst/browserCode/lib’ is empty WARNING: directory ‘igvR/misc’ is empty * building ‘igvR_1.7.8.tar.gz’