Back to Multiple platform build/check report for BioC 3.11 |
|
This page was generated on 2020-10-17 11:59:05 -0400 (Sat, 17 Oct 2020).
TO THE DEVELOPERS/MAINTAINERS OF THE normalize450K PACKAGE: Please make sure to use the following settings in order to reproduce any error or warning you see on this page. |
Package 1200/1905 | Hostname | OS / Arch | INSTALL | BUILD | CHECK | BUILD BIN | ||||||
normalize450K 1.16.0 Jonathan Alexander Heiss
| malbec2 | Linux (Ubuntu 18.04.4 LTS) / x86_64 | OK | OK | OK | ![]() | ||||||
tokay2 | Windows Server 2012 R2 Standard / x64 | OK | OK | OK | OK | ![]() | ||||||
machv2 | macOS 10.14.6 Mojave / x86_64 | OK | OK | OK | [ OK ] | ![]() |
Package: normalize450K |
Version: 1.16.0 |
Command: rm -rf normalize450K.buildbin-libdir && mkdir normalize450K.buildbin-libdir && /Users/biocbuild/BBS/utils/build-universal.sh normalize450K_1.16.0.tar.gz /Library/Frameworks/R.framework/Versions/Current/Resources/bin/R normalize450K.buildbin-libdir |
StartedAt: 2020-10-17 07:35:18 -0400 (Sat, 17 Oct 2020) |
EndedAt: 2020-10-17 07:35:50 -0400 (Sat, 17 Oct 2020) |
EllapsedTime: 32.0 seconds |
RetCode: 0 |
Status: OK |
PackageFile: normalize450K_1.16.0.tgz |
PackageFileSize: 3.067 MiB |
############################################################################## ############################################################################## ### ### Running command: ### ### rm -rf normalize450K.buildbin-libdir && mkdir normalize450K.buildbin-libdir && /Users/biocbuild/BBS/utils/build-universal.sh normalize450K_1.16.0.tar.gz /Library/Frameworks/R.framework/Versions/Current/Resources/bin/R normalize450K.buildbin-libdir ### ############################################################################## ############################################################################## >>>>>>> >>>>>>> INSTALLATION WITH 'R CMD INSTALL --preclean --no-multiarch --library=normalize450K.buildbin-libdir normalize450K_1.16.0.tar.gz' >>>>>>> * installing *source* package ‘normalize450K’ ... ** using staged installation ** R ** inst ** byte-compile and prepare package for lazy loading ** help *** installing help indices ** building package indices ** installing vignettes ** testing if installed package can be loaded from temporary location ** testing if installed package can be loaded from final location ** testing if installed package keeps a record of temporary installation path * DONE (normalize450K)