Back to Multiple platform build/check report for BioC 3.11
ABCDEFGHIJKLMNOPQR[S]TUVWXYZ

BUILD BIN report for sscu on tokay2

This page was generated on 2020-10-16 11:58:58 -0400 (Fri, 16 Oct 2020).

TO THE DEVELOPERS/MAINTAINERS OF THE sscu PACKAGE: Please make sure to use the following settings in order to reproduce any error or warning you see on this page.
Package 1732/1905HostnameOS / ArchINSTALLBUILDCHECKBUILD BIN
sscu 2.18.0
Yu Sun
Snapshot Date: 2020-10-15 14:40:03 -0400 (Thu, 15 Oct 2020)
URL: https://git.bioconductor.org/packages/sscu
Branch: RELEASE_3_11
Last Commit: 42a2ff2
Last Changed Date: 2020-04-27 14:56:07 -0400 (Mon, 27 Apr 2020)
malbec2 Linux (Ubuntu 18.04.4 LTS) / x86_64  OK  OK  WARNINGS UNNEEDED, same version exists in internal repository
tokay2 Windows Server 2012 R2 Standard / x64  OK  OK  WARNINGS [ OK ]UNNEEDED, same version exists in internal repository
machv2 macOS 10.14.6 Mojave / x86_64  OK  OK  WARNINGS  OK UNNEEDED, same version exists in internal repository

Summary

Package: sscu
Version: 2.18.0
Command: rm -rf sscu.buildbin-libdir && mkdir sscu.buildbin-libdir && C:\Users\biocbuild\bbs-3.11-bioc\R\bin\R.exe CMD INSTALL --merge-multiarch --build --library=sscu.buildbin-libdir sscu_2.18.0.tar.gz
StartedAt: 2020-10-16 11:24:41 -0400 (Fri, 16 Oct 2020)
EndedAt: 2020-10-16 11:25:32 -0400 (Fri, 16 Oct 2020)
EllapsedTime: 51.3 seconds
RetCode: 0
Status:  OK  
PackageFile: sscu_2.18.0.zip
PackageFileSize: 1.34 MiB

Command output

##############################################################################
##############################################################################
###
### Running command:
###
###   rm -rf sscu.buildbin-libdir && mkdir sscu.buildbin-libdir && C:\Users\biocbuild\bbs-3.11-bioc\R\bin\R.exe CMD INSTALL --merge-multiarch --build --library=sscu.buildbin-libdir sscu_2.18.0.tar.gz
###
##############################################################################
##############################################################################



install for i386

* installing *source* package 'sscu' ...
** using staged installation
** R
** inst
** byte-compile and prepare package for lazy loading
** help
*** installing help indices
  converting help for package 'sscu'
    finding HTML links ... done
    akashi_test                             html  
    genomic_gc3                             html  
    finding level-2 HTML links ... done

    low_frequency_op                        html  
    op_corre_CodonW                         html  
    op_corre_NCprime                        html  
    op_highly                               html  
    op_highly_stats                         html  
    s_index                                 html  
    sscu-package                            html  
** building package indices
** installing vignettes
** testing if installed package can be loaded from temporary location
** testing if installed package can be loaded from final location
** testing if installed package keeps a record of temporary installation path

install for x64

* installing *source* package 'sscu' ...
** testing if installed package can be loaded
* MD5 sums
packaged installation of 'sscu' as sscu_2.18.0.zip
* DONE (sscu)