Back to Multiple platform build/check report for BioC 3.11
ABCDEFGHIJKLMNOPQRSTU[V]WXYZ

BUILD BIN report for vbmp on tokay2

This page was generated on 2020-10-16 11:59:08 -0400 (Fri, 16 Oct 2020).

TO THE DEVELOPERS/MAINTAINERS OF THE vbmp PACKAGE: Please make sure to use the following settings in order to reproduce any error or warning you see on this page.
Package 1869/1905HostnameOS / ArchINSTALLBUILDCHECKBUILD BIN
vbmp 1.56.0
Nicola Lama
Snapshot Date: 2020-10-15 14:40:03 -0400 (Thu, 15 Oct 2020)
URL: https://git.bioconductor.org/packages/vbmp
Branch: RELEASE_3_11
Last Commit: d62dc22
Last Changed Date: 2020-04-27 14:15:34 -0400 (Mon, 27 Apr 2020)
malbec2 Linux (Ubuntu 18.04.4 LTS) / x86_64  OK  OK  OK UNNEEDED, same version exists in internal repository
tokay2 Windows Server 2012 R2 Standard / x64  OK  OK  OK [ OK ]UNNEEDED, same version exists in internal repository
machv2 macOS 10.14.6 Mojave / x86_64  OK  OK  OK  OK UNNEEDED, same version exists in internal repository

Summary

Package: vbmp
Version: 1.56.0
Command: rm -rf vbmp.buildbin-libdir && mkdir vbmp.buildbin-libdir && C:\Users\biocbuild\bbs-3.11-bioc\R\bin\R.exe CMD INSTALL --merge-multiarch --build --library=vbmp.buildbin-libdir vbmp_1.56.0.tar.gz
StartedAt: 2020-10-16 11:33:28 -0400 (Fri, 16 Oct 2020)
EndedAt: 2020-10-16 11:33:59 -0400 (Fri, 16 Oct 2020)
EllapsedTime: 31.4 seconds
RetCode: 0
Status:  OK  
PackageFile: vbmp_1.56.0.zip
PackageFileSize: 1.735 MiB

Command output

##############################################################################
##############################################################################
###
### Running command:
###
###   rm -rf vbmp.buildbin-libdir && mkdir vbmp.buildbin-libdir && C:\Users\biocbuild\bbs-3.11-bioc\R\bin\R.exe CMD INSTALL --merge-multiarch --build --library=vbmp.buildbin-libdir vbmp_1.56.0.tar.gz
###
##############################################################################
##############################################################################



install for i386

* installing *source* package 'vbmp' ...
** using staged installation
** R
** data
** inst
** byte-compile and prepare package for lazy loading
** help
*** installing help indices
  converting help for package 'vbmp'
    finding HTML links ... done
    BRCA12                                  html  
    covParams                               html  
    lowerBound                              html  
    plotDiagnostics                         html  
    predClass                               html  
    predError                               html  
    predLik                                 html  
    predictCPP                              html  
    vbmp                                    html  
** building package indices
** installing vignettes
** testing if installed package can be loaded from temporary location
** testing if installed package can be loaded from final location
** testing if installed package keeps a record of temporary installation path

install for x64

* installing *source* package 'vbmp' ...
** testing if installed package can be loaded
* MD5 sums
packaged installation of 'vbmp' as vbmp_1.56.0.zip
* DONE (vbmp)