Back to Multiple platform build/check report for BioC 3.11 |
|
This page was generated on 2019-12-13 12:41:21 -0500 (Fri, 13 Dec 2019).
Package 171/1808 | Hostname | OS / Arch | INSTALL | BUILD | CHECK | BUILD BIN | ||||||
BioNet 1.47.0 Marcus Dittrich
| malbec2 | Linux (Ubuntu 18.04.3 LTS) / x86_64 | OK | OK | OK | ![]() | ||||||
tokay2 | Windows Server 2012 R2 Standard / x64 | OK | OK | OK | OK | ![]() | ||||||
celaya2 | OS X 10.11.6 El Capitan / x86_64 | OK | OK | OK | [ OK ] | ![]() |
Package: BioNet |
Version: 1.47.0 |
Command: rm -rf BioNet.buildbin-libdir && mkdir BioNet.buildbin-libdir && /Users/biocbuild/BBS/utils/build-universal.sh BioNet_1.47.0.tar.gz /Library/Frameworks/R.framework/Versions/Current/Resources/bin/R BioNet.buildbin-libdir |
StartedAt: 2019-12-13 06:31:34 -0500 (Fri, 13 Dec 2019) |
EndedAt: 2019-12-13 06:31:57 -0500 (Fri, 13 Dec 2019) |
EllapsedTime: 22.7 seconds |
RetCode: 0 |
Status: OK |
PackageFile: BioNet_1.47.0.tgz |
PackageFileSize: 1.439 MiB |
############################################################################## ############################################################################## ### ### Running command: ### ### rm -rf BioNet.buildbin-libdir && mkdir BioNet.buildbin-libdir && /Users/biocbuild/BBS/utils/build-universal.sh BioNet_1.47.0.tar.gz /Library/Frameworks/R.framework/Versions/Current/Resources/bin/R BioNet.buildbin-libdir ### ############################################################################## ############################################################################## >>>>>>> >>>>>>> INSTALLATION WITH 'R CMD INSTALL --preclean --no-multiarch --library=BioNet.buildbin-libdir BioNet_1.47.0.tar.gz' >>>>>>> * installing *source* package ‘BioNet’ ... ** using staged installation ** R ** data ** inst ** byte-compile and prepare package for lazy loading ** help *** installing help indices ** building package indices ** installing vignettes ** testing if installed package can be loaded from temporary location ** testing if installed package can be loaded from final location ** testing if installed package keeps a record of temporary installation path * DONE (BioNet)