Back to Multiple platform build/check report for BioC 3.11
A[B]CDEFGHIJKLMNOPQRSTUVWXYZ

BUILD BIN report for BridgeDbR on celaya2

This page was generated on 2019-12-23 12:38:06 -0500 (Mon, 23 Dec 2019).

Package 198/1809HostnameOS / ArchINSTALLBUILDCHECKBUILD BIN
BridgeDbR 1.21.0
Egon Willighagen
Snapshot Date: 2019-12-22 16:45:08 -0500 (Sun, 22 Dec 2019)
URL: https://git.bioconductor.org/packages/BridgeDbR
Branch: master
Last Commit: 48b98f0
Last Changed Date: 2019-10-29 13:38:34 -0500 (Tue, 29 Oct 2019)
malbec2 Linux (Ubuntu 18.04.3 LTS) / x86_64  OK  OK  OK UNNEEDED, same version exists in internal repository
celaya2 OS X 10.11.6 El Capitan / x86_64  OK  OK  OK [ OK ]UNNEEDED, same version exists in internal repository

Summary

Package: BridgeDbR
Version: 1.21.0
Command: rm -rf BridgeDbR.buildbin-libdir && mkdir BridgeDbR.buildbin-libdir && /Users/biocbuild/BBS/utils/build-universal.sh BridgeDbR_1.21.0.tar.gz /Library/Frameworks/R.framework/Versions/Current/Resources/bin/R BridgeDbR.buildbin-libdir
StartedAt: 2019-12-23 09:40:56 -0500 (Mon, 23 Dec 2019)
EndedAt: 2019-12-23 09:41:09 -0500 (Mon, 23 Dec 2019)
EllapsedTime: 12.3 seconds
RetCode: 0
Status:  OK 
PackageFile: BridgeDbR_1.21.0.tgz
PackageFileSize: 2.649 MiB

Command output

##############################################################################
##############################################################################
###
### Running command:
###
###   rm -rf BridgeDbR.buildbin-libdir && mkdir BridgeDbR.buildbin-libdir && /Users/biocbuild/BBS/utils/build-universal.sh BridgeDbR_1.21.0.tar.gz /Library/Frameworks/R.framework/Versions/Current/Resources/bin/R BridgeDbR.buildbin-libdir
###
##############################################################################
##############################################################################


>>>>>>> 
>>>>>>> INSTALLATION WITH 'R CMD INSTALL --preclean --no-multiarch --library=BridgeDbR.buildbin-libdir BridgeDbR_1.21.0.tar.gz'
>>>>>>> 

* installing *source* package ‘BridgeDbR’ ...
** using staged installation
** R
** inst
** byte-compile and prepare package for lazy loading
** help
*** installing help indices
** building package indices
** installing vignettes
** testing if installed package can be loaded from temporary location
** testing if installed package can be loaded from final location
** testing if installed package keeps a record of temporary installation path
* DONE (BridgeDbR)