Back to Multiple platform build/check report for BioC 3.11 |
|
This page was generated on 2020-03-12 13:58:47 -0400 (Thu, 12 Mar 2020).
Package 333/1838 | Hostname | OS / Arch | INSTALL | BUILD | CHECK | BUILD BIN | ||||||
CNVtools 1.81.0 Chris Barnes
| malbec2 | Linux (Ubuntu 18.04.4 LTS) / x86_64 | OK | OK | OK | |||||||
tokay2 | Windows Server 2012 R2 Standard / x64 | OK | OK | OK | [ OK ] |
Package: CNVtools |
Version: 1.81.0 |
Command: rm -rf CNVtools.buildbin-libdir && mkdir CNVtools.buildbin-libdir && C:\Users\biocbuild\bbs-3.11-bioc\R\bin\R.exe CMD INSTALL --merge-multiarch --build --library=CNVtools.buildbin-libdir CNVtools_1.81.0.tar.gz |
StartedAt: 2020-03-12 11:45:54 -0400 (Thu, 12 Mar 2020) |
EndedAt: 2020-03-12 11:46:40 -0400 (Thu, 12 Mar 2020) |
EllapsedTime: 46.5 seconds |
RetCode: 0 |
Status: OK |
PackageFile: CNVtools_1.81.0.zip |
PackageFileSize: 1.398 MiB |
############################################################################## ############################################################################## ### ### Running command: ### ### rm -rf CNVtools.buildbin-libdir && mkdir CNVtools.buildbin-libdir && C:\Users\biocbuild\bbs-3.11-bioc\R\bin\R.exe CMD INSTALL --merge-multiarch --build --library=CNVtools.buildbin-libdir CNVtools_1.81.0.tar.gz ### ############################################################################## ############################################################################## install for i386 * installing *source* package 'CNVtools' ... ** using staged installation ** libs C:/Rtools/mingw_32/bin/g++ -std=gnu++11 -I"C:/Users/BIOCBU~1/BBS-3~1.11-/R/include" -DNDEBUG -I"C:/extsoft/include" -O2 -Wall -mtune=generic -c fitmodel.cpp -o fitmodel.o C:/Rtools/mingw_32/bin/g++ -std=gnu++11 -I"C:/Users/BIOCBU~1/BBS-3~1.11-/R/include" -DNDEBUG -I"C:/extsoft/include" -O2 -Wall -mtune=generic -c glm_test.cpp -o glm_test.o C:/Rtools/mingw_32/bin/g++ -std=gnu++11 -I"C:/Users/BIOCBU~1/BBS-3~1.11-/R/include" -DNDEBUG -I"C:/extsoft/include" -O2 -Wall -mtune=generic -c mla.cpp -o mla.o C:/Rtools/mingw_32/bin/g++ -std=gnu++11 -I"C:/Users/BIOCBU~1/BBS-3~1.11-/R/include" -DNDEBUG -I"C:/extsoft/include" -O2 -Wall -mtune=generic -c routine.cpp -o routine.o C:/Rtools/mingw_32/bin/gcc -I"C:/Users/BIOCBU~1/BBS-3~1.11-/R/include" -DNDEBUG -I"C:/extsoft/include" -O2 -Wall -std=gnu99 -mtune=generic -c zeroin.c -o zeroin.o C:/Rtools/mingw_32/bin/g++ -std=gnu++11 -shared -s -static-libgcc -o CNVtools.dll tmp.def fitmodel.o glm_test.o mla.o routine.o zeroin.o -LC:/extsoft/lib/i386 -LC:/extsoft/lib -LC:/Users/BIOCBU~1/BBS-3~1.11-/R/bin/i386 -lR installing to C:/Users/biocbuild/bbs-3.11-bioc/meat/CNVtools.buildbin-libdir/00LOCK-CNVtools/00new/CNVtools/libs/i386 ** R ** data ** inst ** byte-compile and prepare package for lazy loading ** help *** installing help indices converting help for package 'CNVtools' finding HTML links ... done A112 html CNV.fitModel html CNVtest.binary html CNVtest.binary.T html CNVtest.qt html CNVtest.qt.T html CNVtest.select.model html CNVtools-package html EM.starting.point html ExpandData html apply.ldf html apply.pca html cnv.plot html compact.data.frame html get.model.spec html getQualityScore html getparams html qt.plot html test.posterior html ** building package indices ** installing vignettes ** testing if installed package can be loaded from temporary location ** testing if installed package can be loaded from final location ** testing if installed package keeps a record of temporary installation path install for x64 * installing *source* package 'CNVtools' ... ** libs C:/Rtools/mingw_64/bin/g++ -std=gnu++11 -I"C:/Users/BIOCBU~1/BBS-3~1.11-/R/include" -DNDEBUG -I"C:/extsoft/include" -O2 -Wall -mtune=generic -c fitmodel.cpp -o fitmodel.o C:/Rtools/mingw_64/bin/g++ -std=gnu++11 -I"C:/Users/BIOCBU~1/BBS-3~1.11-/R/include" -DNDEBUG -I"C:/extsoft/include" -O2 -Wall -mtune=generic -c glm_test.cpp -o glm_test.o C:/Rtools/mingw_64/bin/g++ -std=gnu++11 -I"C:/Users/BIOCBU~1/BBS-3~1.11-/R/include" -DNDEBUG -I"C:/extsoft/include" -O2 -Wall -mtune=generic -c mla.cpp -o mla.o C:/Rtools/mingw_64/bin/g++ -std=gnu++11 -I"C:/Users/BIOCBU~1/BBS-3~1.11-/R/include" -DNDEBUG -I"C:/extsoft/include" -O2 -Wall -mtune=generic -c routine.cpp -o routine.o C:/Rtools/mingw_64/bin/gcc -I"C:/Users/BIOCBU~1/BBS-3~1.11-/R/include" -DNDEBUG -I"C:/extsoft/include" -O2 -Wall -std=gnu99 -mtune=generic -c zeroin.c -o zeroin.o C:/Rtools/mingw_64/bin/g++ -std=gnu++11 -shared -s -static-libgcc -o CNVtools.dll tmp.def fitmodel.o glm_test.o mla.o routine.o zeroin.o -LC:/extsoft/lib/x64 -LC:/extsoft/lib -LC:/Users/BIOCBU~1/BBS-3~1.11-/R/bin/x64 -lR installing to C:/Users/biocbuild/bbs-3.11-bioc/meat/CNVtools.buildbin-libdir/CNVtools/libs/x64 ** testing if installed package can be loaded * MD5 sums packaged installation of 'CNVtools' as CNVtools_1.81.0.zip * DONE (CNVtools)